Workbook

Sheet Итоги участия_Ч_1
B1: Итоги участия в школьном этапе всероссийской олимпиады школьников 2025/2026 учебного года
B2: подается не позднее 24 ноября 2025 года на e-mail: etker.olimp@yandex.ru строго по этой форме
B3: Пятый, шестой и седьмой листы заполняются автоматически
A5: № | B5: Муниципальный/ Городской округ | C5: ОО | D5: Общие данные | F5: Данные по обучающимся с ОВЗ | I5: АСТРОНОМИЯ | AG5: БИОЛОГИЯ | BE5: ГЕОГРАФИЯ | CC5: ИНФОРМАТИКА | DA5: ИСКУССТВО (МХК) | DY5: ИСТОРИЯ | EW5: ЛИТЕРАТУРА | FU5: МАТЕМАТИКА | GS5: ОСНОВЫ БЕЗОПАСНОСТИ И ЗАЩИТЫ РОДИНЫ | HQ5: ОБЩЕСТВОЗНАНИЕ | II5: ПРАВО | JA5: РУССКИЙ ЯЗЫК
B6: Указывается в каждой ячейке | C6: Указывается сокращенное название ОО (по УСТАВУ) | D6: Общее количество обучающихся в 5-11 классах | E6: Кол-во участников (обучающийся, принявший участие по нескольким предметам, учитывается 1 раз) | F6: Общее количество обучающихся с ОВЗ -обучающихся 5-11 классов | G6: Количество обучающихся с ОВЗ 5-11 классов, участников ШЭ ВсОШ (обучающийся, принявший участие по нескольким предметам, учитывается 1 раз) | H6: Количество призовых мест по всем предметам, занятых обучающимися с ОВЗ 5-11 классов, участников ШЭ ВсОШ | I6: 5 класс | L6: 6 класс | O6: 7 класс | R6: 8 класс | U6: 9 класс | X6: 10 класс | AA6: 11 класс | AD6: всего по предмету | AE6: победители | AF6: призеры | AG6: 5 класс | AJ6: 6 класс | AM6: 7 класс | AP6: 8 класс | AS6: 9 класс | AV6: 10 класс | AY6: 11 класс | BB6: всего по предмету | BC6: победители | BD6: призеры | BE6: 5 класс | BH6: 6 класс | BK6: 7 класс | BN6: 8 класс | BQ6: 9 класс | BT6: 10 класс | BW6: 11 класс | BZ6: всего по предмету | CA6: победители | CB6: призеры | CC6: 5 класс | CF6: 6 класс | CI6: 7 класс | CL6: 8 класс | CO6: 9 класс | CR6: 10 класс | CU6: 11 класс | CX6: всего по предмету | CY6: победители | CZ6: призеры | DA6: 5 класс | DD6: 6 класс | DG6: 7 класс | DJ6: 8 класс | DM6: 9 класс | DP6: 10 класс | DS6: 11 класс | DV6: всего по предмету | DW6: победители | DX6: призеры | DY6: 5 класс | EB6: 6 класс | EE6: 7 класс | EH6: 8 класс | EK6: 9 класс | EN6: 10 класс | EQ6: 11 класс | ET6: всего по предмету | EU6: победители | EV6: призеры | EW6: 5 класс | EZ6: 6 класс | FC6: 7 класс | FF6: 8 класс | FI6: 9 класс | FL6: 10 класс | FO6: 11 класс | FR6: всего по предмету | FS6: победители | FT6: призеры | FU6: 5 класс | FX6: 6 класс | GA6: 7 класс | GD6: 8 класс | GG6: 9 класс | GJ6: 10 класс | GM6: 11 класс | GP6: всего по предмету | GQ6: победители | GR6: призеры | GS6: 5 класс | GV6: 6 класс | GY6: 7 класс | HB6: 8 класс | HE6: 9 класс | HH6: 10 класс | HK6: 11 класс | HN6: всего по предмету | HO6: победители | HP6: призеры | HQ6: 7 класс | HT6: 8 класс | HW6: 9 класс | HZ6: 10 класс | IC6: 11 класс | IF6: всего по предмету | IG6: победители | IH6: призеры | II6: 7 класс | IL6: 8 класс | IO6: 9 класс | IR6: 10 класс | IU6: 11 класс | IX6: всего по предмету | IY6: победители | IZ6: призеры | JA6: 5 класс | JD6: 6 класс | JG6: 7 класс | JJ6: 8 класс | JM6: 9 класс | JP6: 10 класс | JS6: 11 класс | JV6: всего по предмету | JW6: победители | JX6: призеры
I7: всего участников | J7: П | K7: ПР | L7: всего участников | M7: П | N7: ПР | O7: всего участников | P7: П | Q7: ПР | R7: всего участников | S7: П | T7: ПР | U7: всего участников | V7: П | W7: ПР | X7: всего участников | Y7: П | Z7: ПР | AA7: всего участников | AB7: П | AC7: ПР | AE7: П | AF7: ПР | AG7: всего участников | AH7: П | AI7: ПР | AJ7: всего участников | AK7: П | AL7: ПР | AM7: всего участников | AN7: П | AO7: ПР | AP7: всего участников | AQ7: П | AR7: ПР | AS7: всего участников | AT7: П | AU7: ПР | AV7: всего участников | AW7: П | AX7: ПР | AY7: всего участников | AZ7: П | BA7: ПР | BC7: П | BD7: ПР | BE7: всего участников | BF7: П | BG7: ПР | BH7: всего участников | BI7: П | BJ7: ПР | BK7: всего участников | BL7: П | BM7: ПР | BN7: всего участников | BO7: П | BP7: ПР | BQ7: всего участников | BR7: П | BS7: ПР | BT7: всего участников | BU7: П | BV7: ПР | BW7: всего участников | BX7: П | BY7: ПР | CA7: П | CB7: ПР | CC7: всего участников | CD7: П | CE7: ПР | CF7: всего участников | CG7: П | CH7: ПР | CI7: всего участников | CJ7: П | CK7: ПР | CL7: всего участников | CM7: П | CN7: ПР | CO7: всего участников | CP7: П | CQ7: ПР | CR7: всего участников | CS7: П | CT7: ПР | CU7: всего участников | CV7: П | CW7: ПР | CY7: П | CZ7: ПР | DA7: всего участников | DB7: П | DC7: ПР | DD7: всего участников | DE7: П | DF7: ПР | DG7: всего участников | DH7: П | DI7: ПР | DJ7: всего участников | DK7: П | DL7: ПР | DM7: всего участников | DN7: П | DO7: ПР | DP7: всего участников | DQ7: П | DR7: ПР | DS7: всего участников | DT7: П | DU7: ПР | DW7: П | DX7: ПР | DY7: всего участников | DZ7: П | EA7: ПР | EB7: всего участников | EC7: П | ED7: ПР | EE7: всего участников | EF7: П | EG7: ПР | EH7: всего участников | EI7: П | EJ7: ПР | EK7: всего участников | EL7: П | EM7: ПР | EN7: всего участников | EO7: П | EP7: ПР | EQ7: всего участников | ER7: П | ES7: ПР | EU7: П | EV7: ПР | EW7: всего участников | EX7: П | EY7: ПР | EZ7: всего участников | FA7: П | FB7: ПР | FC7: всего участников | FD7: П | FE7: ПР | FF7: всего участников | FG7: П | FH7: ПР | FI7: всего участников | FJ7: П | FK7: ПР | FL7: всего участников | FM7: П | FN7: ПР | FO7: всего участников | FP7: П | FQ7: ПР | FS7: П | FT7: ПР | FU7: всего участников | FV7: П | FW7: ПР | FX7: всего участников | FY7: П | FZ7: ПР | GA7: всего участников | GB7: П | GC7: ПР | GD7: всего участников | GE7: П | GF7: ПР | GG7: всего участников | GH7: П | GI7: ПР | GJ7: всего участников | GK7: П | GL7: ПР | GM7: всего участников | GN7: П | GO7: ПР | GQ7: П | GR7: ПР | GS7: всего участников | GT7: П | GU7: ПР | GV7: всего участников | GW7: П | GX7: ПР | GY7: всего участников | GZ7: П | HA7: ПР | HB7: всего участников | HC7: П | HD7: ПР | HE7: всего участников | HF7: П | HG7: ПР | HH7: всего участников | HI7: П | HJ7: ПР | HK7: всего участников | HL7: П | HM7: ПР | HO7: П | HP7: ПР | HQ7: всего участников | HR7: П | HS7: ПР | HT7: всего участников | HU7: П | HV7: ПР | HW7: всего участников | HX7: П | HY7: ПР | HZ7: всего участников | IA7: П | IB7: ПР | IC7: всего участников | ID7: П | IE7: ПР | IG7: П | IH7: ПР | II7: всего участников | IJ7: П | IK7: ПР | IL7: всего участников | IM7: П | IN7: ПР | IO7: всего участников | IP7: П | IQ7: ПР | IR7: всего участников | IS7: П | IT7: ПР | IU7: всего участников | IV7: П | IW7: ПР | IY7: П | IZ7: ПР | JA7: всего участников | JB7: П | JC7: ПР | JD7: всего участников | JE7: П | JF7: ПР | JG7: всего участников | JH7: П | JI7: ПР | JJ7: всего участников | JK7: П | JL7: ПР | JM7: всего участников | JN7: П | JO7: ПР | JP7: всего участников | JQ7: П | JR7: ПР | JS7: всего участников | JT7: П | JU7: ПР | JW7: П | JX7: ПР
A8: 1 | B8: Батыревский муниципальный округ | C8: МБОУ "Балабаш -Баишевская СОШ" | AD8: =SUM(I8,L8,O8,R8,U8,X8,AA8) -> 0 | AE8: =SUM(J8,M8,P8,S8,V8,Y8,AB8) -> 0 | AF8: =SUM(K8,N8,Q8,T8,W8,Z8,AC8) -> 0 | BB8: =SUM(AG8+AJ8+AM8+AP8+AS8+AV8+AY8) -> 0 | BC8: =SUM(AH8+AK8+AN8+AQ8+AT8+AW8+AZ8) -> 0 | BD8: =SUM(AI8+AL8+AO8+AR8+AU8+AX8+BA8) -> 0 | BZ8: =SUM(BE8,BH8,BK8,BN8,BQ8,BT8,BW8) -> 0 | CA8: =SUM(BF8,BI8,BL8,BO8,BR8,BU8,BX8) -> 0 | CB8: =SUM(BG8,BJ8,BM8,BP8,BS8,BV8,BY8) -> 0 | CX8: =SUM(CC8,CF8,CI8,CL8,CO8,CR8,CU8) -> 0 | CY8: =SUM(CD8,CG8,CJ8,CM8,CP8,CS8,CV8) -> 0 | CZ8: =SUM(CE8,CH8,CK8,CN8,CQ8,CT8,CW8) -> 0 | DV8: =SUM(DA8+DD8+DG8+DJ8+DM8+DP8+DS8) -> 0 | DW8: =SUM(DB8+DE8+DH8+DK8+DN8+DQ8+DT8) -> 0 | DX8: =SUM(DC8+DF8+DI8+DL8+DO8+DR8+DU8) -> 0 | ET8: =SUM(DY8,EB8,EE8,EH8,EK8,EN8,EQ8) -> 0 | EU8: =SUM(DZ8,EI8,EL8,EO8,ER8) -> 0 | EV8: =SUM(EA8,EJ8,EM8,EP8,ES8) -> 0 | FR8: =SUM(EW8,EZ8,FC8,FF8,FI8,FL8,FO8) -> 0 | FS8: =SUM(EX8,FA8,FD8,FG8,FJ8,FM8,FP8) -> 0 | FT8: =SUM(EY8,FB8,FE8,FH8,FK8,FN8,FQ8) -> 0 | GP8: =SUM(FU8+FX8+GA8+GD8+GG8+GJ8+GM8) -> 0 | GQ8: =SUM(FV8+FY8+GB8+GE8+GH8+GK8+GN8) -> 0 | GR8: =SUM(FW8+FZ8+GC8+GF8+GI8+GL8+GO8) -> 0 | HN8: =SUM(GS8,GV8,GY8,HB8,HE8,HH8,HK8) -> 0 | HO8: =SUM(GT8,GW8,GZ8,HC8,HF8,HI8,HL8) -> 0 | HP8: =SUM(GU8,GX8,HA8,HD8,HG8,HJ8,HM8) -> 0 | IF8: =SUM(HQ8,HT8,HW8,HZ8,IC8) -> 0 | IG8: =SUM(HR8,HU8,HX8,IA8,ID8) -> 0 | IH8: =SUM(HS8,HV8,HY8,IB8,IE8) -> 0 | IX8: =SUM(II8,IL8,IO8,IR8,IU8) -> 0 | IY8: =SUM(IJ8,IM8,IP8,IS8,IV8) -> 0 | IZ8: =SUM(IK8,IN8,IQ8,IT8,IW8) -> 0 | JV8: =SUM(JA8,JD8,JG8,JJ8,JM8,JP8,JS8) -> 0 | JW8: =SUM(JB8,JE8,JH8,JK8,JN8,JQ8,JT8) -> 0 | JX8: =SUM(JC8,JF8,JI8,JL8,JO8,JR8,JU8) -> 0
A9: 2 | B9: Батыревский муниципальный округ | C9: МАОУ "Батыревская СОШ №1" | AD9: =SUM(I9,L9,O9,R9,U9,X9,AA9) -> 0 | AE9: =SUM(J9,M9,P9,S9,V9,Y9,AB9) -> 0 | AF9: =SUM(K9,N9,Q9,T9,W9,Z9,AC9) -> 0 | BB9: =SUM(AG9+AJ9+AM9+AP9+AS9+AV9+AY9) -> 0 | BC9: =SUM(AH9+AK9+AN9+AQ9+AT9+AW9+AZ9) -> 0 | BD9: =SUM(AI9+AL9+AO9+AR9+AU9+AX9+BA9) -> 0 | BZ9: =SUM(BE9,BH9,BK9,BN9,BQ9,BT9,BW9) -> 0 | CA9: =SUM(BF9,BI9,BL9,BO9,BR9,BU9,BX9) -> 0 | CB9: =SUM(BG9,BJ9,BM9,BP9,BS9,BV9,BY9) -> 0 | CX9: =SUM(CC9,CF9,CI9,CL9,CO9,CR9,CU9) -> 0 | CY9: =SUM(CD9,CG9,CJ9,CM9,CP9,CS9,CV9) -> 0 | CZ9: =SUM(CE9,CH9,CK9,CN9,CQ9,CT9,CW9) -> 0 | DV9: =SUM(DA9+DD9+DG9+DJ9+DM9+DP9+DS9) -> 0 | DW9: =SUM(DB9+DE9+DH9+DK9+DN9+DQ9+DT9) -> 0 | DX9: =SUM(DC9+DF9+DI9+DL9+DO9+DR9+DU9) -> 0 | ET9: =SUM(DY9,EB9,EE9,EH9,EK9,EN9,EQ9) -> 0 | EU9: =SUM(DZ9,EI9,EL9,EO9,ER9) -> 0 | EV9: =SUM(EA9,EJ9,EM9,EP9,ES9) -> 0 | FR9: =SUM(EW9,EZ9,FC9,FF9,FI9,FL9,FO9) -> 0 | FS9: =SUM(EX9,FA9,FD9,FG9,FJ9,FM9,FP9) -> 0 | FT9: =SUM(EY9,FB9,FE9,FH9,FK9,FN9,FQ9) -> 0 | GP9: =SUM(FU9+FX9+GA9+GD9+GG9+GJ9+GM9) -> 0 | GQ9: =SUM(FV9+FY9+GB9+GE9+GH9+GK9+GN9) -> 0 | GR9: =SUM(FW9+FZ9+GC9+GF9+GI9+GL9+GO9) -> 0 | HN9: =SUM(GS9,GV9,GY9,HB9,HE9,HH9,HK9) -> 0 | HO9: =SUM(GT9,GW9,GZ9,HC9,HF9,HI9,HL9) -> 0 | HP9: =SUM(GU9,GX9,HA9,HD9,HG9,HJ9,HM9) -> 0 | IF9: =SUM(HQ9,HT9,HW9,HZ9,IC9) -> 0 | IG9: =SUM(HR9,HU9,HX9,IA9,ID9) -> 0 | IH9: =SUM(HS9,HV9,HY9,IB9,IE9) -> 0 | IX9: =SUM(II9,IL9,IO9,IR9,IU9) -> 0 | IY9: =SUM(IJ9,IM9,IP9,IS9,IV9) -> 0 | IZ9: =SUM(IK9,IN9,IQ9,IT9,IW9) -> 0 | JV9: =SUM(JA9,JD9,JG9,JJ9,JM9,JP9,JS9) -> 0 | JW9: =SUM(JB9,JE9,JH9,JK9,JN9,JQ9,JT9) -> 0 | JX9: =SUM(JC9,JF9,JI9,JL9,JO9,JR9,JU9) -> 0
A10: 3 | B10: Батыревский муниципальный округ | C10: МБОУ "Батыревская СОШ №2" | AD10: =SUM(I10,L10,O10,R10,U10,X10,AA10) -> 0 | AE10: =SUM(J10,M10,P10,S10,V10,Y10,AB10) -> 0 | AF10: =SUM(K10,N10,Q10,T10,W10,Z10,AC10) -> 0 | BB10: =SUM(AG10+AJ10+AM10+AP10+AS10+AV10+AY10) -> 0 | BC10: =SUM(AH10+AK10+AN10+AQ10+AT10+AW10+AZ10) -> 0 | BD10: =SUM(AI10+AL10+AO10+AR10+AU10+AX10+BA10) -> 0 | BZ10: =SUM(BE10,BH10,BK10,BN10,BQ10,BT10,BW10) -> 0 | CA10: =SUM(BF10,BI10,BL10,BO10,BR10,BU10,BX10) -> 0 | CB10: =SUM(BG10,BJ10,BM10,BP10,BS10,BV10,BY10) -> 0 | CX10: =SUM(CC10,CF10,CI10,CL10,CO10,CR10,CU10) -> 0 | CY10: =SUM(CD10,CG10,CJ10,CM10,CP10,CS10,CV10) -> 0 | CZ10: =SUM(CE10,CH10,CK10,CN10,CQ10,CT10,CW10) -> 0 | DV10: =SUM(DA10+DD10+DG10+DJ10+DM10+DP10+DS10) -> 0 | DW10: =SUM(DB10+DE10+DH10+DK10+DN10+DQ10+DT10) -> 0 | DX10: =SUM(DC10+DF10+DI10+DL10+DO10+DR10+DU10) -> 0 | ET10: =SUM(DY10,EB10,EE10,EH10,EK10,EN10,EQ10) -> 0 | EU10: =SUM(DZ10,EI10,EL10,EO10,ER10) -> 0 | EV10: =SUM(EA10,EJ10,EM10,EP10,ES10) -> 0 | FR10: =SUM(EW10,EZ10,FC10,FF10,FI10,FL10,FO10) -> 0 | FS10: =SUM(EX10,FA10,FD10,FG10,FJ10,FM10,FP10) -> 0 | FT10: =SUM(EY10,FB10,FE10,FH10,FK10,FN10,FQ10) -> 0 | GP10: =SUM(FU10+FX10+GA10+GD10+GG10+GJ10+GM10) -> 0 | GQ10: =SUM(FV10+FY10+GB10+GE10+GH10+GK10+GN10) -> 0 | GR10: =SUM(FW10+FZ10+GC10+GF10+GI10+GL10+GO10) -> 0 | HN10: =SUM(GS10,GV10,GY10,HB10,HE10,HH10,HK10) -> 0 | HO10: =SUM(GT10,GW10,GZ10,HC10,HF10,HI10,HL10) -> 0 | HP10: =SUM(GU10,GX10,HA10,HD10,HG10,HJ10,HM10) -> 0 | IF10: =SUM(HQ10,HT10,HW10,HZ10,IC10) -> 0 | IG10: =SUM(HR10,HU10,HX10,IA10,ID10) -> 0 | IH10: =SUM(HS10,HV10,HY10,IB10,IE10) -> 0 | IX10: =SUM(II10,IL10,IO10,IR10,IU10) -> 0 | IY10: =SUM(IJ10,IM10,IP10,IS10,IV10) -> 0 | IZ10: =SUM(IK10,IN10,IQ10,IT10,IW10) -> 0 | JV10: =SUM(JA10,JD10,JG10,JJ10,JM10,JP10,JS10) -> 0 | JW10: =SUM(JB10,JE10,JH10,JK10,JN10,JQ10,JT10) -> 0 | JX10: =SUM(JC10,JF10,JI10,JL10,JO10,JR10,JU10) -> 0
A11: 4 | B11: Батыревский муниципальный округ | C11: МБОУ "Большечеменевская СОШ" | AD11: =SUM(I11,L11,O11,R11,U11,X11,AA11) -> 0 | AE11: =SUM(J11,M11,P11,S11,V11,Y11,AB11) -> 0 | AF11: =SUM(K11,N11,Q11,T11,W11,Z11,AC11) -> 0 | BB11: =SUM(AG11+AJ11+AM11+AP11+AS11+AV11+AY11) -> 0 | BC11: =SUM(AH11+AK11+AN11+AQ11+AT11+AW11+AZ11) -> 0 | BD11: =SUM(AI11+AL11+AO11+AR11+AU11+AX11+BA11) -> 0 | BZ11: =SUM(BE11,BH11,BK11,BN11,BQ11,BT11,BW11) -> 0 | CA11: =SUM(BF11,BI11,BL11,BO11,BR11,BU11,BX11) -> 0 | CB11: =SUM(BG11,BJ11,BM11,BP11,BS11,BV11,BY11) -> 0 | CX11: =SUM(CC11,CF11,CI11,CL11,CO11,CR11,CU11) -> 0 | CY11: =SUM(CD11,CG11,CJ11,CM11,CP11,CS11,CV11) -> 0 | CZ11: =SUM(CE11,CH11,CK11,CN11,CQ11,CT11,CW11) -> 0 | DV11: =SUM(DA11+DD11+DG11+DJ11+DM11+DP11+DS11) -> 0 | DW11: =SUM(DB11+DE11+DH11+DK11+DN11+DQ11+DT11) -> 0 | DX11: =SUM(DC11+DF11+DI11+DL11+DO11+DR11+DU11) -> 0 | ET11: =SUM(DY11,EB11,EE11,EH11,EK11,EN11,EQ11) -> 0 | EU11: =SUM(DZ11,EI11,EL11,EO11,ER11) -> 0 | EV11: =SUM(EA11,EJ11,EM11,EP11,ES11) -> 0 | FR11: =SUM(EW11,EZ11,FC11,FF11,FI11,FL11,FO11) -> 0 | FS11: =SUM(EX11,FA11,FD11,FG11,FJ11,FM11,FP11) -> 0 | FT11: =SUM(EY11,FB11,FE11,FH11,FK11,FN11,FQ11) -> 0 | GP11: =SUM(FU11+FX11+GA11+GD11+GG11+GJ11+GM11) -> 0 | GQ11: =SUM(FV11+FY11+GB11+GE11+GH11+GK11+GN11) -> 0 | GR11: =SUM(FW11+FZ11+GC11+GF11+GI11+GL11+GO11) -> 0 | HN11: =SUM(GS11,GV11,GY11,HB11,HE11,HH11,HK11) -> 0 | HO11: =SUM(GT11,GW11,GZ11,HC11,HF11,HI11,HL11) -> 0 | HP11: =SUM(GU11,GX11,HA11,HD11,HG11,HJ11,HM11) -> 0 | IF11: =SUM(HQ11,HT11,HW11,HZ11,IC11) -> 0 | IG11: =SUM(HR11,HU11,HX11,IA11,ID11) -> 0 | IH11: =SUM(HS11,HV11,HY11,IB11,IE11) -> 0 | IX11: =SUM(II11,IL11,IO11,IR11,IU11) -> 0 | IY11: =SUM(IJ11,IM11,IP11,IS11,IV11) -> 0 | IZ11: =SUM(IK11,IN11,IQ11,IT11,IW11) -> 0 | JV11: =SUM(JA11,JD11,JG11,JJ11,JM11,JP11,JS11) -> 0 | JW11: =SUM(JB11,JE11,JH11,JK11,JN11,JQ11,JT11) -> 0 | JX11: =SUM(JC11,JF11,JI11,JL11,JO11,JR11,JU11) -> 0
A12: 5 | B12: Батыревский муниципальный округ | C12: МБОУ "Долгоостровская СОШ" | AD12: =SUM(I12,L12,O12,R12,U12,X12,AA12) -> 0 | AE12: =SUM(J12,M12,P12,S12,V12,Y12,AB12) -> 0 | AF12: =SUM(K12,N12,Q12,T12,W12,Z12,AC12) -> 0 | BB12: =SUM(AG12+AJ12+AM12+AP12+AS12+AV12+AY12) -> 0 | BC12: =SUM(AH12+AK12+AN12+AQ12+AT12+AW12+AZ12) -> 0 | BD12: =SUM(AI12+AL12+AO12+AR12+AU12+AX12+BA12) -> 0 | BZ12: =SUM(BE12,BH12,BK12,BN12,BQ12,BT12,BW12) -> 0 | CA12: =SUM(BF12,BI12,BL12,BO12,BR12,BU12,BX12) -> 0 | CB12: =SUM(BG12,BJ12,BM12,BP12,BS12,BV12,BY12) -> 0 | CX12: =SUM(CC12,CF12,CI12,CL12,CO12,CR12,CU12) -> 0 | CY12: =SUM(CD12,CG12,CJ12,CM12,CP12,CS12,CV12) -> 0 | CZ12: =SUM(CE12,CH12,CK12,CN12,CQ12,CT12,CW12) -> 0 | DV12: =SUM(DA12+DD12+DG12+DJ12+DM12+DP12+DS12) -> 0 | DW12: =SUM(DB12+DE12+DH12+DK12+DN12+DQ12+DT12) -> 0 | DX12: =SUM(DC12+DF12+DI12+DL12+DO12+DR12+DU12) -> 0 | ET12: =SUM(DY12,EB12,EE12,EH12,EK12,EN12,EQ12) -> 0 | EU12: =SUM(DZ12,EI12,EL12,EO12,ER12) -> 0 | EV12: =SUM(EA12,EJ12,EM12,EP12,ES12) -> 0 | FR12: =SUM(EW12,EZ12,FC12,FF12,FI12,FL12,FO12) -> 0 | FS12: =SUM(EX12,FA12,FD12,FG12,FJ12,FM12,FP12) -> 0 | FT12: =SUM(EY12,FB12,FE12,FH12,FK12,FN12,FQ12) -> 0 | GP12: =SUM(FU12+FX12+GA12+GD12+GG12+GJ12+GM12) -> 0 | GQ12: =SUM(FV12+FY12+GB12+GE12+GH12+GK12+GN12) -> 0 | GR12: =SUM(FW12+FZ12+GC12+GF12+GI12+GL12+GO12) -> 0 | HN12: =SUM(GS12,GV12,GY12,HB12,HE12,HH12,HK12) -> 0 | HO12: =SUM(GT12,GW12,GZ12,HC12,HF12,HI12,HL12) -> 0 | HP12: =SUM(GU12,GX12,HA12,HD12,HG12,HJ12,HM12) -> 0 | IF12: =SUM(HQ12,HT12,HW12,HZ12,IC12) -> 0 | IG12: =SUM(HR12,HU12,HX12,IA12,ID12) -> 0 | IH12: =SUM(HS12,HV12,HY12,IB12,IE12) -> 0 | IX12: =SUM(II12,IL12,IO12,IR12,IU12) -> 0 | IY12: =SUM(IJ12,IM12,IP12,IS12,IV12) -> 0 | IZ12: =SUM(IK12,IN12,IQ12,IT12,IW12) -> 0 | JV12: =SUM(JA12,JD12,JG12,JJ12,JM12,JP12,JS12) -> 0 | JW12: =SUM(JB12,JE12,JH12,JK12,JN12,JQ12,JT12) -> 0 | JX12: =SUM(JC12,JF12,JI12,JL12,JO12,JR12,JU12) -> 0
A13: 6 | B13: Батыревский муниципальный округ | C13: МБОУ "Норваш Шигалинская СОШ" | AD13: =SUM(I13,L13,O13,R13,U13,X13,AA13) -> 0 | AE13: =SUM(J13,M13,P13,S13,V13,Y13,AB13) -> 0 | AF13: =SUM(K13,N13,Q13,T13,W13,Z13,AC13) -> 0 | BB13: =SUM(AG13+AJ13+AM13+AP13+AS13+AV13+AY13) -> 0 | BC13: =SUM(AH13+AK13+AN13+AQ13+AT13+AW13+AZ13) -> 0 | BD13: =SUM(AI13+AL13+AO13+AR13+AU13+AX13+BA13) -> 0 | BZ13: =SUM(BE13,BH13,BK13,BN13,BQ13,BT13,BW13) -> 0 | CA13: =SUM(BF13,BI13,BL13,BO13,BR13,BU13,BX13) -> 0 | CB13: =SUM(BG13,BJ13,BM13,BP13,BS13,BV13,BY13) -> 0 | CX13: =SUM(CC13,CF13,CI13,CL13,CO13,CR13,CU13) -> 0 | CY13: =SUM(CD13,CG13,CJ13,CM13,CP13,CS13,CV13) -> 0 | CZ13: =SUM(CE13,CH13,CK13,CN13,CQ13,CT13,CW13) -> 0 | DV13: =SUM(DA13+DD13+DG13+DJ13+DM13+DP13+DS13) -> 0 | DW13: =SUM(DB13+DE13+DH13+DK13+DN13+DQ13+DT13) -> 0 | DX13: =SUM(DC13+DF13+DI13+DL13+DO13+DR13+DU13) -> 0 | ET13: =SUM(DY13,EB13,EE13,EH13,EK13,EN13,EQ13) -> 0 | EU13: =SUM(DZ13,EI13,EL13,EO13,ER13) -> 0 | EV13: =SUM(EA13,EJ13,EM13,EP13,ES13) -> 0 | FR13: =SUM(EW13,EZ13,FC13,FF13,FI13,FL13,FO13) -> 0 | FS13: =SUM(EX13,FA13,FD13,FG13,FJ13,FM13,FP13) -> 0 | FT13: =SUM(EY13,FB13,FE13,FH13,FK13,FN13,FQ13) -> 0 | GP13: =SUM(FU13+FX13+GA13+GD13+GG13+GJ13+GM13) -> 0 | GQ13: =SUM(FV13+FY13+GB13+GE13+GH13+GK13+GN13) -> 0 | GR13: =SUM(FW13+FZ13+GC13+GF13+GI13+GL13+GO13) -> 0 | HN13: =SUM(GS13,GV13,GY13,HB13,HE13,HH13,HK13) -> 0 | HO13: =SUM(GT13,GW13,GZ13,HC13,HF13,HI13,HL13) -> 0 | HP13: =SUM(GU13,GX13,HA13,HD13,HG13,HJ13,HM13) -> 0 | IF13: =SUM(HQ13,HT13,HW13,HZ13,IC13) -> 0 | IG13: =SUM(HR13,HU13,HX13,IA13,ID13) -> 0 | IH13: =SUM(HS13,HV13,HY13,IB13,IE13) -> 0 | IX13: =SUM(II13,IL13,IO13,IR13,IU13) -> 0 | IY13: =SUM(IJ13,IM13,IP13,IS13,IV13) -> 0 | IZ13: =SUM(IK13,IN13,IQ13,IT13,IW13) -> 0 | JV13: =SUM(JA13,JD13,JG13,JJ13,JM13,JP13,JS13) -> 0 | JW13: =SUM(JB13,JE13,JH13,JK13,JN13,JQ13,JT13) -> 0 | JX13: =SUM(JC13,JF13,JI13,JL13,JO13,JR13,JU13) -> 0
A14: 7 | B14: Батыревский муниципальный округ | C14: МБОУ "Первомайская СОШ имени В.Митты" | AD14: =SUM(I14,L14,O14,R14,U14,X14,AA14) -> 0 | AE14: =SUM(J14,M14,P14,S14,V14,Y14,AB14) -> 0 | AF14: =SUM(K14,N14,Q14,T14,W14,Z14,AC14) -> 0 | BB14: =SUM(AG14+AJ14+AM14+AP14+AS14+AV14+AY14) -> 0 | BC14: =SUM(AH14+AK14+AN14+AQ14+AT14+AW14+AZ14) -> 0 | BD14: =SUM(AI14+AL14+AO14+AR14+AU14+AX14+BA14) -> 0 | BZ14: =SUM(BE14,BH14,BK14,BN14,BQ14,BT14,BW14) -> 0 | CA14: =SUM(BF14,BI14,BL14,BO14,BR14,BU14,BX14) -> 0 | CB14: =SUM(BG14,BJ14,BM14,BP14,BS14,BV14,BY14) -> 0 | CX14: =SUM(CC14,CF14,CI14,CL14,CO14,CR14,CU14) -> 0 | CY14: =SUM(CD14,CG14,CJ14,CM14,CP14,CS14,CV14) -> 0 | CZ14: =SUM(CE14,CH14,CK14,CN14,CQ14,CT14,CW14) -> 0 | DV14: =SUM(DA14+DD14+DG14+DJ14+DM14+DP14+DS14) -> 0 | DW14: =SUM(DB14+DE14+DH14+DK14+DN14+DQ14+DT14) -> 0 | DX14: =SUM(DC14+DF14+DI14+DL14+DO14+DR14+DU14) -> 0 | ET14: =SUM(DY14,EB14,EE14,EH14,EK14,EN14,EQ14) -> 0 | EU14: =SUM(DZ14,EI14,EL14,EO14,ER14) -> 0 | EV14: =SUM(EA14,EJ14,EM14,EP14,ES14) -> 0 | FR14: =SUM(EW14,EZ14,FC14,FF14,FI14,FL14,FO14) -> 0 | FS14: =SUM(EX14,FA14,FD14,FG14,FJ14,FM14,FP14) -> 0 | FT14: =SUM(EY14,FB14,FE14,FH14,FK14,FN14,FQ14) -> 0 | GP14: =SUM(FU14+FX14+GA14+GD14+GG14+GJ14+GM14) -> 0 | GQ14: =SUM(FV14+FY14+GB14+GE14+GH14+GK14+GN14) -> 0 | GR14: =SUM(FW14+FZ14+GC14+GF14+GI14+GL14+GO14) -> 0 | HN14: =SUM(GS14,GV14,GY14,HB14,HE14,HH14,HK14) -> 0 | HO14: =SUM(GT14,GW14,GZ14,HC14,HF14,HI14,HL14) -> 0 | HP14: =SUM(GU14,GX14,HA14,HD14,HG14,HJ14,HM14) -> 0 | IF14: =SUM(HQ14,HT14,HW14,HZ14,IC14) -> 0 | IG14: =SUM(HR14,HU14,HX14,IA14,ID14) -> 0 | IH14: =SUM(HS14,HV14,HY14,IB14,IE14) -> 0 | IX14: =SUM(II14,IL14,IO14,IR14,IU14) -> 0 | IY14: =SUM(IJ14,IM14,IP14,IS14,IV14) -> 0 | IZ14: =SUM(IK14,IN14,IQ14,IT14,IW14) -> 0 | JV14: =SUM(JA14,JD14,JG14,JJ14,JM14,JP14,JS14) -> 0 | JW14: =SUM(JB14,JE14,JH14,JK14,JN14,JQ14,JT14) -> 0 | JX14: =SUM(JC14,JF14,JI14,JL14,JO14,JR14,JU14) -> 0
A15: 8 | B15: Батыревский муниципальный округ | C15: МБОУ "Полевобикшикская СОШ" | AD15: =SUM(I15,L15,O15,R15,U15,X15,AA15) -> 0 | AE15: =SUM(J15,M15,P15,S15,V15,Y15,AB15) -> 0 | AF15: =SUM(K15,N15,Q15,T15,W15,Z15,AC15) -> 0 | BB15: =SUM(AG15+AJ15+AM15+AP15+AS15+AV15+AY15) -> 0 | BC15: =SUM(AH15+AK15+AN15+AQ15+AT15+AW15+AZ15) -> 0 | BD15: =SUM(AI15+AL15+AO15+AR15+AU15+AX15+BA15) -> 0 | BZ15: =SUM(BE15,BH15,BK15,BN15,BQ15,BT15,BW15) -> 0 | CA15: =SUM(BF15,BI15,BL15,BO15,BR15,BU15,BX15) -> 0 | CB15: =SUM(BG15,BJ15,BM15,BP15,BS15,BV15,BY15) -> 0 | CX15: =SUM(CC15,CF15,CI15,CL15,CO15,CR15,CU15) -> 0 | CY15: =SUM(CD15,CG15,CJ15,CM15,CP15,CS15,CV15) -> 0 | CZ15: =SUM(CE15,CH15,CK15,CN15,CQ15,CT15,CW15) -> 0 | DV15: =SUM(DA15+DD15+DG15+DJ15+DM15+DP15+DS15) -> 0 | DW15: =SUM(DB15+DE15+DH15+DK15+DN15+DQ15+DT15) -> 0 | DX15: =SUM(DC15+DF15+DI15+DL15+DO15+DR15+DU15) -> 0 | ET15: =SUM(DY15,EB15,EE15,EH15,EK15,EN15,EQ15) -> 0 | EU15: =SUM(DZ15,EI15,EL15,EO15,ER15) -> 0 | EV15: =SUM(EA15,EJ15,EM15,EP15,ES15) -> 0 | FR15: =SUM(EW15,EZ15,FC15,FF15,FI15,FL15,FO15) -> 0 | FS15: =SUM(EX15,FA15,FD15,FG15,FJ15,FM15,FP15) -> 0 | FT15: =SUM(EY15,FB15,FE15,FH15,FK15,FN15,FQ15) -> 0 | GP15: =SUM(FU15+FX15+GA15+GD15+GG15+GJ15+GM15) -> 0 | GQ15: =SUM(FV15+FY15+GB15+GE15+GH15+GK15+GN15) -> 0 | GR15: =SUM(FW15+FZ15+GC15+GF15+GI15+GL15+GO15) -> 0 | HN15: =SUM(GS15,GV15,GY15,HB15,HE15,HH15,HK15) -> 0 | HO15: =SUM(GT15,GW15,GZ15,HC15,HF15,HI15,HL15) -> 0 | HP15: =SUM(GU15,GX15,HA15,HD15,HG15,HJ15,HM15) -> 0 | IF15: =SUM(HQ15,HT15,HW15,HZ15,IC15) -> 0 | IG15: =SUM(HR15,HU15,HX15,IA15,ID15) -> 0 | IH15: =SUM(HS15,HV15,HY15,IB15,IE15) -> 0 | IX15: =SUM(II15,IL15,IO15,IR15,IU15) -> 0 | IY15: =SUM(IJ15,IM15,IP15,IS15,IV15) -> 0 | IZ15: =SUM(IK15,IN15,IQ15,IT15,IW15) -> 0 | JV15: =SUM(JA15,JD15,JG15,JJ15,JM15,JP15,JS15) -> 0 | JW15: =SUM(JB15,JE15,JH15,JK15,JN15,JQ15,JT15) -> 0 | JX15: =SUM(JC15,JF15,JI15,JL15,JO15,JR15,JU15) -> 0
A16: 9 | B16: Батыревский муниципальный округ | C16: МАОУ "Сугутская СОШ" | AD16: =SUM(I16,L16,O16,R16,U16,X16,AA16) -> 0 | AE16: =SUM(J16,M16,P16,S16,V16,Y16,AB16) -> 0 | AF16: =SUM(K16,N16,Q16,T16,W16,Z16,AC16) -> 0 | BB16: =SUM(AG16+AJ16+AM16+AP16+AS16+AV16+AY16) -> 0 | BC16: =SUM(AH16+AK16+AN16+AQ16+AT16+AW16+AZ16) -> 0 | BD16: =SUM(AI16+AL16+AO16+AR16+AU16+AX16+BA16) -> 0 | BZ16: =SUM(BE16,BH16,BK16,BN16,BQ16,BT16,BW16) -> 0 | CA16: =SUM(BF16,BI16,BL16,BO16,BR16,BU16,BX16) -> 0 | CB16: =SUM(BG16,BJ16,BM16,BP16,BS16,BV16,BY16) -> 0 | CX16: =SUM(CC16,CF16,CI16,CL16,CO16,CR16,CU16) -> 0 | CY16: =SUM(CD16,CG16,CJ16,CM16,CP16,CS16,CV16) -> 0 | CZ16: =SUM(CE16,CH16,CK16,CN16,CQ16,CT16,CW16) -> 0 | DV16: =SUM(DA16+DD16+DG16+DJ16+DM16+DP16+DS16) -> 0 | DW16: =SUM(DB16+DE16+DH16+DK16+DN16+DQ16+DT16) -> 0 | DX16: =SUM(DC16+DF16+DI16+DL16+DO16+DR16+DU16) -> 0 | ET16: =SUM(DY16,EB16,EE16,EH16,EK16,EN16,EQ16) -> 0 | EU16: =SUM(DZ16,EI16,EL16,EO16,ER16) -> 0 | EV16: =SUM(EA16,EJ16,EM16,EP16,ES16) -> 0 | FR16: =SUM(EW16,EZ16,FC16,FF16,FI16,FL16,FO16) -> 0 | FS16: =SUM(EX16,FA16,FD16,FG16,FJ16,FM16,FP16) -> 0 | FT16: =SUM(EY16,FB16,FE16,FH16,FK16,FN16,FQ16) -> 0 | GP16: =SUM(FU16+FX16+GA16+GD16+GG16+GJ16+GM16) -> 0 | GQ16: =SUM(FV16+FY16+GB16+GE16+GH16+GK16+GN16) -> 0 | GR16: =SUM(FW16+FZ16+GC16+GF16+GI16+GL16+GO16) -> 0 | HN16: =SUM(GS16,GV16,GY16,HB16,HE16,HH16,HK16) -> 0 | HO16: =SUM(GT16,GW16,GZ16,HC16,HF16,HI16,HL16) -> 0 | HP16: =SUM(GU16,GX16,HA16,HD16,HG16,HJ16,HM16) -> 0 | IF16: =SUM(HQ16,HT16,HW16,HZ16,IC16) -> 0 | IG16: =SUM(HR16,HU16,HX16,IA16,ID16) -> 0 | IH16: =SUM(HS16,HV16,HY16,IB16,IE16) -> 0 | IX16: =SUM(II16,IL16,IO16,IR16,IU16) -> 0 | IY16: =SUM(IJ16,IM16,IP16,IS16,IV16) -> 0 | IZ16: =SUM(IK16,IN16,IQ16,IT16,IW16) -> 0 | JV16: =SUM(JA16,JD16,JG16,JJ16,JM16,JP16,JS16) -> 0 | JW16: =SUM(JB16,JE16,JH16,JK16,JN16,JQ16,JT16) -> 0 | JX16: =SUM(JC16,JF16,JI16,JL16,JO16,JR16,JU16) -> 0
A17: 10 | B17: Батыревский муниципальный округ | C17: МБОУ "Тарханская СОШ" | AD17: =SUM(I17,L17,O17,R17,U17,X17,AA17) -> 0 | AE17: =SUM(J17,M17,P17,S17,V17,Y17,AB17) -> 0 | AF17: =SUM(K17,N17,Q17,T17,W17,Z17,AC17) -> 0 | BB17: =SUM(AG17+AJ17+AM17+AP17+AS17+AV17+AY17) -> 0 | BC17: =SUM(AH17+AK17+AN17+AQ17+AT17+AW17+AZ17) -> 0 | BD17: =SUM(AI17+AL17+AO17+AR17+AU17+AX17+BA17) -> 0 | BZ17: =SUM(BE17,BH17,BK17,BN17,BQ17,BT17,BW17) -> 0 | CA17: =SUM(BF17,BI17,BL17,BO17,BR17,BU17,BX17) -> 0 | CB17: =SUM(BG17,BJ17,BM17,BP17,BS17,BV17,BY17) -> 0 | CX17: =SUM(CC17,CF17,CI17,CL17,CO17,CR17,CU17) -> 0 | CY17: =SUM(CD17,CG17,CJ17,CM17,CP17,CS17,CV17) -> 0 | CZ17: =SUM(CE17,CH17,CK17,CN17,CQ17,CT17,CW17) -> 0 | DV17: =SUM(DA17+DD17+DG17+DJ17+DM17+DP17+DS17) -> 0 | DW17: =SUM(DB17+DE17+DH17+DK17+DN17+DQ17+DT17) -> 0 | DX17: =SUM(DC17+DF17+DI17+DL17+DO17+DR17+DU17) -> 0 | ET17: =SUM(DY17,EB17,EE17,EH17,EK17,EN17,EQ17) -> 0 | EU17: =SUM(DZ17,EI17,EL17,EO17,ER17) -> 0 | EV17: =SUM(EA17,EJ17,EM17,EP17,ES17) -> 0 | FR17: =SUM(EW17,EZ17,FC17,FF17,FI17,FL17,FO17) -> 0 | FS17: =SUM(EX17,FA17,FD17,FG17,FJ17,FM17,FP17) -> 0 | FT17: =SUM(EY17,FB17,FE17,FH17,FK17,FN17,FQ17) -> 0 | GP17: =SUM(FU17+FX17+GA17+GD17+GG17+GJ17+GM17) -> 0 | GQ17: =SUM(FV17+FY17+GB17+GE17+GH17+GK17+GN17) -> 0 | GR17: =SUM(FW17+FZ17+GC17+GF17+GI17+GL17+GO17) -> 0 | HN17: =SUM(GS17,GV17,GY17,HB17,HE17,HH17,HK17) -> 0 | HO17: =SUM(GT17,GW17,GZ17,HC17,HF17,HI17,HL17) -> 0 | HP17: =SUM(GU17,GX17,HA17,HD17,HG17,HJ17,HM17) -> 0 | IF17: =SUM(HQ17,HT17,HW17,HZ17,IC17) -> 0 | IG17: =SUM(HR17,HU17,HX17,IA17,ID17) -> 0 | IH17: =SUM(HS17,HV17,HY17,IB17,IE17) -> 0 | IX17: =SUM(II17,IL17,IO17,IR17,IU17) -> 0 | IY17: =SUM(IJ17,IM17,IP17,IS17,IV17) -> 0 | IZ17: =SUM(IK17,IN17,IQ17,IT17,IW17) -> 0 | JV17: =SUM(JA17,JD17,JG17,JJ17,JM17,JP17,JS17) -> 0 | JW17: =SUM(JB17,JE17,JH17,JK17,JN17,JQ17,JT17) -> 0 | JX17: =SUM(JC17,JF17,JI17,JL17,JO17,JR17,JU17) -> 0
A18: 11 | B18: Батыревский муниципальный округ | C18: МАОУ "Татарско-Сугутская СОШ" | AD18: =SUM(I18,L18,O18,R18,U18,X18,AA18) -> 0 | AE18: =SUM(J18,M18,P18,S18,V18,Y18,AB18) -> 0 | AF18: =SUM(K18,N18,Q18,T18,W18,Z18,AC18) -> 0 | BB18: =SUM(AG18+AJ18+AM18+AP18+AS18+AV18+AY18) -> 0 | BC18: =SUM(AH18+AK18+AN18+AQ18+AT18+AW18+AZ18) -> 0 | BD18: =SUM(AI18+AL18+AO18+AR18+AU18+AX18+BA18) -> 0 | BZ18: =SUM(BE18,BH18,BK18,BN18,BQ18,BT18,BW18) -> 0 | CA18: =SUM(BF18,BI18,BL18,BO18,BR18,BU18,BX18) -> 0 | CB18: =SUM(BG18,BJ18,BM18,BP18,BS18,BV18,BY18) -> 0 | CX18: =SUM(CC18,CF18,CI18,CL18,CO18,CR18,CU18) -> 0 | CY18: =SUM(CD18,CG18,CJ18,CM18,CP18,CS18,CV18) -> 0 | CZ18: =SUM(CE18,CH18,CK18,CN18,CQ18,CT18,CW18) -> 0 | DV18: =SUM(DA18+DD18+DG18+DJ18+DM18+DP18+DS18) -> 0 | DW18: =SUM(DB18+DE18+DH18+DK18+DN18+DQ18+DT18) -> 0 | DX18: =SUM(DC18+DF18+DI18+DL18+DO18+DR18+DU18) -> 0 | ET18: =SUM(DY18,EB18,EE18,EH18,EK18,EN18,EQ18) -> 0 | EU18: =SUM(DZ18,EI18,EL18,EO18,ER18) -> 0 | EV18: =SUM(EA18,EJ18,EM18,EP18,ES18) -> 0 | FR18: =SUM(EW18,EZ18,FC18,FF18,FI18,FL18,FO18) -> 0 | FS18: =SUM(EX18,FA18,FD18,FG18,FJ18,FM18,FP18) -> 0 | FT18: =SUM(EY18,FB18,FE18,FH18,FK18,FN18,FQ18) -> 0 | GP18: =SUM(FU18+FX18+GA18+GD18+GG18+GJ18+GM18) -> 0 | GQ18: =SUM(FV18+FY18+GB18+GE18+GH18+GK18+GN18) -> 0 | GR18: =SUM(FW18+FZ18+GC18+GF18+GI18+GL18+GO18) -> 0 | HN18: =SUM(GS18,GV18,GY18,HB18,HE18,HH18,HK18) -> 0 | HO18: =SUM(GT18,GW18,GZ18,HC18,HF18,HI18,HL18) -> 0 | HP18: =SUM(GU18,GX18,HA18,HD18,HG18,HJ18,HM18) -> 0 | IF18: =SUM(HQ18,HT18,HW18,HZ18,IC18) -> 0 | IG18: =SUM(HR18,HU18,HX18,IA18,ID18) -> 0 | IH18: =SUM(HS18,HV18,HY18,IB18,IE18) -> 0 | IX18: =SUM(II18,IL18,IO18,IR18,IU18) -> 0 | IY18: =SUM(IJ18,IM18,IP18,IS18,IV18) -> 0 | IZ18: =SUM(IK18,IN18,IQ18,IT18,IW18) -> 0 | JV18: =SUM(JA18,JD18,JG18,JJ18,JM18,JP18,JS18) -> 0 | JW18: =SUM(JB18,JE18,JH18,JK18,JN18,JQ18,JT18) -> 0 | JX18: =SUM(JC18,JF18,JI18,JL18,JO18,JR18,JU18) -> 0
A19: 12 | B19: Батыревский муниципальный округ | C19: МБОУ "Тойсинская СОШ" | AD19: =SUM(I19,L19,O19,R19,U19,X19,AA19) -> 0 | AE19: =SUM(J19,M19,P19,S19,V19,Y19,AB19) -> 0 | AF19: =SUM(K19,N19,Q19,T19,W19,Z19,AC19) -> 0 | BB19: =SUM(AG19+AJ19+AM19+AP19+AS19+AV19+AY19) -> 0 | BC19: =SUM(AH19+AK19+AN19+AQ19+AT19+AW19+AZ19) -> 0 | BD19: =SUM(AI19+AL19+AO19+AR19+AU19+AX19+BA19) -> 0 | BZ19: =SUM(BE19,BH19,BK19,BN19,BQ19,BT19,BW19) -> 0 | CA19: =SUM(BF19,BI19,BL19,BO19,BR19,BU19,BX19) -> 0 | CB19: =SUM(BG19,BJ19,BM19,BP19,BS19,BV19,BY19) -> 0 | CX19: =SUM(CC19,CF19,CI19,CL19,CO19,CR19,CU19) -> 0 | CY19: =SUM(CD19,CG19,CJ19,CM19,CP19,CS19,CV19) -> 0 | CZ19: =SUM(CE19,CH19,CK19,CN19,CQ19,CT19,CW19) -> 0 | DV19: =SUM(DA19+DD19+DG19+DJ19+DM19+DP19+DS19) -> 0 | DW19: =SUM(DB19+DE19+DH19+DK19+DN19+DQ19+DT19) -> 0 | DX19: =SUM(DC19+DF19+DI19+DL19+DO19+DR19+DU19) -> 0 | ET19: =SUM(DY19,EB19,EE19,EH19,EK19,EN19,EQ19) -> 0 | EU19: =SUM(DZ19,EI19,EL19,EO19,ER19) -> 0 | EV19: =SUM(EA19,EJ19,EM19,EP19,ES19) -> 0 | FR19: =SUM(EW19,EZ19,FC19,FF19,FI19,FL19,FO19) -> 0 | FS19: =SUM(EX19,FA19,FD19,FG19,FJ19,FM19,FP19) -> 0 | FT19: =SUM(EY19,FB19,FE19,FH19,FK19,FN19,FQ19) -> 0 | GP19: =SUM(FU19+FX19+GA19+GD19+GG19+GJ19+GM19) -> 0 | GQ19: =SUM(FV19+FY19+GB19+GE19+GH19+GK19+GN19) -> 0 | GR19: =SUM(FW19+FZ19+GC19+GF19+GI19+GL19+GO19) -> 0 | HN19: =SUM(GS19,GV19,GY19,HB19,HE19,HH19,HK19) -> 0 | HO19: =SUM(GT19,GW19,GZ19,HC19,HF19,HI19,HL19) -> 0 | HP19: =SUM(GU19,GX19,HA19,HD19,HG19,HJ19,HM19) -> 0 | IF19: =SUM(HQ19,HT19,HW19,HZ19,IC19) -> 0 | IG19: =SUM(HR19,HU19,HX19,IA19,ID19) -> 0 | IH19: =SUM(HS19,HV19,HY19,IB19,IE19) -> 0 | IX19: =SUM(II19,IL19,IO19,IR19,IU19) -> 0 | IY19: =SUM(IJ19,IM19,IP19,IS19,IV19) -> 0 | IZ19: =SUM(IK19,IN19,IQ19,IT19,IW19) -> 0 | JV19: =SUM(JA19,JD19,JG19,JJ19,JM19,JP19,JS19) -> 0 | JW19: =SUM(JB19,JE19,JH19,JK19,JN19,JQ19,JT19) -> 0 | JX19: =SUM(JC19,JF19,JI19,JL19,JO19,JR19,JU19) -> 0
... A22: 15 | B22: Батыревский муниципальный округ | C22: МБОУ "Новоахпердинская ООШ" | AD22: =SUM(I22,L22,O22,R22,U22,X22,AA22) -> 0 | AE22: =SUM(J22,M22,P22,S22,V22,Y22,AB22) -> 0 | AF22: =SUM(K22,N22,Q22,T22,W22,Z22,AC22) -> 0 | BB22: =SUM(AG22+AJ22+AM22+AP22+AS22+AV22+AY22) -> 0 | BC22: =SUM(AH22+AK22+AN22+AQ22+AT22+AW22+AZ22) -> 0 | BD22: =SUM(AI22+AL22+AO22+AR22+AU22+AX22+BA22) -> 0 | BZ22: =SUM(BE22,BH22,BK22,BN22,BQ22,BT22,BW22) -> 0 | CA22: =SUM(BF22,BI22,BL22,BO22,BR22,BU22,BX22) -> 0 | CB22: =SUM(BG22,BJ22,BM22,BP22,BS22,BV22,BY22) -> 0 | CX22: =SUM(CC22,CF22,CI22,CL22,CO22,CR22,CU22) -> 0 | CY22: =SUM(CD22,CG22,CJ22,CM22,CP22,CS22,CV22) -> 0 | CZ22: =SUM(CE22,CH22,CK22,CN22,CQ22,CT22,CW22) -> 0 | DV22: =SUM(DA22+DD22+DG22+DJ22+DM22+DP22+DS22) -> 0 | DW22: =SUM(DB22+DE22+DH22+DK22+DN22+DQ22+DT22) -> 0 | DX22: =SUM(DC22+DF22+DI22+DL22+DO22+DR22+DU22) -> 0 | ET22: =SUM(DY22,EB22,EE22,EH22,EK22,EN22,EQ22) -> 0 | EU22: =SUM(DZ22,EI22,EL22,EO22,ER22) -> 0 | EV22: =SUM(EA22,EJ22,EM22,EP22,ES22) -> 0 | FR22: =SUM(EW22,EZ22,FC22,FF22,FI22,FL22,FO22) -> 0 | FS22: =SUM(EX22,FA22,FD22,FG22,FJ22,FM22,FP22) -> 0 | FT22: =SUM(EY22,FB22,FE22,FH22,FK22,FN22,FQ22) -> 0 | GP22: =SUM(FU22+FX22+GA22+GD22+GG22+GJ22+GM22) -> 0 | GQ22: =SUM(FV22+FY22+GB22+GE22+GH22+GK22+GN22) -> 0 | GR22: =SUM(FW22+FZ22+GC22+GF22+GI22+GL22+GO22) -> 0 | HN22: =SUM(GS22,GV22,GY22,HB22,HE22,HH22,HK22) -> 0 | HO22: =SUM(GT22,GW22,GZ22,HC22,HF22,HI22,HL22) -> 0 | HP22: =SUM(GU22,GX22,HA22,HD22,HG22,HJ22,HM22) -> 0 | IF22: =SUM(HQ22,HT22,HW22,HZ22,IC22) -> 0 | IG22: =SUM(HR22,HU22,HX22,IA22,ID22) -> 0 | IH22: =SUM(HS22,HV22,HY22,IB22,IE22) -> 0 | IX22: =SUM(II22,IL22,IO22,IR22,IU22) -> 0 | IY22: =SUM(IJ22,IM22,IP22,IS22,IV22) -> 0 | IZ22: =SUM(IK22,IN22,IQ22,IT22,IW22) -> 0 | JV22: =SUM(JA22,JD22,JG22,JJ22,JM22,JP22,JS22) -> 0 | JW22: =SUM(JB22,JE22,JH22,JK22,JN22,JQ22,JT22) -> 0 | JX22: =SUM(JC22,JF22,JI22,JL22,JO22,JR22,JU22) -> 0
A23: 16 | B23: Батыревский муниципальный округ | C23: МБОУ "Шаймурзинская ООШ имени Г.Айги" | D23: 31 | E23: 23 | F23: 0 | G23: 0 | H23: 0 | I23: 0 | J23: 0 | K23: 0 | L23: 0 | M23: 0 | N23: 0 | O23: 0 | P23: 0 | Q23: 0 | R23: 0 | S23: 0 | T23: 0 | U23: 1 | V23: 0 | W23: 0 | X23: 0 | Y23: 0 | Z23: 0 | AA23: 0 | AB23: 0 | AC23: 0 | AD23: =SUM(I23,L23,O23,R23,U23,X23,AA23) -> 1 | AE23: =SUM(J23,M23,P23,S23,V23,Y23,AB23) -> 0 | AF23: =SUM(K23,N23,Q23,T23,W23,Z23,AC23) -> 0 | AG23: 7 | AH23: 0 | AI23: 1 | AJ23: 5 | AK23: 0 | AL23: 1 | AM23: 6 | AN23: 0 | AO23: 1 | AP23: 5 | AQ23: 0 | AR23: 1 | AS23: 5 | AT23: 0 | AU23: 1 | AV23: 0 | AW23: 0 | AX23: 0 | AY23: 0 | AZ23: 0 | BA23: 0 | BB23: =SUM(AG23+AJ23+AM23+AP23+AS23+AV23+AY23) -> 28 | BC23: =SUM(AH23+AK23+AN23+AQ23+AT23+AW23+AZ23) -> 0 | BD23: =SUM(AI23+AL23+AO23+AR23+AU23+AX23+BA23) -> 5 | BE23: 5 | BF23: 0 | BG23: 1 | BH23: 5 | BI23: 0 | BJ23: 1 | BK23: 6 | BL23: 0 | BM23: 1 | BN23: 4 | BO23: 0 | BP23: 1 | BQ23: 2 | BR23: 0 | BS23: 0 | BT23: 0 | BU23: 0 | BV23: 0 | BW23: 0 | BX23: 0 | BY23: 0 | BZ23: =SUM(BE23,BH23,BK23,BN23,BQ23,BT23,BW23) -> 22 | CA23: =SUM(BF23,BI23,BL23,BO23,BR23,BU23,BX23) -> 0 | CB23: =SUM(BG23,BJ23,BM23,BP23,BS23,BV23,BY23) -> 4 | CC23: 0 | CD23: 0 | CE23: 0 | CF23: 0 | CG23: 0 | CH23: 0 | CI23: 0 | CJ23: 0 | CK23: 0 | CL23: 0 | CM23: 0 | CN23: 0 | CO23: 0 | CP23: 0 | CQ23: 0 | CR23: 0 | CS23: 0 | CT23: 0 | CU23: 0 | CV23: 0 | CW23: 0 | CX23: =SUM(CC23,CF23,CI23,CL23,CO23,CR23,CU23) -> 0 | CY23: =SUM(CD23,CG23,CJ23,CM23,CP23,CS23,CV23) -> 0 | CZ23: =SUM(CE23,CH23,CK23,CN23,CQ23,CT23,CW23) -> 0 | DA23: 6 | DB23: 0 | DC23: 0 | DD23: 4 | DE23: 0 | DF23: 0 | DG23: 4 | DH23: 0 | DI23: 0 | DJ23: 4 | DK23: 0 | DL23: 0 | DM23: 4 | DN23: 0 | DO23: 0 | DP23: 0 | DQ23: 0 | DR23: 0 | DS23: 0 | DT23: 0 | DU23: 0 | DV23: =SUM(DA23+DD23+DG23+DJ23+DM23+DP23+DS23) -> 22 | DW23: =SUM(DB23+DE23+DH23+DK23+DN23+DQ23+DT23) -> 0 | DX23: =SUM(DC23+DF23+DI23+DL23+DO23+DR23+DU23) -> 0 | DY23: 5 | DZ23: 0 | EA23: 1 | EB23: 4 | EC23: 0 | ED23: 1 | EE23: 5 | EF23: 0 | EG23: 1 | EH23: 5 | EI23: 0 | EJ23: 1 | EK23: 4 | EL23: 0 | EM23: 0 | EN23: 0 | EO23: 0 | EP23: 0 | EQ23: 0 | ER23: 0 | ES23: 0 | ET23: =SUM(DY23,EB23,EE23,EH23,EK23,EN23,EQ23) -> 23 | EU23: =SUM(DZ23,EI23,EL23,EO23,ER23) -> 0 | EV23: =SUM(EA23,EJ23,EM23,EP23,ES23) -> 2 | EW23: 5 | EX23: 0 | EY23: 1 | EZ23: 5 | FA23: 0 | FB23: 1 | FC23: 4 | FD23: 0 | FE23: 1 | FF23: 6 | FG23: 0 | FH23: 1 | FI23: 3 | FJ23: 0 | FK23: 1 | FL23: 0 | FM23: 0 | FN23: 0 | FO23: 0 | FP23: 0 | FQ23: 0 | FR23: =SUM(EW23,EZ23,FC23,FF23,FI23,FL23,FO23) -> 23 | FS23: =SUM(EX23,FA23,FD23,FG23,FJ23,FM23,FP23) -> 0 | FT23: =SUM(EY23,FB23,FE23,FH23,FK23,FN23,FQ23) -> 5 | FU23: 3 | FV23: 0 | FW23: 0 | FX23: 2 | FY23: 0 | FZ23: 0 | GA23: 2 | GB23: 0 | GC23: 0 | GD23: 3 | GE23: 0 | GF23: 0 | GG23: 2 | GH23: 0 | GI23: 0 | GJ23: 0 | GK23: 0 | GL23: 0 | GM23: 0 | GN23: 0 | GO23: 0 | GP23: =SUM(FU23+FX23+GA23+GD23+GG23+GJ23+GM23) -> 12 | GQ23: =SUM(FV23+FY23+GB23+GE23+GH23+GK23+GN23) -> 0 | GR23: =SUM(FW23+FZ23+GC23+GF23+GI23+GL23+GO23) -> 0 | GS23: 4 | GT23: 0 | GU23: 0 | GV23: 3 | GW23: 0 | GX23: 0 | GY23: 4 | GZ23: 0 | HA23: 0 | HB23: 3 | HC23: 0 | HD23: 0 | HE23: 3 | HF23: 0 | HG23: 0 | HN23: =SUM(GS23,GV23,GY23,HB23,HE23,HH23,HK23) -> 17 | HO23: =SUM(GT23,GW23,GZ23,HC23,HF23,HI23,HL23) -> 0 | HP23: =SUM(GU23,GX23,HA23,HD23,HG23,HJ23,HM23) -> 0 | HQ23: 5 | HR23: 0 | HS23: 1 | HT23: 4 | HU23: 0 | HV23: 2 | HW23: 3 | HX23: 0 | HY23: 0 | HZ23: 0 | IA23: 0 | IB23: 0 | IC23: 0 | ID23: 0 | IE23: 0 | IF23: =SUM(HQ23,HT23,HW23,HZ23,IC23) -> 12 | IG23: =SUM(HR23,HU23,HX23,IA23,ID23) -> 0 | IH23: =SUM(HS23,HV23,HY23,IB23,IE23) -> 3 | II23: 4 | IJ23: 0 | IK23: 0 | IL23: 3 | IM23: 0 | IN23: 1 | IO23: 3 | IP23: 0 | IQ23: 0 | IR23: 0 | IS23: 0 | IT23: 0 | IU23: 0 | IV23: 0 | IW23: 0 | IX23: =SUM(II23,IL23,IO23,IR23,IU23) -> 10 | IY23: =SUM(IJ23,IM23,IP23,IS23,IV23) -> 0 | IZ23: =SUM(IK23,IN23,IQ23,IT23,IW23) -> 1 | JA23: 6 | JB23: 0 | JC23: 1 | JD23: 5 | JE23: 0 | JF23: 1 | JG23: 4 | JH23: 0 | JI23: 1 | JJ23: 5 | JK23: 0 | JL23: 1 | JM23: 3 | JN23: 0 | JO23: 1 | JP23: 0 | JQ23: 0 | JR23: 0 | JS23: 0 | JT23: 0 | JU23: 0 | JV23: =SUM(JA23,JD23,JG23,JJ23,JM23,JP23,JS23) -> 23 | JW23: =SUM(JB23,JE23,JH23,JK23,JN23,JQ23,JT23) -> 0 | JX23: =SUM(JC23,JF23,JI23,JL23,JO23,JR23,JU23) -> 5
B25: строчку не удалять (считается автоматически) | D25: =SUM(D8:D23) -> 31 | E25: =SUM(E8:E23) -> 23 | F25: =SUM(F8:F23) -> 0 | G25: =SUM(G8:G23) -> 0 | H25: =SUM(H8:H23) -> 0 | I25: =SUM(I8:I23) -> 0 | J25: =SUM(J8:J23) -> 0 | K25: =SUM(K8:K23) -> 0 | ... JX25: =SUM(JX8:JX23) -> 5

Sheet Итоги участия_Ч_2
B2: Итоги участия в школьном этапе всероссийской олимпиады школьников 2025/2026 учебного года
B3: подается не позднее 24 ноября 2025 года на e-mail: etker.olimp@yandex.ru строго по этой форме
B4: Пятый, шестой и седьмой листы заполняются автоматически
A6: № | B6: Муниципальный/ Городской округ | C6: ОУ | D6: ТЕХНОЛОГИЯ | AB6: ФИЗИКА | AT6: ФИЗИЧЕСКАЯ КУЛЬТУРА | BR6: ХИМИЯ | CM6: ЭКОЛОГИЯ | DE6: ЭКОНОМИКА | DW6: АНГЛИЙСКИЙ ЯЗЫК | EU6: НЕМЕЦКИЙ ЯЗЫК | FM6: ФРАНЦУЗСКИЙ ЯЗЫК | GE6: КИТАЙСКИЙ ЯЗЫК | GT6: ИСПАНСКИЙ ЯЗЫК | HI6: ИТАЛЬЯНСКИЙ ЯЗЫК
B7: Указывается в каждой ячейке | C7: Указывается сокращенное название ОО (по УСТАВУ) | D7: 5 класс | G7: 6 класс | J7: 7 класс | M7: 8 класс | P7: 9 класс | S7: 10 класс | V7: 11 класс | Y7: всего по предмету | Z7: победители | AA7: призеры | AB7: 7 класс | AE7: 8 класс | AH7: 9 класс | AK7: 10 класс | AN7: 11 класс | AQ7: всего по предмету | AR7: победители | AS7: призеры | AT7: 5 класс | AW7: 6 класс | AZ7: 7 класс | BC7: 8 класс | BF7: 9 класс | BI7: 10 класс | BL7: 11 класс | BO7: всего по предмету | BP7: победители | BQ7: призеры | BR7: 6 класс | BU7: 7 класс | BX7: 8 класс | CA7: 9 класс | CD7: 10 класс | CG7: 11 класс | CJ7: всего по предмету | CK7: победители | CL7: призеры | CM7: 7 класс | CP7: 8 класс | CS7: 9 класс | CV7: 10 класс | CY7: 11 класс | DB7: всего по предмету | DC7: победители | DD7: призеры | DE7: 7 класс | DH7: 8 класс | DK7: 9 класс | DN7: 10 класс | DQ7: 11 класс | DT7: всего по предмету | DU7: победители | DV7: призеры | DW7: 5 класс | DZ7: 6 класс | EC7: 7 класс | EF7: 8 класс | EI7: 9 класс | EL7: 10 класс | EO7: 11 класс | ER7: всего по предмету | ES7: победители | ET7: призеры | EU7: 7 класс | EX7: 8 класс | FA7: 9 класс | FD7: 10 класс | FG7: 11 класс | FJ7: всего по предмету | FK7: победители | FL7: призеры | FM7: 7 класс | FP7: 8 класс | FS7: 9 класс | FV7: 10 класс | FY7: 11 класс | GB7: всего по предмету | GC7: победители | GD7: призеры | GE7: 8 класс | GH7: 9 класс | GK7: 10 класс | GN7: 11 класс | GQ7: всего по предмету | GR7: победители | GS7: призеры | GT7: 8 класс | GW7: 9 класс | GZ7: 10 класс | HC7: 11 класс | HF7: всего по предмету | HG7: победители | HH7: призеры | HI7: 8 класс | HL7: 9 класс | HO7: 10 класс | HR7: 11 класс | HU7: всего по предмету | HV7: победители | HW7: призеры
D8: всего участников | E8: П | F8: ПР | G8: всего участников | H8: П | I8: ПР | J8: всего участников | K8: П | L8: ПР | M8: всего участников | N8: П | O8: ПР | P8: всего участников | Q8: П | R8: ПР | S8: всего участников | T8: П | U8: ПР | V8: всего участников | W8: П | X8: ПР | Z8: П | AA8: ПР | AB8: всего участников | AC8: П | AD8: ПР | AE8: всего участников | AF8: П | AG8: ПР | AH8: всего участников | AI8: П | AJ8: ПР | AK8: всего участников | AL8: П | AM8: ПР | AN8: всего участников | AO8: П | AP8: ПР | AR8: П | AS8: ПР | AT8: всего участников | AU8: П | AV8: ПР | AW8: всего участников | AX8: П | AY8: ПР | AZ8: всего участников | BA8: П | BB8: ПР | BC8: всего участников | BD8: П | BE8: ПР | BF8: всего участников | BG8: П | BH8: ПР | BI8: всего участников | BJ8: П | BK8: ПР | BL8: всего участников | BM8: П | BN8: ПР | BP8: П | BQ8: ПР | BR8: всего участников | BS8: П | BT8: ПР | BU8: всего участников | BV8: П | BW8: ПР | BX8: всего участников | BY8: П | BZ8: ПР | CA8: всего участников | CB8: П | CC8: ПР | CD8: всего участников | CE8: П | CF8: ПР | CG8: всего участников | CH8: П | CI8: ПР | CK8: П | CL8: ПР | CM8: всего участников | CN8: П | CO8: ПР | CP8: всего участников | CQ8: П | CR8: ПР | CS8: всего участников | CT8: П | CU8: ПР | CV8: всего участников | CW8: П | CX8: ПР | CY8: всего участников | CZ8: П | DA8: ПР | DC8: П | DD8: ПР | DE8: всего участников | DF8: П | DG8: ПР | DH8: всего участников | DI8: П | DJ8: ПР | DK8: всего участников | DL8: П | DM8: ПР | DN8: всего участников | DO8: П | DP8: ПР | DQ8: всего участников | DR8: П | DS8: ПР | DU8: П | DV8: ПР | DW8: всего участников | DX8: П | DY8: ПР | DZ8: всего участников | EA8: П | EB8: ПР | EC8: всего участников | ED8: П | EE8: ПР | EF8: всего участников | EG8: П | EH8: ПР | EI8: всего участников | EJ8: П | EK8: ПР | EL8: всего участников | EM8: П | EN8: ПР | EO8: всего участников | EP8: П | EQ8: ПР | ES8: П | ET8: ПР | EU8: всего участников | EV8: П | EW8: ПР | EX8: всего участников | EY8: П | EZ8: ПР | FA8: всего участников | FB8: П | FC8: ПР | FD8: всего участников | FE8: П | FF8: ПР | FG8: всего участников | FH8: П | FI8: ПР | FK8: П | FL8: ПР | FM8: всего участников | FN8: П | FO8: ПР | FP8: всего участников | FQ8: П | FR8: ПР | FS8: всего участников | FT8: П | FU8: ПР | FV8: всего участников | FW8: П | FX8: ПР | FY8: всего участников | FZ8: П | GA8: ПР | GC8: П | GD8: ПР | GE8: всего участников | GF8: П | GG8: ПР | GH8: всего участников | GI8: П | GJ8: ПР | GK8: всего участников | GL8: П | GM8: ПР | GN8: всего участников | GO8: П | GP8: ПР | GR8: П | GS8: ПР | GT8: всего участников | GU8: П | GV8: ПР | GW8: всего участников | GX8: П | GY8: ПР | GZ8: всего участников | HA8: П | HB8: ПР | HC8: всего участников | HD8: П | HE8: ПР | HG8: П | HH8: ПР | HI8: всего участников | HJ8: П | HK8: ПР | HL8: всего участников | HM8: П | HN8: ПР | HO8: всего участников | HP8: П | HQ8: ПР | HR8: всего участников | HS8: П | HT8: ПР | HV8: П | HW8: ПР
A9: 1 | B9: Батыревский муниципальный округ | C9: МБОУ "Балабаш -Баишевская СОШ" | Y9: =SUM(D9,G9,J9,M9,P9,S9,V9) -> 0 | Z9: =SUM(E9,H9,K9,N9,Q9,T9,W9) -> 0 | AA9: =SUM(F9,I9,L9,O9,R9,U9,X9) -> 0 | AQ9: =SUM(AB9,AE9,AH9,AK9,AN9) -> 0 | AR9: =SUM(AC9,AF9,AI9,AL9,AO9) -> 0 | AS9: =SUM(AD9,AG9,AJ9,AM9,AP9) -> 0 | BO9: =SUM(AT9,AW9,AZ9,BC9,BF9,BI9,BL9) -> 0 | BP9: =SUM(AU9,AX9,BA9,BD9,BG9,BJ9,BM9) -> 0 | BQ9: =SUM(AV9,AY9,BB9,BE9,BH9,BK9,BN9) -> 0 | CJ9: =SUM(BR9,BU9,BX9,CA9,CD9,CG9) -> 0 | CK9: =SUM(BS9,BV9,BY9,CB9,CE9,CH9) -> 0 | CL9: =SUM(BT9,BW9,BZ9,CC9,CF9,CI9) -> 0 | DB9: =SUM(CM9,CP9,CS9,CV9,CY9) -> 0 | DC9: =SUM(CN9,CQ9,CT9,CW9,CZ9) -> 0 | DD9: =SUM(CO9,CR9,CU9,CX9,DA9) -> 0 | DT9: =SUM(DE9,DH9,DK9,DN9,DQ9) -> 0 | DU9: =SUM(DF9,DI9,DL9,DO9,DR9) -> 0 | DV9: =SUM(DG9,DJ9,DM9,DP9,DS9) -> 0 | ER9: =SUM(DW9,DZ9,EC9,EF9,EI9,EL9,EO9) -> 0 | ES9: =SUM(DX9,EA9,ED9,EG9,EJ9,EM9,EP9) -> 0 | ET9: =SUM(DY9,EB9,EE9,EH9,EK9,EN9,EQ9) -> 0 | FJ9: =SUM(EU9,EX9,FA9,FD9,FG9) -> 0 | FK9: =SUM(EV9,EY9,FB9,FE9,FH9) -> 0 | FL9: =SUM(EW9,EZ9,FC9,FF9,FI9) -> 0 | GB9: =SUM(FM9,FP9,FS9,FV9,FY9) -> 0 | GC9: =SUM(FN9,FQ9,FT9,FW9,FZ9) -> 0 | GD9: =SUM(FO9,FR9,FU9,FX9,GA9) -> 0 | GQ9: =SUM(GE9,GH9,GK9,GN9) -> 0 | GR9: =SUM(GF9,GI9,GL9,GO9) -> 0 | GS9: =SUM(GG9,GJ9,GM9,GP9) -> 0 | HF9: =SUM(GT9,GW9,GZ9,HC9) -> 0 | HG9: =SUM(GU9,GX9,HA9,HD9) -> 0 | HH9: =SUM(GV9,GY9,HB9,HE9) -> 0 | HU9: =SUM(HI9,HL9,HO9,HR9) -> 0 | HV9: =SUM(HJ9,HM9,HP9,HS9) -> 0 | HW9: =SUM(HK9,HN9,HQ9,HT9) -> 0
A10: 2 | B10: Батыревский муниципальный округ | C10: МАОУ "Батыревская СОШ №1" | Y10: =SUM(D10,G10,J10,M10,P10,S10,V10) -> 0 | Z10: =SUM(E10,H10,K10,N10,Q10,T10,W10) -> 0 | AA10: =SUM(F10,I10,L10,O10,R10,U10,X10) -> 0 | AQ10: =SUM(AB10,AE10,AH10,AK10,AN10) -> 0 | AR10: =SUM(AC10,AF10,AI10,AL10,AO10) -> 0 | AS10: =SUM(AD10,AG10,AJ10,AM10,AP10) -> 0 | BO10: =SUM(AT10,AW10,AZ10,BC10,BF10,BI10,BL10) -> 0 | BP10: =SUM(AU10,AX10,BA10,BD10,BG10,BJ10,BM10) -> 0 | BQ10: =SUM(AV10,AY10,BB10,BE10,BH10,BK10,BN10) -> 0 | CJ10: =SUM(BR10,BU10,BX10,CA10,CD10,CG10) -> 0 | CK10: =SUM(BS10,BV10,BY10,CB10,CE10,CH10) -> 0 | CL10: =SUM(BT10,BW10,BZ10,CC10,CF10,CI10) -> 0 | DB10: =SUM(CM10,CP10,CS10,CV10,CY10) -> 0 | DC10: =SUM(CN10,CQ10,CT10,CW10,CZ10) -> 0 | DD10: =SUM(CO10,CR10,CU10,CX10,DA10) -> 0 | DT10: =SUM(DE10,DH10,DK10,DN10,DQ10) -> 0 | DU10: =SUM(DF10,DI10,DL10,DO10,DR10) -> 0 | DV10: =SUM(DG10,DJ10,DM10,DP10,DS10) -> 0 | ER10: =SUM(DW10,DZ10,EC10,EF10,EI10,EL10,EO10) -> 0 | ES10: =SUM(DX10,EA10,ED10,EG10,EJ10,EM10,EP10) -> 0 | ET10: =SUM(DY10,EB10,EE10,EH10,EK10,EN10,EQ10) -> 0 | FJ10: =SUM(EU10,EX10,FA10,FD10,FG10) -> 0 | FK10: =SUM(EV10,EY10,FB10,FE10,FH10) -> 0 | FL10: =SUM(EW10,EZ10,FC10,FF10,FI10) -> 0 | GB10: =SUM(FM10,FP10,FS10,FV10,FY10) -> 0 | GC10: =SUM(FN10,FQ10,FT10,FW10,FZ10) -> 0 | GD10: =SUM(FO10,FR10,FU10,FX10,GA10) -> 0 | GQ10: =SUM(GE10,GH10,GK10,GN10) -> 0 | GR10: =SUM(GF10,GI10,GL10,GO10) -> 0 | GS10: =SUM(GG10,GJ10,GM10,GP10) -> 0 | HF10: =SUM(GT10,GW10,GZ10,HC10) -> 0 | HG10: =SUM(GU10,GX10,HA10,HD10) -> 0 | HH10: =SUM(GV10,GY10,HB10,HE10) -> 0 | HU10: =SUM(HI10,HL10,HO10,HR10) -> 0 | HV10: =SUM(HJ10,HM10,HP10,HS10) -> 0 | HW10: =SUM(HK10,HN10,HQ10,HT10) -> 0
A11: 3 | B11: Батыревский муниципальный округ | C11: МБОУ "Батыревская СОШ №2" | Y11: =SUM(D11,G11,J11,M11,P11,S11,V11) -> 0 | Z11: =SUM(E11,H11,K11,N11,Q11,T11,W11) -> 0 | AA11: =SUM(F11,I11,L11,O11,R11,U11,X11) -> 0 | AQ11: =SUM(AB11,AE11,AH11,AK11,AN11) -> 0 | AR11: =SUM(AC11,AF11,AI11,AL11,AO11) -> 0 | AS11: =SUM(AD11,AG11,AJ11,AM11,AP11) -> 0 | BO11: =SUM(AT11,AW11,AZ11,BC11,BF11,BI11,BL11) -> 0 | BP11: =SUM(AU11,AX11,BA11,BD11,BG11,BJ11,BM11) -> 0 | BQ11: =SUM(AV11,AY11,BB11,BE11,BH11,BK11,BN11) -> 0 | CJ11: =SUM(BR11,BU11,BX11,CA11,CD11,CG11) -> 0 | CK11: =SUM(BS11,BV11,BY11,CB11,CE11,CH11) -> 0 | CL11: =SUM(BT11,BW11,BZ11,CC11,CF11,CI11) -> 0 | DB11: =SUM(CM11,CP11,CS11,CV11,CY11) -> 0 | DC11: =SUM(CN11,CQ11,CT11,CW11,CZ11) -> 0 | DD11: =SUM(CO11,CR11,CU11,CX11,DA11) -> 0 | DT11: =SUM(DE11,DH11,DK11,DN11,DQ11) -> 0 | DU11: =SUM(DF11,DI11,DL11,DO11,DR11) -> 0 | DV11: =SUM(DG11,DJ11,DM11,DP11,DS11) -> 0 | ER11: =SUM(DW11,DZ11,EC11,EF11,EI11,EL11,EO11) -> 0 | ES11: =SUM(DX11,EA11,ED11,EG11,EJ11,EM11,EP11) -> 0 | ET11: =SUM(DY11,EB11,EE11,EH11,EK11,EN11,EQ11) -> 0 | FJ11: =SUM(EU11,EX11,FA11,FD11,FG11) -> 0 | FK11: =SUM(EV11,EY11,FB11,FE11,FH11) -> 0 | FL11: =SUM(EW11,EZ11,FC11,FF11,FI11) -> 0 | GB11: =SUM(FM11,FP11,FS11,FV11,FY11) -> 0 | GC11: =SUM(FN11,FQ11,FT11,FW11,FZ11) -> 0 | GD11: =SUM(FO11,FR11,FU11,FX11,GA11) -> 0 | GQ11: =SUM(GE11,GH11,GK11,GN11) -> 0 | GR11: =SUM(GF11,GI11,GL11,GO11) -> 0 | GS11: =SUM(GG11,GJ11,GM11,GP11) -> 0 | HF11: =SUM(GT11,GW11,GZ11,HC11) -> 0 | HG11: =SUM(GU11,GX11,HA11,HD11) -> 0 | HH11: =SUM(GV11,GY11,HB11,HE11) -> 0 | HU11: =SUM(HI11,HL11,HO11,HR11) -> 0 | HV11: =SUM(HJ11,HM11,HP11,HS11) -> 0 | HW11: =SUM(HK11,HN11,HQ11,HT11) -> 0
A12: 4 | B12: Батыревский муниципальный округ | C12: МБОУ "Большечеменевская СОШ" | Y12: =SUM(D12,G12,J12,M12,P12,S12,V12) -> 0 | Z12: =SUM(E12,H12,K12,N12,Q12,T12,W12) -> 0 | AA12: =SUM(F12,I12,L12,O12,R12,U12,X12) -> 0 | AQ12: =SUM(AB12,AE12,AH12,AK12,AN12) -> 0 | AR12: =SUM(AC12,AF12,AI12,AL12,AO12) -> 0 | AS12: =SUM(AD12,AG12,AJ12,AM12,AP12) -> 0 | BO12: =SUM(AT12,AW12,AZ12,BC12,BF12,BI12,BL12) -> 0 | BP12: =SUM(AU12,AX12,BA12,BD12,BG12,BJ12,BM12) -> 0 | BQ12: =SUM(AV12,AY12,BB12,BE12,BH12,BK12,BN12) -> 0 | CJ12: =SUM(BR12,BU12,BX12,CA12,CD12,CG12) -> 0 | CK12: =SUM(BS12,BV12,BY12,CB12,CE12,CH12) -> 0 | CL12: =SUM(BT12,BW12,BZ12,CC12,CF12,CI12) -> 0 | DB12: =SUM(CM12,CP12,CS12,CV12,CY12) -> 0 | DC12: =SUM(CN12,CQ12,CT12,CW12,CZ12) -> 0 | DD12: =SUM(CO12,CR12,CU12,CX12,DA12) -> 0 | DT12: =SUM(DE12,DH12,DK12,DN12,DQ12) -> 0 | DU12: =SUM(DF12,DI12,DL12,DO12,DR12) -> 0 | DV12: =SUM(DG12,DJ12,DM12,DP12,DS12) -> 0 | ER12: =SUM(DW12,DZ12,EC12,EF12,EI12,EL12,EO12) -> 0 | ES12: =SUM(DX12,EA12,ED12,EG12,EJ12,EM12,EP12) -> 0 | ET12: =SUM(DY12,EB12,EE12,EH12,EK12,EN12,EQ12) -> 0 | FJ12: =SUM(EU12,EX12,FA12,FD12,FG12) -> 0 | FK12: =SUM(EV12,EY12,FB12,FE12,FH12) -> 0 | FL12: =SUM(EW12,EZ12,FC12,FF12,FI12) -> 0 | GB12: =SUM(FM12,FP12,FS12,FV12,FY12) -> 0 | GC12: =SUM(FN12,FQ12,FT12,FW12,FZ12) -> 0 | GD12: =SUM(FO12,FR12,FU12,FX12,GA12) -> 0 | GQ12: =SUM(GE12,GH12,GK12,GN12) -> 0 | GR12: =SUM(GF12,GI12,GL12,GO12) -> 0 | GS12: =SUM(GG12,GJ12,GM12,GP12) -> 0 | HF12: =SUM(GT12,GW12,GZ12,HC12) -> 0 | HG12: =SUM(GU12,GX12,HA12,HD12) -> 0 | HH12: =SUM(GV12,GY12,HB12,HE12) -> 0 | HU12: =SUM(HI12,HL12,HO12,HR12) -> 0 | HV12: =SUM(HJ12,HM12,HP12,HS12) -> 0 | HW12: =SUM(HK12,HN12,HQ12,HT12) -> 0
A13: 5 | B13: Батыревский муниципальный округ | C13: МБОУ "Долгоостровская СОШ" | Y13: =SUM(D13,G13,J13,M13,P13,S13,V13) -> 0 | Z13: =SUM(E13,H13,K13,N13,Q13,T13,W13) -> 0 | AA13: =SUM(F13,I13,L13,O13,R13,U13,X13) -> 0 | AQ13: =SUM(AB13,AE13,AH13,AK13,AN13) -> 0 | AR13: =SUM(AC13,AF13,AI13,AL13,AO13) -> 0 | AS13: =SUM(AD13,AG13,AJ13,AM13,AP13) -> 0 | BO13: =SUM(AT13,AW13,AZ13,BC13,BF13,BI13,BL13) -> 0 | BP13: =SUM(AU13,AX13,BA13,BD13,BG13,BJ13,BM13) -> 0 | BQ13: =SUM(AV13,AY13,BB13,BE13,BH13,BK13,BN13) -> 0 | CJ13: =SUM(BR13,BU13,BX13,CA13,CD13,CG13) -> 0 | CK13: =SUM(BS13,BV13,BY13,CB13,CE13,CH13) -> 0 | CL13: =SUM(BT13,BW13,BZ13,CC13,CF13,CI13) -> 0 | DB13: =SUM(CM13,CP13,CS13,CV13,CY13) -> 0 | DC13: =SUM(CN13,CQ13,CT13,CW13,CZ13) -> 0 | DD13: =SUM(CO13,CR13,CU13,CX13,DA13) -> 0 | DT13: =SUM(DE13,DH13,DK13,DN13,DQ13) -> 0 | DU13: =SUM(DF13,DI13,DL13,DO13,DR13) -> 0 | DV13: =SUM(DG13,DJ13,DM13,DP13,DS13) -> 0 | ER13: =SUM(DW13,DZ13,EC13,EF13,EI13,EL13,EO13) -> 0 | ES13: =SUM(DX13,EA13,ED13,EG13,EJ13,EM13,EP13) -> 0 | ET13: =SUM(DY13,EB13,EE13,EH13,EK13,EN13,EQ13) -> 0 | FJ13: =SUM(EU13,EX13,FA13,FD13,FG13) -> 0 | FK13: =SUM(EV13,EY13,FB13,FE13,FH13) -> 0 | FL13: =SUM(EW13,EZ13,FC13,FF13,FI13) -> 0 | GB13: =SUM(FM13,FP13,FS13,FV13,FY13) -> 0 | GC13: =SUM(FN13,FQ13,FT13,FW13,FZ13) -> 0 | GD13: =SUM(FO13,FR13,FU13,FX13,GA13) -> 0 | GQ13: =SUM(GE13,GH13,GK13,GN13) -> 0 | GR13: =SUM(GF13,GI13,GL13,GO13) -> 0 | GS13: =SUM(GG13,GJ13,GM13,GP13) -> 0 | HF13: =SUM(GT13,GW13,GZ13,HC13) -> 0 | HG13: =SUM(GU13,GX13,HA13,HD13) -> 0 | HH13: =SUM(GV13,GY13,HB13,HE13) -> 0 | HU13: =SUM(HI13,HL13,HO13,HR13) -> 0 | HV13: =SUM(HJ13,HM13,HP13,HS13) -> 0 | HW13: =SUM(HK13,HN13,HQ13,HT13) -> 0
A14: 6 | B14: Батыревский муниципальный округ | C14: МБОУ "Норваш Шигалинская СОШ" | Y14: =SUM(D14,G14,J14,M14,P14,S14,V14) -> 0 | Z14: =SUM(E14,H14,K14,N14,Q14,T14,W14) -> 0 | AA14: =SUM(F14,I14,L14,O14,R14,U14,X14) -> 0 | AQ14: =SUM(AB14,AE14,AH14,AK14,AN14) -> 0 | AR14: =SUM(AC14,AF14,AI14,AL14,AO14) -> 0 | AS14: =SUM(AD14,AG14,AJ14,AM14,AP14) -> 0 | BO14: =SUM(AT14,AW14,AZ14,BC14,BF14,BI14,BL14) -> 0 | BP14: =SUM(AU14,AX14,BA14,BD14,BG14,BJ14,BM14) -> 0 | BQ14: =SUM(AV14,AY14,BB14,BE14,BH14,BK14,BN14) -> 0 | CJ14: =SUM(BR14,BU14,BX14,CA14,CD14,CG14) -> 0 | CK14: =SUM(BS14,BV14,BY14,CB14,CE14,CH14) -> 0 | CL14: =SUM(BT14,BW14,BZ14,CC14,CF14,CI14) -> 0 | DB14: =SUM(CM14,CP14,CS14,CV14,CY14) -> 0 | DC14: =SUM(CN14,CQ14,CT14,CW14,CZ14) -> 0 | DD14: =SUM(CO14,CR14,CU14,CX14,DA14) -> 0 | DT14: =SUM(DE14,DH14,DK14,DN14,DQ14) -> 0 | DU14: =SUM(DF14,DI14,DL14,DO14,DR14) -> 0 | DV14: =SUM(DG14,DJ14,DM14,DP14,DS14) -> 0 | ER14: =SUM(DW14,DZ14,EC14,EF14,EI14,EL14,EO14) -> 0 | ES14: =SUM(DX14,EA14,ED14,EG14,EJ14,EM14,EP14) -> 0 | ET14: =SUM(DY14,EB14,EE14,EH14,EK14,EN14,EQ14) -> 0 | FJ14: =SUM(EU14,EX14,FA14,FD14,FG14) -> 0 | FK14: =SUM(EV14,EY14,FB14,FE14,FH14) -> 0 | FL14: =SUM(EW14,EZ14,FC14,FF14,FI14) -> 0 | GB14: =SUM(FM14,FP14,FS14,FV14,FY14) -> 0 | GC14: =SUM(FN14,FQ14,FT14,FW14,FZ14) -> 0 | GD14: =SUM(FO14,FR14,FU14,FX14,GA14) -> 0 | GQ14: =SUM(GE14,GH14,GK14,GN14) -> 0 | GR14: =SUM(GF14,GI14,GL14,GO14) -> 0 | GS14: =SUM(GG14,GJ14,GM14,GP14) -> 0 | HF14: =SUM(GT14,GW14,GZ14,HC14) -> 0 | HG14: =SUM(GU14,GX14,HA14,HD14) -> 0 | HH14: =SUM(GV14,GY14,HB14,HE14) -> 0 | HU14: =SUM(HI14,HL14,HO14,HR14) -> 0 | HV14: =SUM(HJ14,HM14,HP14,HS14) -> 0 | HW14: =SUM(HK14,HN14,HQ14,HT14) -> 0
A15: 7 | B15: Батыревский муниципальный округ | C15: МБОУ "Первомайская СОШ имени В.Митты" | Y15: =SUM(D15,G15,J15,M15,P15,S15,V15) -> 0 | Z15: =SUM(E15,H15,K15,N15,Q15,T15,W15) -> 0 | AA15: =SUM(F15,I15,L15,O15,R15,U15,X15) -> 0 | AQ15: =SUM(AB15,AE15,AH15,AK15,AN15) -> 0 | AR15: =SUM(AC15,AF15,AI15,AL15,AO15) -> 0 | AS15: =SUM(AD15,AG15,AJ15,AM15,AP15) -> 0 | BO15: =SUM(AT15,AW15,AZ15,BC15,BF15,BI15,BL15) -> 0 | BP15: =SUM(AU15,AX15,BA15,BD15,BG15,BJ15,BM15) -> 0 | BQ15: =SUM(AV15,AY15,BB15,BE15,BH15,BK15,BN15) -> 0 | CJ15: =SUM(BR15,BU15,BX15,CA15,CD15,CG15) -> 0 | CK15: =SUM(BS15,BV15,BY15,CB15,CE15,CH15) -> 0 | CL15: =SUM(BT15,BW15,BZ15,CC15,CF15,CI15) -> 0 | DB15: =SUM(CM15,CP15,CS15,CV15,CY15) -> 0 | DC15: =SUM(CN15,CQ15,CT15,CW15,CZ15) -> 0 | DD15: =SUM(CO15,CR15,CU15,CX15,DA15) -> 0 | DT15: =SUM(DE15,DH15,DK15,DN15,DQ15) -> 0 | DU15: =SUM(DF15,DI15,DL15,DO15,DR15) -> 0 | DV15: =SUM(DG15,DJ15,DM15,DP15,DS15) -> 0 | ER15: =SUM(DW15,DZ15,EC15,EF15,EI15,EL15,EO15) -> 0 | ES15: =SUM(DX15,EA15,ED15,EG15,EJ15,EM15,EP15) -> 0 | ET15: =SUM(DY15,EB15,EE15,EH15,EK15,EN15,EQ15) -> 0 | FJ15: =SUM(EU15,EX15,FA15,FD15,FG15) -> 0 | FK15: =SUM(EV15,EY15,FB15,FE15,FH15) -> 0 | FL15: =SUM(EW15,EZ15,FC15,FF15,FI15) -> 0 | GB15: =SUM(FM15,FP15,FS15,FV15,FY15) -> 0 | GC15: =SUM(FN15,FQ15,FT15,FW15,FZ15) -> 0 | GD15: =SUM(FO15,FR15,FU15,FX15,GA15) -> 0 | GQ15: =SUM(GE15,GH15,GK15,GN15) -> 0 | GR15: =SUM(GF15,GI15,GL15,GO15) -> 0 | GS15: =SUM(GG15,GJ15,GM15,GP15) -> 0 | HF15: =SUM(GT15,GW15,GZ15,HC15) -> 0 | HG15: =SUM(GU15,GX15,HA15,HD15) -> 0 | HH15: =SUM(GV15,GY15,HB15,HE15) -> 0 | HU15: =SUM(HI15,HL15,HO15,HR15) -> 0 | HV15: =SUM(HJ15,HM15,HP15,HS15) -> 0 | HW15: =SUM(HK15,HN15,HQ15,HT15) -> 0
A16: 8 | B16: Батыревский муниципальный округ | C16: МБОУ "Полевобикшикская СОШ" | Y16: =SUM(D16,G16,J16,M16,P16,S16,V16) -> 0 | Z16: =SUM(E16,H16,K16,N16,Q16,T16,W16) -> 0 | AA16: =SUM(F16,I16,L16,O16,R16,U16,X16) -> 0 | AQ16: =SUM(AB16,AE16,AH16,AK16,AN16) -> 0 | AR16: =SUM(AC16,AF16,AI16,AL16,AO16) -> 0 | AS16: =SUM(AD16,AG16,AJ16,AM16,AP16) -> 0 | BO16: =SUM(AT16,AW16,AZ16,BC16,BF16,BI16,BL16) -> 0 | BP16: =SUM(AU16,AX16,BA16,BD16,BG16,BJ16,BM16) -> 0 | BQ16: =SUM(AV16,AY16,BB16,BE16,BH16,BK16,BN16) -> 0 | CJ16: =SUM(BR16,BU16,BX16,CA16,CD16,CG16) -> 0 | CK16: =SUM(BS16,BV16,BY16,CB16,CE16,CH16) -> 0 | CL16: =SUM(BT16,BW16,BZ16,CC16,CF16,CI16) -> 0 | DB16: =SUM(CM16,CP16,CS16,CV16,CY16) -> 0 | DC16: =SUM(CN16,CQ16,CT16,CW16,CZ16) -> 0 | DD16: =SUM(CO16,CR16,CU16,CX16,DA16) -> 0 | DT16: =SUM(DE16,DH16,DK16,DN16,DQ16) -> 0 | DU16: =SUM(DF16,DI16,DL16,DO16,DR16) -> 0 | DV16: =SUM(DG16,DJ16,DM16,DP16,DS16) -> 0 | ER16: =SUM(DW16,DZ16,EC16,EF16,EI16,EL16,EO16) -> 0 | ES16: =SUM(DX16,EA16,ED16,EG16,EJ16,EM16,EP16) -> 0 | ET16: =SUM(DY16,EB16,EE16,EH16,EK16,EN16,EQ16) -> 0 | FJ16: =SUM(EU16,EX16,FA16,FD16,FG16) -> 0 | FK16: =SUM(EV16,EY16,FB16,FE16,FH16) -> 0 | FL16: =SUM(EW16,EZ16,FC16,FF16,FI16) -> 0 | GB16: =SUM(FM16,FP16,FS16,FV16,FY16) -> 0 | GC16: =SUM(FN16,FQ16,FT16,FW16,FZ16) -> 0 | GD16: =SUM(FO16,FR16,FU16,FX16,GA16) -> 0 | GQ16: =SUM(GE16,GH16,GK16,GN16) -> 0 | GR16: =SUM(GF16,GI16,GL16,GO16) -> 0 | GS16: =SUM(GG16,GJ16,GM16,GP16) -> 0 | HF16: =SUM(GT16,GW16,GZ16,HC16) -> 0 | HG16: =SUM(GU16,GX16,HA16,HD16) -> 0 | HH16: =SUM(GV16,GY16,HB16,HE16) -> 0 | HU16: =SUM(HI16,HL16,HO16,HR16) -> 0 | HV16: =SUM(HJ16,HM16,HP16,HS16) -> 0 | HW16: =SUM(HK16,HN16,HQ16,HT16) -> 0
A17: 9 | B17: Батыревский муниципальный округ | C17: МАОУ "Сугутская СОШ" | Y17: =SUM(D17,G17,J17,M17,P17,S17,V17) -> 0 | Z17: =SUM(E17,H17,K17,N17,Q17,T17,W17) -> 0 | AA17: =SUM(F17,I17,L17,O17,R17,U17,X17) -> 0 | AQ17: =SUM(AB17,AE17,AH17,AK17,AN17) -> 0 | AR17: =SUM(AC17,AF17,AI17,AL17,AO17) -> 0 | AS17: =SUM(AD17,AG17,AJ17,AM17,AP17) -> 0 | BO17: =SUM(AT17,AW17,AZ17,BC17,BF17,BI17,BL17) -> 0 | BP17: =SUM(AU17,AX17,BA17,BD17,BG17,BJ17,BM17) -> 0 | BQ17: =SUM(AV17,AY17,BB17,BE17,BH17,BK17,BN17) -> 0 | CJ17: =SUM(BR17,BU17,BX17,CA17,CD17,CG17) -> 0 | CK17: =SUM(BS17,BV17,BY17,CB17,CE17,CH17) -> 0 | CL17: =SUM(BT17,BW17,BZ17,CC17,CF17,CI17) -> 0 | DB17: =SUM(CM17,CP17,CS17,CV17,CY17) -> 0 | DC17: =SUM(CN17,CQ17,CT17,CW17,CZ17) -> 0 | DD17: =SUM(CO17,CR17,CU17,CX17,DA17) -> 0 | DT17: =SUM(DE17,DH17,DK17,DN17,DQ17) -> 0 | DU17: =SUM(DF17,DI17,DL17,DO17,DR17) -> 0 | DV17: =SUM(DG17,DJ17,DM17,DP17,DS17) -> 0 | ER17: =SUM(DW17,DZ17,EC17,EF17,EI17,EL17,EO17) -> 0 | ES17: =SUM(DX17,EA17,ED17,EG17,EJ17,EM17,EP17) -> 0 | ET17: =SUM(DY17,EB17,EE17,EH17,EK17,EN17,EQ17) -> 0 | FJ17: =SUM(EU17,EX17,FA17,FD17,FG17) -> 0 | FK17: =SUM(EV17,EY17,FB17,FE17,FH17) -> 0 | FL17: =SUM(EW17,EZ17,FC17,FF17,FI17) -> 0 | GB17: =SUM(FM17,FP17,FS17,FV17,FY17) -> 0 | GC17: =SUM(FN17,FQ17,FT17,FW17,FZ17) -> 0 | GD17: =SUM(FO17,FR17,FU17,FX17,GA17) -> 0 | GQ17: =SUM(GE17,GH17,GK17,GN17) -> 0 | GR17: =SUM(GF17,GI17,GL17,GO17) -> 0 | GS17: =SUM(GG17,GJ17,GM17,GP17) -> 0 | HF17: =SUM(GT17,GW17,GZ17,HC17) -> 0 | HG17: =SUM(GU17,GX17,HA17,HD17) -> 0 | HH17: =SUM(GV17,GY17,HB17,HE17) -> 0 | HU17: =SUM(HI17,HL17,HO17,HR17) -> 0 | HV17: =SUM(HJ17,HM17,HP17,HS17) -> 0 | HW17: =SUM(HK17,HN17,HQ17,HT17) -> 0
A18: 10 | B18: Батыревский муниципальный округ | C18: МБОУ "Тарханская СОШ" | Y18: =SUM(D18,G18,J18,M18,P18,S18,V18) -> 0 | Z18: =SUM(E18,H18,K18,N18,Q18,T18,W18) -> 0 | AA18: =SUM(F18,I18,L18,O18,R18,U18,X18) -> 0 | AQ18: =SUM(AB18,AE18,AH18,AK18,AN18) -> 0 | AR18: =SUM(AC18,AF18,AI18,AL18,AO18) -> 0 | AS18: =SUM(AD18,AG18,AJ18,AM18,AP18) -> 0 | BO18: =SUM(AT18,AW18,AZ18,BC18,BF18,BI18,BL18) -> 0 | BP18: =SUM(AU18,AX18,BA18,BD18,BG18,BJ18,BM18) -> 0 | BQ18: =SUM(AV18,AY18,BB18,BE18,BH18,BK18,BN18) -> 0 | CJ18: =SUM(BR18,BU18,BX18,CA18,CD18,CG18) -> 0 | CK18: =SUM(BS18,BV18,BY18,CB18,CE18,CH18) -> 0 | CL18: =SUM(BT18,BW18,BZ18,CC18,CF18,CI18) -> 0 | DB18: =SUM(CM18,CP18,CS18,CV18,CY18) -> 0 | DC18: =SUM(CN18,CQ18,CT18,CW18,CZ18) -> 0 | DD18: =SUM(CO18,CR18,CU18,CX18,DA18) -> 0 | DT18: =SUM(DE18,DH18,DK18,DN18,DQ18) -> 0 | DU18: =SUM(DF18,DI18,DL18,DO18,DR18) -> 0 | DV18: =SUM(DG18,DJ18,DM18,DP18,DS18) -> 0 | ER18: =SUM(DW18,DZ18,EC18,EF18,EI18,EL18,EO18) -> 0 | ES18: =SUM(DX18,EA18,ED18,EG18,EJ18,EM18,EP18) -> 0 | ET18: =SUM(DY18,EB18,EE18,EH18,EK18,EN18,EQ18) -> 0 | FJ18: =SUM(EU18,EX18,FA18,FD18,FG18) -> 0 | FK18: =SUM(EV18,EY18,FB18,FE18,FH18) -> 0 | FL18: =SUM(EW18,EZ18,FC18,FF18,FI18) -> 0 | GB18: =SUM(FM18,FP18,FS18,FV18,FY18) -> 0 | GC18: =SUM(FN18,FQ18,FT18,FW18,FZ18) -> 0 | GD18: =SUM(FO18,FR18,FU18,FX18,GA18) -> 0 | GQ18: =SUM(GE18,GH18,GK18,GN18) -> 0 | GR18: =SUM(GF18,GI18,GL18,GO18) -> 0 | GS18: =SUM(GG18,GJ18,GM18,GP18) -> 0 | HF18: =SUM(GT18,GW18,GZ18,HC18) -> 0 | HG18: =SUM(GU18,GX18,HA18,HD18) -> 0 | HH18: =SUM(GV18,GY18,HB18,HE18) -> 0 | HU18: =SUM(HI18,HL18,HO18,HR18) -> 0 | HV18: =SUM(HJ18,HM18,HP18,HS18) -> 0 | HW18: =SUM(HK18,HN18,HQ18,HT18) -> 0
A19: 11 | B19: Батыревский муниципальный округ | C19: МАОУ "Татарско-Сугутская СОШ" | Y19: =SUM(D19,G19,J19,M19,P19,S19,V19) -> 0 | Z19: =SUM(E19,H19,K19,N19,Q19,T19,W19) -> 0 | AA19: =SUM(F19,I19,L19,O19,R19,U19,X19) -> 0 | AQ19: =SUM(AB19,AE19,AH19,AK19,AN19) -> 0 | AR19: =SUM(AC19,AF19,AI19,AL19,AO19) -> 0 | AS19: =SUM(AD19,AG19,AJ19,AM19,AP19) -> 0 | BO19: =SUM(AT19,AW19,AZ19,BC19,BF19,BI19,BL19) -> 0 | BP19: =SUM(AU19,AX19,BA19,BD19,BG19,BJ19,BM19) -> 0 | BQ19: =SUM(AV19,AY19,BB19,BE19,BH19,BK19,BN19) -> 0 | CJ19: =SUM(BR19,BU19,BX19,CA19,CD19,CG19) -> 0 | CK19: =SUM(BS19,BV19,BY19,CB19,CE19,CH19) -> 0 | CL19: =SUM(BT19,BW19,BZ19,CC19,CF19,CI19) -> 0 | DB19: =SUM(CM19,CP19,CS19,CV19,CY19) -> 0 | DC19: =SUM(CN19,CQ19,CT19,CW19,CZ19) -> 0 | DD19: =SUM(CO19,CR19,CU19,CX19,DA19) -> 0 | DT19: =SUM(DE19,DH19,DK19,DN19,DQ19) -> 0 | DU19: =SUM(DF19,DI19,DL19,DO19,DR19) -> 0 | DV19: =SUM(DG19,DJ19,DM19,DP19,DS19) -> 0 | ER19: =SUM(DW19,DZ19,EC19,EF19,EI19,EL19,EO19) -> 0 | ES19: =SUM(DX19,EA19,ED19,EG19,EJ19,EM19,EP19) -> 0 | ET19: =SUM(DY19,EB19,EE19,EH19,EK19,EN19,EQ19) -> 0 | FJ19: =SUM(EU19,EX19,FA19,FD19,FG19) -> 0 | FK19: =SUM(EV19,EY19,FB19,FE19,FH19) -> 0 | FL19: =SUM(EW19,EZ19,FC19,FF19,FI19) -> 0 | GB19: =SUM(FM19,FP19,FS19,FV19,FY19) -> 0 | GC19: =SUM(FN19,FQ19,FT19,FW19,FZ19) -> 0 | GD19: =SUM(FO19,FR19,FU19,FX19,GA19) -> 0 | GQ19: =SUM(GE19,GH19,GK19,GN19) -> 0 | GR19: =SUM(GF19,GI19,GL19,GO19) -> 0 | GS19: =SUM(GG19,GJ19,GM19,GP19) -> 0 | HF19: =SUM(GT19,GW19,GZ19,HC19) -> 0 | HG19: =SUM(GU19,GX19,HA19,HD19) -> 0 | HH19: =SUM(GV19,GY19,HB19,HE19) -> 0 | HU19: =SUM(HI19,HL19,HO19,HR19) -> 0 | HV19: =SUM(HJ19,HM19,HP19,HS19) -> 0 | HW19: =SUM(HK19,HN19,HQ19,HT19) -> 0
