Workbook

Sheet Итоги участия_Ч_1
B1: Итоги участия в школьном этапе всероссийской олимпиады школьников 2025/2026 учебного года
B2: подается не позднее 24 ноября 2025 года на e-mail: etker.olimp@yandex.ru строго по этой форме
B3: Пятый, шестой и седьмой листы заполняются автоматически
A5: № | B5: Муниципальный/ Городской округ | C5: ОО | D5: Общие данные | F5: Данные по обучающимся с ОВЗ | I5: АСТРОНОМИЯ | AG5: БИОЛОГИЯ | BE5: ГЕОГРАФИЯ | CC5: ИНФОРМАТИКА | DA5: ИСКУССТВО (МХК) | DY5: ИСТОРИЯ | EW5: ЛИТЕРАТУРА | FU5: МАТЕМАТИКА | GS5: ОСНОВЫ БЕЗОПАСНОСТИ И ЗАЩИТЫ РОДИНЫ | HQ5: ОБЩЕСТВОЗНАНИЕ | II5: ПРАВО | JA5: РУССКИЙ ЯЗЫК
B6: Указывается в каждой ячейке | C6: Указывается сокращенное название ОО (по УСТАВУ) | D6: Общее количество обучающихся в 5-11 классах | E6: Кол-во участников (обучающийся, принявший участие по нескольким предметам, учитывается 1 раз) | F6: Общее количество обучающихся с ОВЗ -обучающихся 5-11 классов | G6: Количество обучающихся с ОВЗ 5-11 классов, участников ШЭ ВсОШ (обучающийся, принявший участие по нескольким предметам, учитывается 1 раз) | H6: Количество призовых мест по всем предметам, занятых обучающимися с ОВЗ 5-11 классов, участников ШЭ ВсОШ | I6: 5 класс | L6: 6 класс | O6: 7 класс | R6: 8 класс | U6: 9 класс | X6: 10 класс | AA6: 11 класс | AD6: всего по предмету | AE6: победители | AF6: призеры | AG6: 5 класс | AJ6: 6 класс | AM6: 7 класс | AP6: 8 класс | AS6: 9 класс | AV6: 10 класс | AY6: 11 класс | BB6: всего по предмету | BC6: победители | BD6: призеры | BE6: 5 класс | BH6: 6 класс | BK6: 7 класс | BN6: 8 класс | BQ6: 9 класс | BT6: 10 класс | BW6: 11 класс | BZ6: всего по предмету | CA6: победители | CB6: призеры | CC6: 5 класс | CF6: 6 класс | CI6: 7 класс | CL6: 8 класс | CO6: 9 класс | CR6: 10 класс | CU6: 11 класс | CX6: всего по предмету | CY6: победители | CZ6: призеры | DA6: 5 класс | DD6: 6 класс | DG6: 7 класс | DJ6: 8 класс | DM6: 9 класс | DP6: 10 класс | DS6: 11 класс | DV6: всего по предмету | DW6: победители | DX6: призеры | DY6: 5 класс | EB6: 6 класс | EE6: 7 класс | EH6: 8 класс | EK6: 9 класс | EN6: 10 класс | EQ6: 11 класс | ET6: всего по предмету | EU6: победители | EV6: призеры | EW6: 5 класс | EZ6: 6 класс | FC6: 7 класс | FF6: 8 класс | FI6: 9 класс | FL6: 10 класс | FO6: 11 класс | FR6: всего по предмету | FS6: победители | FT6: призеры | FU6: 5 класс | FX6: 6 класс | GA6: 7 класс | GD6: 8 класс | GG6: 9 класс | GJ6: 10 класс | GM6: 11 класс | GP6: всего по предмету | GQ6: победители | GR6: призеры | GS6: 5 класс | GV6: 6 класс | GY6: 7 класс | HB6: 8 класс | HE6: 9 класс | HH6: 10 класс | HK6: 11 класс | HN6: всего по предмету | HO6: победители | HP6: призеры | HQ6: 7 класс | HT6: 8 класс | HW6: 9 класс | HZ6: 10 класс | IC6: 11 класс | IF6: всего по предмету | IG6: победители | IH6: призеры | II6: 7 класс | IL6: 8 класс | IO6: 9 класс | IR6: 10 класс | IU6: 11 класс | IX6: всего по предмету | IY6: победители | IZ6: призеры | JA6: 5 класс | JD6: 6 класс | JG6: 7 класс | JJ6: 8 класс | JM6: 9 класс | JP6: 10 класс | JS6: 11 класс | JV6: всего по предмету | JW6: победители | JX6: призеры
I7: всего участников | J7: П | K7: ПР | L7: всего участников | M7: П | N7: ПР | O7: всего участников | P7: П | Q7: ПР | R7: всего участников | S7: П | T7: ПР | U7: всего участников | V7: П | W7: ПР | X7: всего участников | Y7: П | Z7: ПР | AA7: всего участников | AB7: П | AC7: ПР | AE7: П | AF7: ПР | AG7: всего участников | AH7: П | AI7: ПР | AJ7: всего участников | AK7: П | AL7: ПР | AM7: всего участников | AN7: П | AO7: ПР | AP7: всего участников | AQ7: П | AR7: ПР | AS7: всего участников | AT7: П | AU7: ПР | AV7: всего участников | AW7: П | AX7: ПР | AY7: всего участников | AZ7: П | BA7: ПР | BC7: П | BD7: ПР | BE7: всего участников | BF7: П | BG7: ПР | BH7: всего участников | BI7: П | BJ7: ПР | BK7: всего участников | BL7: П | BM7: ПР | BN7: всего участников | BO7: П | BP7: ПР | BQ7: всего участников | BR7: П | BS7: ПР | BT7: всего участников | BU7: П | BV7: ПР | BW7: всего участников | BX7: П | BY7: ПР | CA7: П | CB7: ПР | CC7: всего участников | CD7: П | CE7: ПР | CF7: всего участников | CG7: П | CH7: ПР | CI7: всего участников | CJ7: П | CK7: ПР | CL7: всего участников | CM7: П | CN7: ПР | CO7: всего участников | CP7: П | CQ7: ПР | CR7: всего участников | CS7: П | CT7: ПР | CU7: всего участников | CV7: П | CW7: ПР | CY7: П | CZ7: ПР | DA7: всего участников | DB7: П | DC7: ПР | DD7: всего участников | DE7: П | DF7: ПР | DG7: всего участников | DH7: П | DI7: ПР | DJ7: всего участников | DK7: П | DL7: ПР | DM7: всего участников | DN7: П | DO7: ПР | DP7: всего участников | DQ7: П | DR7: ПР | DS7: всего участников | DT7: П | DU7: ПР | DW7: П | DX7: ПР | DY7: всего участников | DZ7: П | EA7: ПР | EB7: всего участников | EC7: П | ED7: ПР | EE7: всего участников | EF7: П | EG7: ПР | EH7: всего участников | EI7: П | EJ7: ПР | EK7: всего участников | EL7: П | EM7: ПР | EN7: всего участников | EO7: П | EP7: ПР | EQ7: всего участников | ER7: П | ES7: ПР | EU7: П | EV7: ПР | EW7: всего участников | EX7: П | EY7: ПР | EZ7: всего участников | FA7: П | FB7: ПР | FC7: всего участников | FD7: П | FE7: ПР | FF7: всего участников | FG7: П | FH7: ПР | FI7: всего участников | FJ7: П | FK7: ПР | FL7: всего участников | FM7: П | FN7: ПР | FO7: всего участников | FP7: П | FQ7: ПР | FS7: П | FT7: ПР | FU7: всего участников | FV7: П | FW7: ПР | FX7: всего участников | FY7: П | FZ7: ПР | GA7: всего участников | GB7: П | GC7: ПР | GD7: всего участников | GE7: П | GF7: ПР | GG7: всего участников | GH7: П | GI7: ПР | GJ7: всего участников | GK7: П | GL7: ПР | GM7: всего участников | GN7: П | GO7: ПР | GQ7: П | GR7: ПР | GS7: всего участников | GT7: П | GU7: ПР | GV7: всего участников | GW7: П | GX7: ПР | GY7: всего участников | GZ7: П | HA7: ПР | HB7: всего участников | HC7: П | HD7: ПР | HE7: всего участников | HF7: П | HG7: ПР | HH7: всего участников | HI7: П | HJ7: ПР | HK7: всего участников | HL7: П | HM7: ПР | HO7: П | HP7: ПР | HQ7: всего участников | HR7: П | HS7: ПР | HT7: всего участников | HU7: П | HV7: ПР | HW7: всего участников | HX7: П | HY7: ПР | HZ7: всего участников | IA7: П | IB7: ПР | IC7: всего участников | ID7: П | IE7: ПР | IG7: П | IH7: ПР | II7: всего участников | IJ7: П | IK7: ПР | IL7: всего участников | IM7: П | IN7: ПР | IO7: всего участников | IP7: П | IQ7: ПР | IR7: всего участников | IS7: П | IT7: ПР | IU7: всего участников | IV7: П | IW7: ПР | IY7: П | IZ7: ПР | JA7: всего участников | JB7: П | JC7: ПР | JD7: всего участников | JE7: П | JF7: ПР | JG7: всего участников | JH7: П | JI7: ПР | JJ7: всего участников | JK7: П | JL7: ПР | JM7: всего участников | JN7: П | JO7: ПР | JP7: всего участников | JQ7: П | JR7: ПР | JS7: всего участников | JT7: П | JU7: ПР | JW7: П | JX7: ПР
A8: 1 | B8: Батыревский муниципальный округ | C8: МБОУ "Балабаш -Баишевская СОШ" | AD8: =SUM(I8,L8,O8,R8,U8,X8,AA8) -> 0 | AE8: =SUM(J8,M8,P8,S8,V8,Y8,AB8) -> 0 | AF8: =SUM(K8,N8,Q8,T8,W8,Z8,AC8) -> 0 | BB8: =SUM(AG8+AJ8+AM8+AP8+AS8+AV8+AY8) -> 0 | BC8: =SUM(AH8+AK8+AN8+AQ8+AT8+AW8+AZ8) -> 0 | BD8: =SUM(AI8+AL8+AO8+AR8+AU8+AX8+BA8) -> 0 | BZ8: =SUM(BE8,BH8,BK8,BN8,BQ8,BT8,BW8) -> 0 | CA8: =SUM(BF8,BI8,BL8,BO8,BR8,BU8,BX8) -> 0 | CB8: =SUM(BG8,BJ8,BM8,BP8,BS8,BV8,BY8) -> 0 | CX8: =SUM(CC8,CF8,CI8,CL8,CO8,CR8,CU8) -> 0 | CY8: =SUM(CD8,CG8,CJ8,CM8,CP8,CS8,CV8) -> 0 | CZ8: =SUM(CE8,CH8,CK8,CN8,CQ8,CT8,CW8) -> 0 | DV8: =SUM(DA8+DD8+DG8+DJ8+DM8+DP8+DS8) -> 0 | DW8: =SUM(DB8+DE8+DH8+DK8+DN8+DQ8+DT8) -> 0 | DX8: =SUM(DC8+DF8+DI8+DL8+DO8+DR8+DU8) -> 0 | ET8: =SUM(DY8,EB8,EE8,EH8,EK8,EN8,EQ8) -> 0 | EU8: =SUM(DZ8,EI8,EL8,EO8,ER8) -> 0 | EV8: =SUM(EA8,EJ8,EM8,EP8,ES8) -> 0 | FR8: =SUM(EW8,EZ8,FC8,FF8,FI8,FL8,FO8) -> 0 | FS8: =SUM(EX8,FA8,FD8,FG8,FJ8,FM8,FP8) -> 0 | FT8: =SUM(EY8,FB8,FE8,FH8,FK8,FN8,FQ8) -> 0 | GP8: =SUM(FU8+FX8+GA8+GD8+GG8+GJ8+GM8) -> 0 | GQ8: =SUM(FV8+FY8+GB8+GE8+GH8+GK8+GN8) -> 0 | GR8: =SUM(FW8+FZ8+GC8+GF8+GI8+GL8+GO8) -> 0 | HN8: =SUM(GS8,GV8,GY8,HB8,HE8,HH8,HK8) -> 0 | HO8: =SUM(GT8,GW8,GZ8,HC8,HF8,HI8,HL8) -> 0 | HP8: =SUM(GU8,GX8,HA8,HD8,HG8,HJ8,HM8) -> 0 | IF8: =SUM(HQ8,HT8,HW8,HZ8,IC8) -> 0 | IG8: =SUM(HR8,HU8,HX8,IA8,ID8) -> 0 | IH8: =SUM(HS8,HV8,HY8,IB8,IE8) -> 0 | IX8: =SUM(II8,IL8,IO8,IR8,IU8) -> 0 | IY8: =SUM(IJ8,IM8,IP8,IS8,IV8) -> 0 | IZ8: =SUM(IK8,IN8,IQ8,IT8,IW8) -> 0 | JV8: =SUM(JA8,JD8,JG8,JJ8,JM8,JP8,JS8) -> 0 | JW8: =SUM(JB8,JE8,JH8,JK8,JN8,JQ8,JT8) -> 0 | JX8: =SUM(JC8,JF8,JI8,JL8,JO8,JR8,JU8) -> 0
A9: 2 | B9: Батыревский муниципальный округ | C9: МАОУ "Батыревская СОШ №1" | AD9: =SUM(I9,L9,O9,R9,U9,X9,AA9) -> 0 | AE9: =SUM(J9,M9,P9,S9,V9,Y9,AB9) -> 0 | AF9: =SUM(K9,N9,Q9,T9,W9,Z9,AC9) -> 0 | BB9: =SUM(AG9+AJ9+AM9+AP9+AS9+AV9+AY9) -> 0 | BC9: =SUM(AH9+AK9+AN9+AQ9+AT9+AW9+AZ9) -> 0 | BD9: =SUM(AI9+AL9+AO9+AR9+AU9+AX9+BA9) -> 0 | BZ9: =SUM(BE9,BH9,BK9,BN9,BQ9,BT9,BW9) -> 0 | CA9: =SUM(BF9,BI9,BL9,BO9,BR9,BU9,BX9) -> 0 | CB9: =SUM(BG9,BJ9,BM9,BP9,BS9,BV9,BY9) -> 0 | CX9: =SUM(CC9,CF9,CI9,CL9,CO9,CR9,CU9) -> 0 | CY9: =SUM(CD9,CG9,CJ9,CM9,CP9,CS9,CV9) -> 0 | CZ9: =SUM(CE9,CH9,CK9,CN9,CQ9,CT9,CW9) -> 0 | DV9: =SUM(DA9+DD9+DG9+DJ9+DM9+DP9+DS9) -> 0 | DW9: =SUM(DB9+DE9+DH9+DK9+DN9+DQ9+DT9) -> 0 | DX9: =SUM(DC9+DF9+DI9+DL9+DO9+DR9+DU9) -> 0 | ET9: =SUM(DY9,EB9,EE9,EH9,EK9,EN9,EQ9) -> 0 | EU9: =SUM(DZ9,EI9,EL9,EO9,ER9) -> 0 | EV9: =SUM(EA9,EJ9,EM9,EP9,ES9) -> 0 | FR9: =SUM(EW9,EZ9,FC9,FF9,FI9,FL9,FO9) -> 0 | FS9: =SUM(EX9,FA9,FD9,FG9,FJ9,FM9,FP9) -> 0 | FT9: =SUM(EY9,FB9,FE9,FH9,FK9,FN9,FQ9) -> 0 | GP9: =SUM(FU9+FX9+GA9+GD9+GG9+GJ9+GM9) -> 0 | GQ9: =SUM(FV9+FY9+GB9+GE9+GH9+GK9+GN9) -> 0 | GR9: =SUM(FW9+FZ9+GC9+GF9+GI9+GL9+GO9) -> 0 | HN9: =SUM(GS9,GV9,GY9,HB9,HE9,HH9,HK9) -> 0 | HO9: =SUM(GT9,GW9,GZ9,HC9,HF9,HI9,HL9) -> 0 | HP9: =SUM(GU9,GX9,HA9,HD9,HG9,HJ9,HM9) -> 0 | IF9: =SUM(HQ9,HT9,HW9,HZ9,IC9) -> 0 | IG9: =SUM(HR9,HU9,HX9,IA9,ID9) -> 0 | IH9: =SUM(HS9,HV9,HY9,IB9,IE9) -> 0 | IX9: =SUM(II9,IL9,IO9,IR9,IU9) -> 0 | IY9: =SUM(IJ9,IM9,IP9,IS9,IV9) -> 0 | IZ9: =SUM(IK9,IN9,IQ9,IT9,IW9) -> 0 | JV9: =SUM(JA9,JD9,JG9,JJ9,JM9,JP9,JS9) -> 0 | JW9: =SUM(JB9,JE9,JH9,JK9,JN9,JQ9,JT9) -> 0 | JX9: =SUM(JC9,JF9,JI9,JL9,JO9,JR9,JU9) -> 0
A10: 3 | B10: Батыревский муниципальный округ | C10: МБОУ "Батыревская СОШ №2" | AD10: =SUM(I10,L10,O10,R10,U10,X10,AA10) -> 0 | AE10: =SUM(J10,M10,P10,S10,V10,Y10,AB10) -> 0 | AF10: =SUM(K10,N10,Q10,T10,W10,Z10,AC10) -> 0 | BB10: =SUM(AG10+AJ10+AM10+AP10+AS10+AV10+AY10) -> 0 | BC10: =SUM(AH10+AK10+AN10+AQ10+AT10+AW10+AZ10) -> 0 | BD10: =SUM(AI10+AL10+AO10+AR10+AU10+AX10+BA10) -> 0 | BZ10: =SUM(BE10,BH10,BK10,BN10,BQ10,BT10,BW10) -> 0 | CA10: =SUM(BF10,BI10,BL10,BO10,BR10,BU10,BX10) -> 0 | CB10: =SUM(BG10,BJ10,BM10,BP10,BS10,BV10,BY10) -> 0 | CX10: =SUM(CC10,CF10,CI10,CL10,CO10,CR10,CU10) -> 0 | CY10: =SUM(CD10,CG10,CJ10,CM10,CP10,CS10,CV10) -> 0 | CZ10: =SUM(CE10,CH10,CK10,CN10,CQ10,CT10,CW10) -> 0 | DV10: =SUM(DA10+DD10+DG10+DJ10+DM10+DP10+DS10) -> 0 | DW10: =SUM(DB10+DE10+DH10+DK10+DN10+DQ10+DT10) -> 0 | DX10: =SUM(DC10+DF10+DI10+DL10+DO10+DR10+DU10) -> 0 | ET10: =SUM(DY10,EB10,EE10,EH10,EK10,EN10,EQ10) -> 0 | EU10: =SUM(DZ10,EI10,EL10,EO10,ER10) -> 0 | EV10: =SUM(EA10,EJ10,EM10,EP10,ES10) -> 0 | FR10: =SUM(EW10,EZ10,FC10,FF10,FI10,FL10,FO10) -> 0 | FS10: =SUM(EX10,FA10,FD10,FG10,FJ10,FM10,FP10) -> 0 | FT10: =SUM(EY10,FB10,FE10,FH10,FK10,FN10,FQ10) -> 0 | GP10: =SUM(FU10+FX10+GA10+GD10+GG10+GJ10+GM10) -> 0 | GQ10: =SUM(FV10+FY10+GB10+GE10+GH10+GK10+GN10) -> 0 | GR10: =SUM(FW10+FZ10+GC10+GF10+GI10+GL10+GO10) -> 0 | HN10: =SUM(GS10,GV10,GY10,HB10,HE10,HH10,HK10) -> 0 | HO10: =SUM(GT10,GW10,GZ10,HC10,HF10,HI10,HL10) -> 0 | HP10: =SUM(GU10,GX10,HA10,HD10,HG10,HJ10,HM10) -> 0 | IF10: =SUM(HQ10,HT10,HW10,HZ10,IC10) -> 0 | IG10: =SUM(HR10,HU10,HX10,IA10,ID10) -> 0 | IH10: =SUM(HS10,HV10,HY10,IB10,IE10) -> 0 | IX10: =SUM(II10,IL10,IO10,IR10,IU10) -> 0 | IY10: =SUM(IJ10,IM10,IP10,IS10,IV10) -> 0 | IZ10: =SUM(IK10,IN10,IQ10,IT10,IW10) -> 0 | JV10: =SUM(JA10,JD10,JG10,JJ10,JM10,JP10,JS10) -> 0 | JW10: =SUM(JB10,JE10,JH10,JK10,JN10,JQ10,JT10) -> 0 | JX10: =SUM(JC10,JF10,JI10,JL10,JO10,JR10,JU10) -> 0
A11: 4 | B11: Батыревский муниципальный округ | C11: МБОУ "Большечеменевская СОШ" | AD11: =SUM(I11,L11,O11,R11,U11,X11,AA11) -> 0 | AE11: =SUM(J11,M11,P11,S11,V11,Y11,AB11) -> 0 | AF11: =SUM(K11,N11,Q11,T11,W11,Z11,AC11) -> 0 | BB11: =SUM(AG11+AJ11+AM11+AP11+AS11+AV11+AY11) -> 0 | BC11: =SUM(AH11+AK11+AN11+AQ11+AT11+AW11+AZ11) -> 0 | BD11: =SUM(AI11+AL11+AO11+AR11+AU11+AX11+BA11) -> 0 | BZ11: =SUM(BE11,BH11,BK11,BN11,BQ11,BT11,BW11) -> 0 | CA11: =SUM(BF11,BI11,BL11,BO11,BR11,BU11,BX11) -> 0 | CB11: =SUM(BG11,BJ11,BM11,BP11,BS11,BV11,BY11) -> 0 | CX11: =SUM(CC11,CF11,CI11,CL11,CO11,CR11,CU11) -> 0 | CY11: =SUM(CD11,CG11,CJ11,CM11,CP11,CS11,CV11) -> 0 | CZ11: =SUM(CE11,CH11,CK11,CN11,CQ11,CT11,CW11) -> 0 | DV11: =SUM(DA11+DD11+DG11+DJ11+DM11+DP11+DS11) -> 0 | DW11: =SUM(DB11+DE11+DH11+DK11+DN11+DQ11+DT11) -> 0 | DX11: =SUM(DC11+DF11+DI11+DL11+DO11+DR11+DU11) -> 0 | ET11: =SUM(DY11,EB11,EE11,EH11,EK11,EN11,EQ11) -> 0 | EU11: =SUM(DZ11,EI11,EL11,EO11,ER11) -> 0 | EV11: =SUM(EA11,EJ11,EM11,EP11,ES11) -> 0 | FR11: =SUM(EW11,EZ11,FC11,FF11,FI11,FL11,FO11) -> 0 | FS11: =SUM(EX11,FA11,FD11,FG11,FJ11,FM11,FP11) -> 0 | FT11: =SUM(EY11,FB11,FE11,FH11,FK11,FN11,FQ11) -> 0 | GP11: =SUM(FU11+FX11+GA11+GD11+GG11+GJ11+GM11) -> 0 | GQ11: =SUM(FV11+FY11+GB11+GE11+GH11+GK11+GN11) -> 0 | GR11: =SUM(FW11+FZ11+GC11+GF11+GI11+GL11+GO11) -> 0 | HN11: =SUM(GS11,GV11,GY11,HB11,HE11,HH11,HK11) -> 0 | HO11: =SUM(GT11,GW11,GZ11,HC11,HF11,HI11,HL11) -> 0 | HP11: =SUM(GU11,GX11,HA11,HD11,HG11,HJ11,HM11) -> 0 | IF11: =SUM(HQ11,HT11,HW11,HZ11,IC11) -> 0 | IG11: =SUM(HR11,HU11,HX11,IA11,ID11) -> 0 | IH11: =SUM(HS11,HV11,HY11,IB11,IE11) -> 0 | IX11: =SUM(II11,IL11,IO11,IR11,IU11) -> 0 | IY11: =SUM(IJ11,IM11,IP11,IS11,IV11) -> 0 | IZ11: =SUM(IK11,IN11,IQ11,IT11,IW11) -> 0 | JV11: =SUM(JA11,JD11,JG11,JJ11,JM11,JP11,JS11) -> 0 | JW11: =SUM(JB11,JE11,JH11,JK11,JN11,JQ11,JT11) -> 0 | JX11: =SUM(JC11,JF11,JI11,JL11,JO11,JR11,JU11) -> 0
A12: 5 | B12: Батыревский муниципальный округ | C12: МБОУ "Долгоостровская СОШ" | AD12: =SUM(I12,L12,O12,R12,U12,X12,AA12) -> 0 | AE12: =SUM(J12,M12,P12,S12,V12,Y12,AB12) -> 0 | AF12: =SUM(K12,N12,Q12,T12,W12,Z12,AC12) -> 0 | BB12: =SUM(AG12+AJ12+AM12+AP12+AS12+AV12+AY12) -> 0 | BC12: =SUM(AH12+AK12+AN12+AQ12+AT12+AW12+AZ12) -> 0 | BD12: =SUM(AI12+AL12+AO12+AR12+AU12+AX12+BA12) -> 0 | BZ12: =SUM(BE12,BH12,BK12,BN12,BQ12,BT12,BW12) -> 0 | CA12: =SUM(BF12,BI12,BL12,BO12,BR12,BU12,BX12) -> 0 | CB12: =SUM(BG12,BJ12,BM12,BP12,BS12,BV12,BY12) -> 0 | CX12: =SUM(CC12,CF12,CI12,CL12,CO12,CR12,CU12) -> 0 | CY12: =SUM(CD12,CG12,CJ12,CM12,CP12,CS12,CV12) -> 0 | CZ12: =SUM(CE12,CH12,CK12,CN12,CQ12,CT12,CW12) -> 0 | DV12: =SUM(DA12+DD12+DG12+DJ12+DM12+DP12+DS12) -> 0 | DW12: =SUM(DB12+DE12+DH12+DK12+DN12+DQ12+DT12) -> 0 | DX12: =SUM(DC12+DF12+DI12+DL12+DO12+DR12+DU12) -> 0 | ET12: =SUM(DY12,EB12,EE12,EH12,EK12,EN12,EQ12) -> 0 | EU12: =SUM(DZ12,EI12,EL12,EO12,ER12) -> 0 | EV12: =SUM(EA12,EJ12,EM12,EP12,ES12) -> 0 | FR12: =SUM(EW12,EZ12,FC12,FF12,FI12,FL12,FO12) -> 0 | FS12: =SUM(EX12,FA12,FD12,FG12,FJ12,FM12,FP12) -> 0 | FT12: =SUM(EY12,FB12,FE12,FH12,FK12,FN12,FQ12) -> 0 | GP12: =SUM(FU12+FX12+GA12+GD12+GG12+GJ12+GM12) -> 0 | GQ12: =SUM(FV12+FY12+GB12+GE12+GH12+GK12+GN12) -> 0 | GR12: =SUM(FW12+FZ12+GC12+GF12+GI12+GL12+GO12) -> 0 | HN12: =SUM(GS12,GV12,GY12,HB12,HE12,HH12,HK12) -> 0 | HO12: =SUM(GT12,GW12,GZ12,HC12,HF12,HI12,HL12) -> 0 | HP12: =SUM(GU12,GX12,HA12,HD12,HG12,HJ12,HM12) -> 0 | IF12: =SUM(HQ12,HT12,HW12,HZ12,IC12) -> 0 | IG12: =SUM(HR12,HU12,HX12,IA12,ID12) -> 0 | IH12: =SUM(HS12,HV12,HY12,IB12,IE12) -> 0 | IX12: =SUM(II12,IL12,IO12,IR12,IU12) -> 0 | IY12: =SUM(IJ12,IM12,IP12,IS12,IV12) -> 0 | IZ12: =SUM(IK12,IN12,IQ12,IT12,IW12) -> 0 | JV12: =SUM(JA12,JD12,JG12,JJ12,JM12,JP12,JS12) -> 0 | JW12: =SUM(JB12,JE12,JH12,JK12,JN12,JQ12,JT12) -> 0 | JX12: =SUM(JC12,JF12,JI12,JL12,JO12,JR12,JU12) -> 0
A13: 6 | B13: Батыревский муниципальный округ | C13: МБОУ "Норваш Шигалинская СОШ" | AD13: =SUM(I13,L13,O13,R13,U13,X13,AA13) -> 0 | AE13: =SUM(J13,M13,P13,S13,V13,Y13,AB13) -> 0 | AF13: =SUM(K13,N13,Q13,T13,W13,Z13,AC13) -> 0 | BB13: =SUM(AG13+AJ13+AM13+AP13+AS13+AV13+AY13) -> 0 | BC13: =SUM(AH13+AK13+AN13+AQ13+AT13+AW13+AZ13) -> 0 | BD13: =SUM(AI13+AL13+AO13+AR13+AU13+AX13+BA13) -> 0 | BZ13: =SUM(BE13,BH13,BK13,BN13,BQ13,BT13,BW13) -> 0 | CA13: =SUM(BF13,BI13,BL13,BO13,BR13,BU13,BX13) -> 0 | CB13: =SUM(BG13,BJ13,BM13,BP13,BS13,BV13,BY13) -> 0 | CX13: =SUM(CC13,CF13,CI13,CL13,CO13,CR13,CU13) -> 0 | CY13: =SUM(CD13,CG13,CJ13,CM13,CP13,CS13,CV13) -> 0 | CZ13: =SUM(CE13,CH13,CK13,CN13,CQ13,CT13,CW13) -> 0 | DV13: =SUM(DA13+DD13+DG13+DJ13+DM13+DP13+DS13) -> 0 | DW13: =SUM(DB13+DE13+DH13+DK13+DN13+DQ13+DT13) -> 0 | DX13: =SUM(DC13+DF13+DI13+DL13+DO13+DR13+DU13) -> 0 | ET13: =SUM(DY13,EB13,EE13,EH13,EK13,EN13,EQ13) -> 0 | EU13: =SUM(DZ13,EI13,EL13,EO13,ER13) -> 0 | EV13: =SUM(EA13,EJ13,EM13,EP13,ES13) -> 0 | FR13: =SUM(EW13,EZ13,FC13,FF13,FI13,FL13,FO13) -> 0 | FS13: =SUM(EX13,FA13,FD13,FG13,FJ13,FM13,FP13) -> 0 | FT13: =SUM(EY13,FB13,FE13,FH13,FK13,FN13,FQ13) -> 0 | GP13: =SUM(FU13+FX13+GA13+GD13+GG13+GJ13+GM13) -> 0 | GQ13: =SUM(FV13+FY13+GB13+GE13+GH13+GK13+GN13) -> 0 | GR13: =SUM(FW13+FZ13+GC13+GF13+GI13+GL13+GO13) -> 0 | HN13: =SUM(GS13,GV13,GY13,HB13,HE13,HH13,HK13) -> 0 | HO13: =SUM(GT13,GW13,GZ13,HC13,HF13,HI13,HL13) -> 0 | HP13: =SUM(GU13,GX13,HA13,HD13,HG13,HJ13,HM13) -> 0 | IF13: =SUM(HQ13,HT13,HW13,HZ13,IC13) -> 0 | IG13: =SUM(HR13,HU13,HX13,IA13,ID13) -> 0 | IH13: =SUM(HS13,HV13,HY13,IB13,IE13) -> 0 | IX13: =SUM(II13,IL13,IO13,IR13,IU13) -> 0 | IY13: =SUM(IJ13,IM13,IP13,IS13,IV13) -> 0 | IZ13: =SUM(IK13,IN13,IQ13,IT13,IW13) -> 0 | JV13: =SUM(JA13,JD13,JG13,JJ13,JM13,JP13,JS13) -> 0 | JW13: =SUM(JB13,JE13,JH13,JK13,JN13,JQ13,JT13) -> 0 | JX13: =SUM(JC13,JF13,JI13,JL13,JO13,JR13,JU13) -> 0
A14: 7 | B14: Батыревский муниципальный округ | C14: МБОУ "Первомайская СОШ имени В.Митты" | AD14: =SUM(I14,L14,O14,R14,U14,X14,AA14) -> 0 | AE14: =SUM(J14,M14,P14,S14,V14,Y14,AB14) -> 0 | AF14: =SUM(K14,N14,Q14,T14,W14,Z14,AC14) -> 0 | BB14: =SUM(AG14+AJ14+AM14+AP14+AS14+AV14+AY14) -> 0 | BC14: =SUM(AH14+AK14+AN14+AQ14+AT14+AW14+AZ14) -> 0 | BD14: =SUM(AI14+AL14+AO14+AR14+AU14+AX14+BA14) -> 0 | BZ14: =SUM(BE14,BH14,BK14,BN14,BQ14,BT14,BW14) -> 0 | CA14: =SUM(BF14,BI14,BL14,BO14,BR14,BU14,BX14) -> 0 | CB14: =SUM(BG14,BJ14,BM14,BP14,BS14,BV14,BY14) -> 0 | CX14: =SUM(CC14,CF14,CI14,CL14,CO14,CR14,CU14) -> 0 | CY14: =SUM(CD14,CG14,CJ14,CM14,CP14,CS14,CV14) -> 0 | CZ14: =SUM(CE14,CH14,CK14,CN14,CQ14,CT14,CW14) -> 0 | DV14: =SUM(DA14+DD14+DG14+DJ14+DM14+DP14+DS14) -> 0 | DW14: =SUM(DB14+DE14+DH14+DK14+DN14+DQ14+DT14) -> 0 | DX14: =SUM(DC14+DF14+DI14+DL14+DO14+DR14+DU14) -> 0 | ET14: =SUM(DY14,EB14,EE14,EH14,EK14,EN14,EQ14) -> 0 | EU14: =SUM(DZ14,EI14,EL14,EO14,ER14) -> 0 | EV14: =SUM(EA14,EJ14,EM14,EP14,ES14) -> 0 | FR14: =SUM(EW14,EZ14,FC14,FF14,FI14,FL14,FO14) -> 0 | FS14: =SUM(EX14,FA14,FD14,FG14,FJ14,FM14,FP14) -> 0 | FT14: =SUM(EY14,FB14,FE14,FH14,FK14,FN14,FQ14) -> 0 | GP14: =SUM(FU14+FX14+GA14+GD14+GG14+GJ14+GM14) -> 0 | GQ14: =SUM(FV14+FY14+GB14+GE14+GH14+GK14+GN14) -> 0 | GR14: =SUM(FW14+FZ14+GC14+GF14+GI14+GL14+GO14) -> 0 | HN14: =SUM(GS14,GV14,GY14,HB14,HE14,HH14,HK14) -> 0 | HO14: =SUM(GT14,GW14,GZ14,HC14,HF14,HI14,HL14) -> 0 | HP14: =SUM(GU14,GX14,HA14,HD14,HG14,HJ14,HM14) -> 0 | IF14: =SUM(HQ14,HT14,HW14,HZ14,IC14) -> 0 | IG14: =SUM(HR14,HU14,HX14,IA14,ID14) -> 0 | IH14: =SUM(HS14,HV14,HY14,IB14,IE14) -> 0 | IX14: =SUM(II14,IL14,IO14,IR14,IU14) -> 0 | IY14: =SUM(IJ14,IM14,IP14,IS14,IV14) -> 0 | IZ14: =SUM(IK14,IN14,IQ14,IT14,IW14) -> 0 | JV14: =SUM(JA14,JD14,JG14,JJ14,JM14,JP14,JS14) -> 0 | JW14: =SUM(JB14,JE14,JH14,JK14,JN14,JQ14,JT14) -> 0 | JX14: =SUM(JC14,JF14,JI14,JL14,JO14,JR14,JU14) -> 0
A15: 8 | B15: Батыревский муниципальный округ | C15: МБОУ "Полевобикшикская СОШ" | AD15: =SUM(I15,L15,O15,R15,U15,X15,AA15) -> 0 | AE15: =SUM(J15,M15,P15,S15,V15,Y15,AB15) -> 0 | AF15: =SUM(K15,N15,Q15,T15,W15,Z15,AC15) -> 0 | BB15: =SUM(AG15+AJ15+AM15+AP15+AS15+AV15+AY15) -> 0 | BC15: =SUM(AH15+AK15+AN15+AQ15+AT15+AW15+AZ15) -> 0 | BD15: =SUM(AI15+AL15+AO15+AR15+AU15+AX15+BA15) -> 0 | BZ15: =SUM(BE15,BH15,BK15,BN15,BQ15,BT15,BW15) -> 0 | CA15: =SUM(BF15,BI15,BL15,BO15,BR15,BU15,BX15) -> 0 | CB15: =SUM(BG15,BJ15,BM15,BP15,BS15,BV15,BY15) -> 0 | CX15: =SUM(CC15,CF15,CI15,CL15,CO15,CR15,CU15) -> 0 | CY15: =SUM(CD15,CG15,CJ15,CM15,CP15,CS15,CV15) -> 0 | CZ15: =SUM(CE15,CH15,CK15,CN15,CQ15,CT15,CW15) -> 0 | DV15: =SUM(DA15+DD15+DG15+DJ15+DM15+DP15+DS15) -> 0 | DW15: =SUM(DB15+DE15+DH15+DK15+DN15+DQ15+DT15) -> 0 | DX15: =SUM(DC15+DF15+DI15+DL15+DO15+DR15+DU15) -> 0 | ET15: =SUM(DY15,EB15,EE15,EH15,EK15,EN15,EQ15) -> 0 | EU15: =SUM(DZ15,EI15,EL15,EO15,ER15) -> 0 | EV15: =SUM(EA15,EJ15,EM15,EP15,ES15) -> 0 | FR15: =SUM(EW15,EZ15,FC15,FF15,FI15,FL15,FO15) -> 0 | FS15: =SUM(EX15,FA15,FD15,FG15,FJ15,FM15,FP15) -> 0 | FT15: =SUM(EY15,FB15,FE15,FH15,FK15,FN15,FQ15) -> 0 | GP15: =SUM(FU15+FX15+GA15+GD15+GG15+GJ15+GM15) -> 0 | GQ15: =SUM(FV15+FY15+GB15+GE15+GH15+GK15+GN15) -> 0 | GR15: =SUM(FW15+FZ15+GC15+GF15+GI15+GL15+GO15) -> 0 | HN15: =SUM(GS15,GV15,GY15,HB15,HE15,HH15,HK15) -> 0 | HO15: =SUM(GT15,GW15,GZ15,HC15,HF15,HI15,HL15) -> 0 | HP15: =SUM(GU15,GX15,HA15,HD15,HG15,HJ15,HM15) -> 0 | IF15: =SUM(HQ15,HT15,HW15,HZ15,IC15) -> 0 | IG15: =SUM(HR15,HU15,HX15,IA15,ID15) -> 0 | IH15: =SUM(HS15,HV15,HY15,IB15,IE15) -> 0 | IX15: =SUM(II15,IL15,IO15,IR15,IU15) -> 0 | IY15: =SUM(IJ15,IM15,IP15,IS15,IV15) -> 0 | IZ15: =SUM(IK15,IN15,IQ15,IT15,IW15) -> 0 | JV15: =SUM(JA15,JD15,JG15,JJ15,JM15,JP15,JS15) -> 0 | JW15: =SUM(JB15,JE15,JH15,JK15,JN15,JQ15,JT15) -> 0 | JX15: =SUM(JC15,JF15,JI15,JL15,JO15,JR15,JU15) -> 0
A16: 9 | B16: Батыревский муниципальный округ | C16: МАОУ "Сугутская СОШ" | AD16: =SUM(I16,L16,O16,R16,U16,X16,AA16) -> 0 | AE16: =SUM(J16,M16,P16,S16,V16,Y16,AB16) -> 0 | AF16: =SUM(K16,N16,Q16,T16,W16,Z16,AC16) -> 0 | BB16: =SUM(AG16+AJ16+AM16+AP16+AS16+AV16+AY16) -> 0 | BC16: =SUM(AH16+AK16+AN16+AQ16+AT16+AW16+AZ16) -> 0 | BD16: =SUM(AI16+AL16+AO16+AR16+AU16+AX16+BA16) -> 0 | BZ16: =SUM(BE16,BH16,BK16,BN16,BQ16,BT16,BW16) -> 0 | CA16: =SUM(BF16,BI16,BL16,BO16,BR16,BU16,BX16) -> 0 | CB16: =SUM(BG16,BJ16,BM16,BP16,BS16,BV16,BY16) -> 0 | CX16: =SUM(CC16,CF16,CI16,CL16,CO16,CR16,CU16) -> 0 | CY16: =SUM(CD16,CG16,CJ16,CM16,CP16,CS16,CV16) -> 0 | CZ16: =SUM(CE16,CH16,CK16,CN16,CQ16,CT16,CW16) -> 0 | DV16: =SUM(DA16+DD16+DG16+DJ16+DM16+DP16+DS16) -> 0 | DW16: =SUM(DB16+DE16+DH16+DK16+DN16+DQ16+DT16) -> 0 | DX16: =SUM(DC16+DF16+DI16+DL16+DO16+DR16+DU16) -> 0 | ET16: =SUM(DY16,EB16,EE16,EH16,EK16,EN16,EQ16) -> 0 | EU16: =SUM(DZ16,EI16,EL16,EO16,ER16) -> 0 | EV16: =SUM(EA16,EJ16,EM16,EP16,ES16) -> 0 | FR16: =SUM(EW16,EZ16,FC16,FF16,FI16,FL16,FO16) -> 0 | FS16: =SUM(EX16,FA16,FD16,FG16,FJ16,FM16,FP16) -> 0 | FT16: =SUM(EY16,FB16,FE16,FH16,FK16,FN16,FQ16) -> 0 | GP16: =SUM(FU16+FX16+GA16+GD16+GG16+GJ16+GM16) -> 0 | GQ16: =SUM(FV16+FY16+GB16+GE16+GH16+GK16+GN16) -> 0 | GR16: =SUM(FW16+FZ16+GC16+GF16+GI16+GL16+GO16) -> 0 | HN16: =SUM(GS16,GV16,GY16,HB16,HE16,HH16,HK16) -> 0 | HO16: =SUM(GT16,GW16,GZ16,HC16,HF16,HI16,HL16) -> 0 | HP16: =SUM(GU16,GX16,HA16,HD16,HG16,HJ16,HM16) -> 0 | IF16: =SUM(HQ16,HT16,HW16,HZ16,IC16) -> 0 | IG16: =SUM(HR16,HU16,HX16,IA16,ID16) -> 0 | IH16: =SUM(HS16,HV16,HY16,IB16,IE16) -> 0 | IX16: =SUM(II16,IL16,IO16,IR16,IU16) -> 0 | IY16: =SUM(IJ16,IM16,IP16,IS16,IV16) -> 0 | IZ16: =SUM(IK16,IN16,IQ16,IT16,IW16) -> 0 | JV16: =SUM(JA16,JD16,JG16,JJ16,JM16,JP16,JS16) -> 0 | JW16: =SUM(JB16,JE16,JH16,JK16,JN16,JQ16,JT16) -> 0 | JX16: =SUM(JC16,JF16,JI16,JL16,JO16,JR16,JU16) -> 0
A17: 10 | B17: Батыревский муниципальный округ | C17: МБОУ "Тарханская СОШ" | AD17: =SUM(I17,L17,O17,R17,U17,X17,AA17) -> 0 | AE17: =SUM(J17,M17,P17,S17,V17,Y17,AB17) -> 0 | AF17: =SUM(K17,N17,Q17,T17,W17,Z17,AC17) -> 0 | BB17: =SUM(AG17+AJ17+AM17+AP17+AS17+AV17+AY17) -> 0 | BC17: =SUM(AH17+AK17+AN17+AQ17+AT17+AW17+AZ17) -> 0 | BD17: =SUM(AI17+AL17+AO17+AR17+AU17+AX17+BA17) -> 0 | BZ17: =SUM(BE17,BH17,BK17,BN17,BQ17,BT17,BW17) -> 0 | CA17: =SUM(BF17,BI17,BL17,BO17,BR17,BU17,BX17) -> 0 | CB17: =SUM(BG17,BJ17,BM17,BP17,BS17,BV17,BY17) -> 0 | CX17: =SUM(CC17,CF17,CI17,CL17,CO17,CR17,CU17) -> 0 | CY17: =SUM(CD17,CG17,CJ17,CM17,CP17,CS17,CV17) -> 0 | CZ17: =SUM(CE17,CH17,CK17,CN17,CQ17,CT17,CW17) -> 0 | DV17: =SUM(DA17+DD17+DG17+DJ17+DM17+DP17+DS17) -> 0 | DW17: =SUM(DB17+DE17+DH17+DK17+DN17+DQ17+DT17) -> 0 | DX17: =SUM(DC17+DF17+DI17+DL17+DO17+DR17+DU17) -> 0 | ET17: =SUM(DY17,EB17,EE17,EH17,EK17,EN17,EQ17) -> 0 | EU17: =SUM(DZ17,EI17,EL17,EO17,ER17) -> 0 | EV17: =SUM(EA17,EJ17,EM17,EP17,ES17) -> 0 | FR17: =SUM(EW17,EZ17,FC17,FF17,FI17,FL17,FO17) -> 0 | FS17: =SUM(EX17,FA17,FD17,FG17,FJ17,FM17,FP17) -> 0 | FT17: =SUM(EY17,FB17,FE17,FH17,FK17,FN17,FQ17) -> 0 | GP17: =SUM(FU17+FX17+GA17+GD17+GG17+GJ17+GM17) -> 0 | GQ17: =SUM(FV17+FY17+GB17+GE17+GH17+GK17+GN17) -> 0 | GR17: =SUM(FW17+FZ17+GC17+GF17+GI17+GL17+GO17) -> 0 | HN17: =SUM(GS17,GV17,GY17,HB17,HE17,HH17,HK17) -> 0 | HO17: =SUM(GT17,GW17,GZ17,HC17,HF17,HI17,HL17) -> 0 | HP17: =SUM(GU17,GX17,HA17,HD17,HG17,HJ17,HM17) -> 0 | IF17: =SUM(HQ17,HT17,HW17,HZ17,IC17) -> 0 | IG17: =SUM(HR17,HU17,HX17,IA17,ID17) -> 0 | IH17: =SUM(HS17,HV17,HY17,IB17,IE17) -> 0 | IX17: =SUM(II17,IL17,IO17,IR17,IU17) -> 0 | IY17: =SUM(IJ17,IM17,IP17,IS17,IV17) -> 0 | IZ17: =SUM(IK17,IN17,IQ17,IT17,IW17) -> 0 | JV17: =SUM(JA17,JD17,JG17,JJ17,JM17,JP17,JS17) -> 0 | JW17: =SUM(JB17,JE17,JH17,JK17,JN17,JQ17,JT17) -> 0 | JX17: =SUM(JC17,JF17,JI17,JL17,JO17,JR17,JU17) -> 0
A18: 11 | B18: Батыревский муниципальный округ | C18: МАОУ "Татарско-Сугутская СОШ" | AD18: =SUM(I18,L18,O18,R18,U18,X18,AA18) -> 0 | AE18: =SUM(J18,M18,P18,S18,V18,Y18,AB18) -> 0 | AF18: =SUM(K18,N18,Q18,T18,W18,Z18,AC18) -> 0 | BB18: =SUM(AG18+AJ18+AM18+AP18+AS18+AV18+AY18) -> 0 | BC18: =SUM(AH18+AK18+AN18+AQ18+AT18+AW18+AZ18) -> 0 | BD18: =SUM(AI18+AL18+AO18+AR18+AU18+AX18+BA18) -> 0 | BZ18: =SUM(BE18,BH18,BK18,BN18,BQ18,BT18,BW18) -> 0 | CA18: =SUM(BF18,BI18,BL18,BO18,BR18,BU18,BX18) -> 0 | CB18: =SUM(BG18,BJ18,BM18,BP18,BS18,BV18,BY18) -> 0 | CX18: =SUM(CC18,CF18,CI18,CL18,CO18,CR18,CU18) -> 0 | CY18: =SUM(CD18,CG18,CJ18,CM18,CP18,CS18,CV18) -> 0 | CZ18: =SUM(CE18,CH18,CK18,CN18,CQ18,CT18,CW18) -> 0 | DV18: =SUM(DA18+DD18+DG18+DJ18+DM18+DP18+DS18) -> 0 | DW18: =SUM(DB18+DE18+DH18+DK18+DN18+DQ18+DT18) -> 0 | DX18: =SUM(DC18+DF18+DI18+DL18+DO18+DR18+DU18) -> 0 | ET18: =SUM(DY18,EB18,EE18,EH18,EK18,EN18,EQ18) -> 0 | EU18: =SUM(DZ18,EI18,EL18,EO18,ER18) -> 0 | EV18: =SUM(EA18,EJ18,EM18,EP18,ES18) -> 0 | FR18: =SUM(EW18,EZ18,FC18,FF18,FI18,FL18,FO18) -> 0 | FS18: =SUM(EX18,FA18,FD18,FG18,FJ18,FM18,FP18) -> 0 | FT18: =SUM(EY18,FB18,FE18,FH18,FK18,FN18,FQ18) -> 0 | GP18: =SUM(FU18+FX18+GA18+GD18+GG18+GJ18+GM18) -> 0 | GQ18: =SUM(FV18+FY18+GB18+GE18+GH18+GK18+GN18) -> 0 | GR18: =SUM(FW18+FZ18+GC18+GF18+GI18+GL18+GO18) -> 0 | HN18: =SUM(GS18,GV18,GY18,HB18,HE18,HH18,HK18) -> 0 | HO18: =SUM(GT18,GW18,GZ18,HC18,HF18,HI18,HL18) -> 0 | HP18: =SUM(GU18,GX18,HA18,HD18,HG18,HJ18,HM18) -> 0 | IF18: =SUM(HQ18,HT18,HW18,HZ18,IC18) -> 0 | IG18: =SUM(HR18,HU18,HX18,IA18,ID18) -> 0 | IH18: =SUM(HS18,HV18,HY18,IB18,IE18) -> 0 | IX18: =SUM(II18,IL18,IO18,IR18,IU18) -> 0 | IY18: =SUM(IJ18,IM18,IP18,IS18,IV18) -> 0 | IZ18: =SUM(IK18,IN18,IQ18,IT18,IW18) -> 0 | JV18: =SUM(JA18,JD18,JG18,JJ18,JM18,JP18,JS18) -> 0 | JW18: =SUM(JB18,JE18,JH18,JK18,JN18,JQ18,JT18) -> 0 | JX18: =SUM(JC18,JF18,JI18,JL18,JO18,JR18,JU18) -> 0
A19: 12 | B19: Батыревский муниципальный округ | C19: МБОУ "Тойсинская СОШ" | AD19: =SUM(I19,L19,O19,R19,U19,X19,AA19) -> 0 | AE19: =SUM(J19,M19,P19,S19,V19,Y19,AB19) -> 0 | AF19: =SUM(K19,N19,Q19,T19,W19,Z19,AC19) -> 0 | BB19: =SUM(AG19+AJ19+AM19+AP19+AS19+AV19+AY19) -> 0 | BC19: =SUM(AH19+AK19+AN19+AQ19+AT19+AW19+AZ19) -> 0 | BD19: =SUM(AI19+AL19+AO19+AR19+AU19+AX19+BA19) -> 0 | BZ19: =SUM(BE19,BH19,BK19,BN19,BQ19,BT19,BW19) -> 0 | CA19: =SUM(BF19,BI19,BL19,BO19,BR19,BU19,BX19) -> 0 | CB19: =SUM(BG19,BJ19,BM19,BP19,BS19,BV19,BY19) -> 0 | CX19: =SUM(CC19,CF19,CI19,CL19,CO19,CR19,CU19) -> 0 | CY19: =SUM(CD19,CG19,CJ19,CM19,CP19,CS19,CV19) -> 0 | CZ19: =SUM(CE19,CH19,CK19,CN19,CQ19,CT19,CW19) -> 0 | DV19: =SUM(DA19+DD19+DG19+DJ19+DM19+DP19+DS19) -> 0 | DW19: =SUM(DB19+DE19+DH19+DK19+DN19+DQ19+DT19) -> 0 | DX19: =SUM(DC19+DF19+DI19+DL19+DO19+DR19+DU19) -> 0 | ET19: =SUM(DY19,EB19,EE19,EH19,EK19,EN19,EQ19) -> 0 | EU19: =SUM(DZ19,EI19,EL19,EO19,ER19) -> 0 | EV19: =SUM(EA19,EJ19,EM19,EP19,ES19) -> 0 | FR19: =SUM(EW19,EZ19,FC19,FF19,FI19,FL19,FO19) -> 0 | FS19: =SUM(EX19,FA19,FD19,FG19,FJ19,FM19,FP19) -> 0 | FT19: =SUM(EY19,FB19,FE19,FH19,FK19,FN19,FQ19) -> 0 | GP19: =SUM(FU19+FX19+GA19+GD19+GG19+GJ19+GM19) -> 0 | GQ19: =SUM(FV19+FY19+GB19+GE19+GH19+GK19+GN19) -> 0 | GR19: =SUM(FW19+FZ19+GC19+GF19+GI19+GL19+GO19) -> 0 | HN19: =SUM(GS19,GV19,GY19,HB19,HE19,HH19,HK19) -> 0 | HO19: =SUM(GT19,GW19,GZ19,HC19,HF19,HI19,HL19) -> 0 | HP19: =SUM(GU19,GX19,HA19,HD19,HG19,HJ19,HM19) -> 0 | IF19: =SUM(HQ19,HT19,HW19,HZ19,IC19) -> 0 | IG19: =SUM(HR19,HU19,HX19,IA19,ID19) -> 0 | IH19: =SUM(HS19,HV19,HY19,IB19,IE19) -> 0 | IX19: =SUM(II19,IL19,IO19,IR19,IU19) -> 0 | IY19: =SUM(IJ19,IM19,IP19,IS19,IV19) -> 0 | IZ19: =SUM(IK19,IN19,IQ19,IT19,IW19) -> 0 | JV19: =SUM(JA19,JD19,JG19,JJ19,JM19,JP19,JS19) -> 0 | JW19: =SUM(JB19,JE19,JH19,JK19,JN19,JQ19,JT19) -> 0 | JX19: =SUM(JC19,JF19,JI19,JL19,JO19,JR19,JU19) -> 0
... A22: 15 | B22: Батыревский муниципальный округ | C22: МБОУ "Новоахпердинская ООШ" | AD22: =SUM(I22,L22,O22,R22,U22,X22,AA22) -> 0 | AE22: =SUM(J22,M22,P22,S22,V22,Y22,AB22) -> 0 | AF22: =SUM(K22,N22,Q22,T22,W22,Z22,AC22) -> 0 | BB22: =SUM(AG22+AJ22+AM22+AP22+AS22+AV22+AY22) -> 0 | BC22: =SUM(AH22+AK22+AN22+AQ22+AT22+AW22+AZ22) -> 0 | BD22: =SUM(AI22+AL22+AO22+AR22+AU22+AX22+BA22) -> 0 | BZ22: =SUM(BE22,BH22,BK22,BN22,BQ22,BT22,BW22) -> 0 | CA22: =SUM(BF22,BI22,BL22,BO22,BR22,BU22,BX22) -> 0 | CB22: =SUM(BG22,BJ22,BM22,BP22,BS22,BV22,BY22) -> 0 | CX22: =SUM(CC22,CF22,CI22,CL22,CO22,CR22,CU22) -> 0 | CY22: =SUM(CD22,CG22,CJ22,CM22,CP22,CS22,CV22) -> 0 | CZ22: =SUM(CE22,CH22,CK22,CN22,CQ22,CT22,CW22) -> 0 | DV22: =SUM(DA22+DD22+DG22+DJ22+DM22+DP22+DS22) -> 0 | DW22: =SUM(DB22+DE22+DH22+DK22+DN22+DQ22+DT22) -> 0 | DX22: =SUM(DC22+DF22+DI22+DL22+DO22+DR22+DU22) -> 0 | ET22: =SUM(DY22,EB22,EE22,EH22,EK22,EN22,EQ22) -> 0 | EU22: =SUM(DZ22,EI22,EL22,EO22,ER22) -> 0 | EV22: =SUM(EA22,EJ22,EM22,EP22,ES22) -> 0 | FR22: =SUM(EW22,EZ22,FC22,FF22,FI22,FL22,FO22) -> 0 | FS22: =SUM(EX22,FA22,FD22,FG22,FJ22,FM22,FP22) -> 0 | FT22: =SUM(EY22,FB22,FE22,FH22,FK22,FN22,FQ22) -> 0 | GP22: =SUM(FU22+FX22+GA22+GD22+GG22+GJ22+GM22) -> 0 | GQ22: =SUM(FV22+FY22+GB22+GE22+GH22+GK22+GN22) -> 0 | GR22: =SUM(FW22+FZ22+GC22+GF22+GI22+GL22+GO22) -> 0 | HN22: =SUM(GS22,GV22,GY22,HB22,HE22,HH22,HK22) -> 0 | HO22: =SUM(GT22,GW22,GZ22,HC22,HF22,HI22,HL22) -> 0 | HP22: =SUM(GU22,GX22,HA22,HD22,HG22,HJ22,HM22) -> 0 | IF22: =SUM(HQ22,HT22,HW22,HZ22,IC22) -> 0 | IG22: =SUM(HR22,HU22,HX22,IA22,ID22) -> 0 | IH22: =SUM(HS22,HV22,HY22,IB22,IE22) -> 0 | IX22: =SUM(II22,IL22,IO22,IR22,IU22) -> 0 | IY22: =SUM(IJ22,IM22,IP22,IS22,IV22) -> 0 | IZ22: =SUM(IK22,IN22,IQ22,IT22,IW22) -> 0 | JV22: =SUM(JA22,JD22,JG22,JJ22,JM22,JP22,JS22) -> 0 | JW22: =SUM(JB22,JE22,JH22,JK22,JN22,JQ22,JT22) -> 0 | JX22: =SUM(JC22,JF22,JI22,JL22,JO22,JR22,JU22) -> 0
A23: 16 | B23: Батыревский муниципальный округ | C23: МБОУ "Шаймурзинская ООШ имени Г.Айги" | D23: 31 | E23: 23 | F23: 0 | G23: 0 | H23: 0 | I23: 0 | J23: 0 | K23: 0 | L23: 0 | M23: 0 | N23: 0 | O23: 0 | P23: 0 | Q23: 0 | R23: 0 | S23: 0 | T23: 0 | U23: 1 | V23: 0 | W23: 0 | X23: 0 | Y23: 0 | Z23: 0 | AA23: 0 | AB23: 0 | AC23: 0 | AD23: =SUM(I23,L23,O23,R23,U23,X23,AA23) -> 1 | AE23: =SUM(J23,M23,P23,S23,V23,Y23,AB23) -> 0 | AF23: =SUM(K23,N23,Q23,T23,W23,Z23,AC23) -> 0 | AG23: 7 | AH23: 0 | AI23: 1 | AJ23: 5 | AK23: 0 | AL23: 1 | AM23: 6 | AN23: 0 | AO23: 1 | AP23: 5 | AQ23: 0 | AR23: 1 | AS23: 5 | AT23: 0 | AU23: 1 | AV23: 0 | AW23: 0 | AX23: 0 | AY23: 0 | AZ23: 0 | BA23: 0 | BB23: =SUM(AG23+AJ23+AM23+AP23+AS23+AV23+AY23) -> 28 | BC23: =SUM(AH23+AK23+AN23+AQ23+AT23+AW23+AZ23) -> 0 | BD23: =SUM(AI23+AL23+AO23+AR23+AU23+AX23+BA23) -> 5 | BE23: 5 | BF23: 0 | BG23: 1 | BH23: 5 | BI23: 0 | BJ23: 1 | BK23: 6 | BL23: 0 | BM23: 1 | BN23: 4 | BO23: 0 | BP23: 1 | BQ23: 2 | BR23: 0 | BS23: 0 | BT23: 0 | BU23: 0 | BV23: 0 | BW23: 0 | BX23: 0 | BY23: 0 | BZ23: =SUM(BE23,BH23,BK23,BN23,BQ23,BT23,BW23) -> 22 | CA23: =SUM(BF23,BI23,BL23,BO23,BR23,BU23,BX23) -> 0 | CB23: =SUM(BG23,BJ23,BM23,BP23,BS23,BV23,BY23) -> 4 | CC23: 0 | CD23: 0 | CE23: 0 | CF23: 0 | CG23: 0 | CH23: 0 | CI23: 0 | CJ23: 0 | CK23: 0 | CL23: 0 | CM23: 0 | CN23: 0 | CO23: 0 | CP23: 0 | CQ23: 0 | CR23: 0 | CS23: 0 | CT23: 0 | CU23: 0 | CV23: 0 | CW23: 0 | CX23: =SUM(CC23,CF23,CI23,CL23,CO23,CR23,CU23) -> 0 | CY23: =SUM(CD23,CG23,CJ23,CM23,CP23,CS23,CV23) -> 0 | CZ23: =SUM(CE23,CH23,CK23,CN23,CQ23,CT23,CW23) -> 0 | DA23: 6 | DB23: 0 | DC23: 0 | DD23: 4 | DE23: 0 | DF23: 0 | DG23: 4 | DH23: 0 | DI23: 0 | DJ23: 4 | DK23: 0 | DL23: 0 | DM23: 4 | DN23: 0 | DO23: 0 | DP23: 0 | DQ23: 0 | DR23: 0 | DS23: 0 | DT23: 0 | DU23: 0 | DV23: =SUM(DA23+DD23+DG23+DJ23+DM23+DP23+DS23) -> 22 | DW23: =SUM(DB23+DE23+DH23+DK23+DN23+DQ23+DT23) -> 0 | DX23: =SUM(DC23+DF23+DI23+DL23+DO23+DR23+DU23) -> 0 | DY23: 5 | DZ23: 0 | EA23: 1 | EB23: 4 | EC23: 0 | ED23: 1 | EE23: 5 | EF23: 0 | EG23: 1 | EH23: 5 | EI23: 0 | EJ23: 1 | EK23: 4 | EL23: 0 | EM23: 0 | EN23: 0 | EO23: 0 | EP23: 0 | EQ23: 0 | ER23: 0 | ES23: 0 | ET23: =SUM(DY23,EB23,EE23,EH23,EK23,EN23,EQ23) -> 23 | EU23: =SUM(DZ23,EI23,EL23,EO23,ER23) -> 0 | EV23: =SUM(EA23,EJ23,EM23,EP23,ES23) -> 2 | EW23: 5 | EX23: 0 | EY23: 1 | EZ23: 5 | FA23: 0 | FB23: 1 | FC23: 4 | FD23: 0 | FE23: 1 | FF23: 6 | FG23: 0 | FH23: 1 | FI23: 3 | FJ23: 0 | FK23: 1 | FL23: 0 | FM23: 0 | FN23: 0 | FO23: 0 | FP23: 0 | FQ23: 0 | FR23: =SUM(EW23,EZ23,FC23,FF23,FI23,FL23,FO23) -> 23 | FS23: =SUM(EX23,FA23,FD23,FG23,FJ23,FM23,FP23) -> 0 | FT23: =SUM(EY23,FB23,FE23,FH23,FK23,FN23,FQ23) -> 5 | FU23: 3 | FV23: 0 | FW23: 0 | FX23: 2 | FY23: 0 | FZ23: 0 | GA23: 2 | GB23: 0 | GC23: 0 | GD23: 3 | GE23: 0 | GF23: 0 | GG23: 2 | GH23: 0 | GI23: 0 | GJ23: 0 | GK23: 0 | GL23: 0 | GM23: 0 | GN23: 0 | GO23: 0 | GP23: =SUM(FU23+FX23+GA23+GD23+GG23+GJ23+GM23) -> 12 | GQ23: =SUM(FV23+FY23+GB23+GE23+GH23+GK23+GN23) -> 0 | GR23: =SUM(FW23+FZ23+GC23+GF23+GI23+GL23+GO23) -> 0 | GS23: 4 | GT23: 0 | GU23: 0 | GV23: 3 | GW23: 0 | GX23: 0 | GY23: 4 | GZ23: 0 | HA23: 0 | HB23: 3 | HC23: 0 | HD23: 0 | HE23: 3 | HF23: 0 | HG23: 0 | HN23: =SUM(GS23,GV23,GY23,HB23,HE23,HH23,HK23) -> 17 | HO23: =SUM(GT23,GW23,GZ23,HC23,HF23,HI23,HL23) -> 0 | HP23: =SUM(GU23,GX23,HA23,HD23,HG23,HJ23,HM23) -> 0 | HQ23: 5 | HR23: 0 | HS23: 1 | HT23: 4 | HU23: 0 | HV23: 2 | HW23: 3 | HX23: 0 | HY23: 0 | HZ23: 0 | IA23: 0 | IB23: 0 | IC23: 0 | ID23: 0 | IE23: 0 | IF23: =SUM(HQ23,HT23,HW23,HZ23,IC23) -> 12 | IG23: =SUM(HR23,HU23,HX23,IA23,ID23) -> 0 | IH23: =SUM(HS23,HV23,HY23,IB23,IE23) -> 3 | II23: 4 | IJ23: 0 | IK23: 0 | IL23: 3 | IM23: 0 | IN23: 1 | IO23: 3 | IP23: 0 | IQ23: 0 | IR23: 0 | IS23: 0 | IT23: 0 | IU23: 0 | IV23: 0 | IW23: 0 | IX23: =SUM(II23,IL23,IO23,IR23,IU23) -> 10 | IY23: =SUM(IJ23,IM23,IP23,IS23,IV23) -> 0 | IZ23: =SUM(IK23,IN23,IQ23,IT23,IW23) -> 1 | JA23: 6 | JB23: 0 | JC23: 1 | JD23: 5 | JE23: 0 | JF23: 1 | JG23: 4 | JH23: 0 | JI23: 1 | JJ23: 5 | JK23: 0 | JL23: 1 | JM23: 3 | JN23: 0 | JO23: 1 | JP23: 0 | JQ23: 0 | JR23: 0 | JS23: 0 | JT23: 0 | JU23: 0 | JV23: =SUM(JA23,JD23,JG23,JJ23,JM23,JP23,JS23) -> 23 | JW23: =SUM(JB23,JE23,JH23,JK23,JN23,JQ23,JT23) -> 0 | JX23: =SUM(JC23,JF23,JI23,JL23,JO23,JR23,JU23) -> 5
B25: строчку не удалять (считается автоматически) | D25: =SUM(D8:D23) -> 31 | E25: =SUM(E8:E23) -> 23 | F25: =SUM(F8:F23) -> 0 | G25: =SUM(G8:G23) -> 0 | H25: =SUM(H8:H23) -> 0 | I25: =SUM(I8:I23) -> 0 | J25: =SUM(J8:J23) -> 0 | K25: =SUM(K8:K23) -> 0 | ... JX25: =SUM(JX8:JX23) -> 5

Sheet Итоги участия_Ч_2
B2: Итоги участия в школьном этапе всероссийской олимпиады школьников 2025/2026 учебного года
B3: подается не позднее 24 ноября 2025 года на e-mail: etker.olimp@yandex.ru строго по этой форме
B4: Пятый, шестой и седьмой листы заполняются автоматически
A6: № | B6: Муниципальный/ Городской округ | C6: ОУ | D6: ТЕХНОЛОГИЯ | AB6: ФИЗИКА | AT6: ФИЗИЧЕСКАЯ КУЛЬТУРА | BR6: ХИМИЯ | CM6: ЭКОЛОГИЯ | DE6: ЭКОНОМИКА | DW6: АНГЛИЙСКИЙ ЯЗЫК | EU6: НЕМЕЦКИЙ ЯЗЫК | FM6: ФРАНЦУЗСКИЙ ЯЗЫК | GE6: КИТАЙСКИЙ ЯЗЫК | GT6: ИСПАНСКИЙ ЯЗЫК | HI6: ИТАЛЬЯНСКИЙ ЯЗЫК
B7: Указывается в каждой ячейке | C7: Указывается сокращенное название ОО (по УСТАВУ) | D7: 5 класс | G7: 6 класс | J7: 7 класс | M7: 8 класс | P7: 9 класс | S7: 10 класс | V7: 11 класс | Y7: всего по предмету | Z7: победители | AA7: призеры | AB7: 7 класс | AE7: 8 класс | AH7: 9 класс | AK7: 10 класс | AN7: 11 класс | AQ7: всего по предмету | AR7: победители | AS7: призеры | AT7: 5 класс | AW7: 6 класс | AZ7: 7 класс | BC7: 8 класс | BF7: 9 класс | BI7: 10 класс | BL7: 11 класс | BO7: всего по предмету | BP7: победители | BQ7: призеры | BR7: 6 класс | BU7: 7 класс | BX7: 8 класс | CA7: 9 класс | CD7: 10 класс | CG7: 11 класс | CJ7: всего по предмету | CK7: победители | CL7: призеры | CM7: 7 класс | CP7: 8 класс | CS7: 9 класс | CV7: 10 класс | CY7: 11 класс | DB7: всего по предмету | DC7: победители | DD7: призеры | DE7: 7 класс | DH7: 8 класс | DK7: 9 класс | DN7: 10 класс | DQ7: 11 класс | DT7: всего по предмету | DU7: победители | DV7: призеры | DW7: 5 класс | DZ7: 6 класс | EC7: 7 класс | EF7: 8 класс | EI7: 9 класс | EL7: 10 класс | EO7: 11 класс | ER7: всего по предмету | ES7: победители | ET7: призеры | EU7: 7 класс | EX7: 8 класс | FA7: 9 класс | FD7: 10 класс | FG7: 11 класс | FJ7: всего по предмету | FK7: победители | FL7: призеры | FM7: 7 класс | FP7: 8 класс | FS7: 9 класс | FV7: 10 класс | FY7: 11 класс | GB7: всего по предмету | GC7: победители | GD7: призеры | GE7: 8 класс | GH7: 9 класс | GK7: 10 класс | GN7: 11 класс | GQ7: всего по предмету | GR7: победители | GS7: призеры | GT7: 8 класс | GW7: 9 класс | GZ7: 10 класс | HC7: 11 класс | HF7: всего по предмету | HG7: победители | HH7: призеры | HI7: 8 класс | HL7: 9 класс | HO7: 10 класс | HR7: 11 класс | HU7: всего по предмету | HV7: победители | HW7: призеры
D8: всего участников | E8: П | F8: ПР | G8: всего участников | H8: П | I8: ПР | J8: всего участников | K8: П | L8: ПР | M8: всего участников | N8: П | O8: ПР | P8: всего участников | Q8: П | R8: ПР | S8: всего участников | T8: П | U8: ПР | V8: всего участников | W8: П | X8: ПР | Z8: П | AA8: ПР | AB8: всего участников | AC8: П | AD8: ПР | AE8: всего участников | AF8: П | AG8: ПР | AH8: всего участников | AI8: П | AJ8: ПР | AK8: всего участников | AL8: П | AM8: ПР | AN8: всего участников | AO8: П | AP8: ПР | AR8: П | AS8: ПР | AT8: всего участников | AU8: П | AV8: ПР | AW8: всего участников | AX8: П | AY8: ПР | AZ8: всего участников | BA8: П | BB8: ПР | BC8: всего участников | BD8: П | BE8: ПР | BF8: всего участников | BG8: П | BH8: ПР | BI8: всего участников | BJ8: П | BK8: ПР | BL8: всего участников | BM8: П | BN8: ПР | BP8: П | BQ8: ПР | BR8: всего участников | BS8: П | BT8: ПР | BU8: всего участников | BV8: П | BW8: ПР | BX8: всего участников | BY8: П | BZ8: ПР | CA8: всего участников | CB8: П | CC8: ПР | CD8: всего участников | CE8: П | CF8: ПР | CG8: всего участников | CH8: П | CI8: ПР | CK8: П | CL8: ПР | CM8: всего участников | CN8: П | CO8: ПР | CP8: всего участников | CQ8: П | CR8: ПР | CS8: всего участников | CT8: П | CU8: ПР | CV8: всего участников | CW8: П | CX8: ПР | CY8: всего участников | CZ8: П | DA8: ПР | DC8: П | DD8: ПР | DE8: всего участников | DF8: П | DG8: ПР | DH8: всего участников | DI8: П | DJ8: ПР | DK8: всего участников | DL8: П | DM8: ПР | DN8: всего участников | DO8: П | DP8: ПР | DQ8: всего участников | DR8: П | DS8: ПР | DU8: П | DV8: ПР | DW8: всего участников | DX8: П | DY8: ПР | DZ8: всего участников | EA8: П | EB8: ПР | EC8: всего участников | ED8: П | EE8: ПР | EF8: всего участников | EG8: П | EH8: ПР | EI8: всего участников | EJ8: П | EK8: ПР | EL8: всего участников | EM8: П | EN8: ПР | EO8: всего участников | EP8: П | EQ8: ПР | ES8: П | ET8: ПР | EU8: всего участников | EV8: П | EW8: ПР | EX8: всего участников | EY8: П | EZ8: ПР | FA8: всего участников | FB8: П | FC8: ПР | FD8: всего участников | FE8: П | FF8: ПР | FG8: всего участников | FH8: П | FI8: ПР | FK8: П | FL8: ПР | FM8: всего участников | FN8: П | FO8: ПР | FP8: всего участников | FQ8: П | FR8: ПР | FS8: всего участников | FT8: П | FU8: ПР | FV8: всего участников | FW8: П | FX8: ПР | FY8: всего участников | FZ8: П | GA8: ПР | GC8: П | GD8: ПР | GE8: всего участников | GF8: П | GG8: ПР | GH8: всего участников | GI8: П | GJ8: ПР | GK8: всего участников | GL8: П | GM8: ПР | GN8: всего участников | GO8: П | GP8: ПР | GR8: П | GS8: ПР | GT8: всего участников | GU8: П | GV8: ПР | GW8: всего участников | GX8: П | GY8: ПР | GZ8: всего участников | HA8: П | HB8: ПР | HC8: всего участников | HD8: П | HE8: ПР | HG8: П | HH8: ПР | HI8: всего участников | HJ8: П | HK8: ПР | HL8: всего участников | HM8: П | HN8: ПР | HO8: всего участников | HP8: П | HQ8: ПР | HR8: всего участников | HS8: П | HT8: ПР | HV8: П | HW8: ПР
A9: 1 | B9: Батыревский муниципальный округ | C9: МБОУ "Балабаш -Баишевская СОШ" | Y9: =SUM(D9,G9,J9,M9,P9,S9,V9) -> 0 | Z9: =SUM(E9,H9,K9,N9,Q9,T9,W9) -> 0 | AA9: =SUM(F9,I9,L9,O9,R9,U9,X9) -> 0 | AQ9: =SUM(AB9,AE9,AH9,AK9,AN9) -> 0 | AR9: =SUM(AC9,AF9,AI9,AL9,AO9) -> 0 | AS9: =SUM(AD9,AG9,AJ9,AM9,AP9) -> 0 | BO9: =SUM(AT9,AW9,AZ9,BC9,BF9,BI9,BL9) -> 0 | BP9: =SUM(AU9,AX9,BA9,BD9,BG9,BJ9,BM9) -> 0 | BQ9: =SUM(AV9,AY9,BB9,BE9,BH9,BK9,BN9) -> 0 | CJ9: =SUM(BR9,BU9,BX9,CA9,CD9,CG9) -> 0 | CK9: =SUM(BS9,BV9,BY9,CB9,CE9,CH9) -> 0 | CL9: =SUM(BT9,BW9,BZ9,CC9,CF9,CI9) -> 0 | DB9: =SUM(CM9,CP9,CS9,CV9,CY9) -> 0 | DC9: =SUM(CN9,CQ9,CT9,CW9,CZ9) -> 0 | DD9: =SUM(CO9,CR9,CU9,CX9,DA9) -> 0 | DT9: =SUM(DE9,DH9,DK9,DN9,DQ9) -> 0 | DU9: =SUM(DF9,DI9,DL9,DO9,DR9) -> 0 | DV9: =SUM(DG9,DJ9,DM9,DP9,DS9) -> 0 | ER9: =SUM(DW9,DZ9,EC9,EF9,EI9,EL9,EO9) -> 0 | ES9: =SUM(DX9,EA9,ED9,EG9,EJ9,EM9,EP9) -> 0 | ET9: =SUM(DY9,EB9,EE9,EH9,EK9,EN9,EQ9) -> 0 | FJ9: =SUM(EU9,EX9,FA9,FD9,FG9) -> 0 | FK9: =SUM(EV9,EY9,FB9,FE9,FH9) -> 0 | FL9: =SUM(EW9,EZ9,FC9,FF9,FI9) -> 0 | GB9: =SUM(FM9,FP9,FS9,FV9,FY9) -> 0 | GC9: =SUM(FN9,FQ9,FT9,FW9,FZ9) -> 0 | GD9: =SUM(FO9,FR9,FU9,FX9,GA9) -> 0 | GQ9: =SUM(GE9,GH9,GK9,GN9) -> 0 | GR9: =SUM(GF9,GI9,GL9,GO9) -> 0 | GS9: =SUM(GG9,GJ9,GM9,GP9) -> 0 | HF9: =SUM(GT9,GW9,GZ9,HC9) -> 0 | HG9: =SUM(GU9,GX9,HA9,HD9) -> 0 | HH9: =SUM(GV9,GY9,HB9,HE9) -> 0 | HU9: =SUM(HI9,HL9,HO9,HR9) -> 0 | HV9: =SUM(HJ9,HM9,HP9,HS9) -> 0 | HW9: =SUM(HK9,HN9,HQ9,HT9) -> 0
A10: 2 | B10: Батыревский муниципальный округ | C10: МАОУ "Батыревская СОШ №1" | Y10: =SUM(D10,G10,J10,M10,P10,S10,V10) -> 0 | Z10: =SUM(E10,H10,K10,N10,Q10,T10,W10) -> 0 | AA10: =SUM(F10,I10,L10,O10,R10,U10,X10) -> 0 | AQ10: =SUM(AB10,AE10,AH10,AK10,AN10) -> 0 | AR10: =SUM(AC10,AF10,AI10,AL10,AO10) -> 0 | AS10: =SUM(AD10,AG10,AJ10,AM10,AP10) -> 0 | BO10: =SUM(AT10,AW10,AZ10,BC10,BF10,BI10,BL10) -> 0 | BP10: =SUM(AU10,AX10,BA10,BD10,BG10,BJ10,BM10) -> 0 | BQ10: =SUM(AV10,AY10,BB10,BE10,BH10,BK10,BN10) -> 0 | CJ10: =SUM(BR10,BU10,BX10,CA10,CD10,CG10) -> 0 | CK10: =SUM(BS10,BV10,BY10,CB10,CE10,CH10) -> 0 | CL10: =SUM(BT10,BW10,BZ10,CC10,CF10,CI10) -> 0 | DB10: =SUM(CM10,CP10,CS10,CV10,CY10) -> 0 | DC10: =SUM(CN10,CQ10,CT10,CW10,CZ10) -> 0 | DD10: =SUM(CO10,CR10,CU10,CX10,DA10) -> 0 | DT10: =SUM(DE10,DH10,DK10,DN10,DQ10) -> 0 | DU10: =SUM(DF10,DI10,DL10,DO10,DR10) -> 0 | DV10: =SUM(DG10,DJ10,DM10,DP10,DS10) -> 0 | ER10: =SUM(DW10,DZ10,EC10,EF10,EI10,EL10,EO10) -> 0 | ES10: =SUM(DX10,EA10,ED10,EG10,EJ10,EM10,EP10) -> 0 | ET10: =SUM(DY10,EB10,EE10,EH10,EK10,EN10,EQ10) -> 0 | FJ10: =SUM(EU10,EX10,FA10,FD10,FG10) -> 0 | FK10: =SUM(EV10,EY10,FB10,FE10,FH10) -> 0 | FL10: =SUM(EW10,EZ10,FC10,FF10,FI10) -> 0 | GB10: =SUM(FM10,FP10,FS10,FV10,FY10) -> 0 | GC10: =SUM(FN10,FQ10,FT10,FW10,FZ10) -> 0 | GD10: =SUM(FO10,FR10,FU10,FX10,GA10) -> 0 | GQ10: =SUM(GE10,GH10,GK10,GN10) -> 0 | GR10: =SUM(GF10,GI10,GL10,GO10) -> 0 | GS10: =SUM(GG10,GJ10,GM10,GP10) -> 0 | HF10: =SUM(GT10,GW10,GZ10,HC10) -> 0 | HG10: =SUM(GU10,GX10,HA10,HD10) -> 0 | HH10: =SUM(GV10,GY10,HB10,HE10) -> 0 | HU10: =SUM(HI10,HL10,HO10,HR10) -> 0 | HV10: =SUM(HJ10,HM10,HP10,HS10) -> 0 | HW10: =SUM(HK10,HN10,HQ10,HT10) -> 0
A11: 3 | B11: Батыревский муниципальный округ | C11: МБОУ "Батыревская СОШ №2" | Y11: =SUM(D11,G11,J11,M11,P11,S11,V11) -> 0 | Z11: =SUM(E11,H11,K11,N11,Q11,T11,W11) -> 0 | AA11: =SUM(F11,I11,L11,O11,R11,U11,X11) -> 0 | AQ11: =SUM(AB11,AE11,AH11,AK11,AN11) -> 0 | AR11: =SUM(AC11,AF11,AI11,AL11,AO11) -> 0 | AS11: =SUM(AD11,AG11,AJ11,AM11,AP11) -> 0 | BO11: =SUM(AT11,AW11,AZ11,BC11,BF11,BI11,BL11) -> 0 | BP11: =SUM(AU11,AX11,BA11,BD11,BG11,BJ11,BM11) -> 0 | BQ11: =SUM(AV11,AY11,BB11,BE11,BH11,BK11,BN11) -> 0 | CJ11: =SUM(BR11,BU11,BX11,CA11,CD11,CG11) -> 0 | CK11: =SUM(BS11,BV11,BY11,CB11,CE11,CH11) -> 0 | CL11: =SUM(BT11,BW11,BZ11,CC11,CF11,CI11) -> 0 | DB11: =SUM(CM11,CP11,CS11,CV11,CY11) -> 0 | DC11: =SUM(CN11,CQ11,CT11,CW11,CZ11) -> 0 | DD11: =SUM(CO11,CR11,CU11,CX11,DA11) -> 0 | DT11: =SUM(DE11,DH11,DK11,DN11,DQ11) -> 0 | DU11: =SUM(DF11,DI11,DL11,DO11,DR11) -> 0 | DV11: =SUM(DG11,DJ11,DM11,DP11,DS11) -> 0 | ER11: =SUM(DW11,DZ11,EC11,EF11,EI11,EL11,EO11) -> 0 | ES11: =SUM(DX11,EA11,ED11,EG11,EJ11,EM11,EP11) -> 0 | ET11: =SUM(DY11,EB11,EE11,EH11,EK11,EN11,EQ11) -> 0 | FJ11: =SUM(EU11,EX11,FA11,FD11,FG11) -> 0 | FK11: =SUM(EV11,EY11,FB11,FE11,FH11) -> 0 | FL11: =SUM(EW11,EZ11,FC11,FF11,FI11) -> 0 | GB11: =SUM(FM11,FP11,FS11,FV11,FY11) -> 0 | GC11: =SUM(FN11,FQ11,FT11,FW11,FZ11) -> 0 | GD11: =SUM(FO11,FR11,FU11,FX11,GA11) -> 0 | GQ11: =SUM(GE11,GH11,GK11,GN11) -> 0 | GR11: =SUM(GF11,GI11,GL11,GO11) -> 0 | GS11: =SUM(GG11,GJ11,GM11,GP11) -> 0 | HF11: =SUM(GT11,GW11,GZ11,HC11) -> 0 | HG11: =SUM(GU11,GX11,HA11,HD11) -> 0 | HH11: =SUM(GV11,GY11,HB11,HE11) -> 0 | HU11: =SUM(HI11,HL11,HO11,HR11) -> 0 | HV11: =SUM(HJ11,HM11,HP11,HS11) -> 0 | HW11: =SUM(HK11,HN11,HQ11,HT11) -> 0
A12: 4 | B12: Батыревский муниципальный округ | C12: МБОУ "Большечеменевская СОШ" | Y12: =SUM(D12,G12,J12,M12,P12,S12,V12) -> 0 | Z12: =SUM(E12,H12,K12,N12,Q12,T12,W12) -> 0 | AA12: =SUM(F12,I12,L12,O12,R12,U12,X12) -> 0 | AQ12: =SUM(AB12,AE12,AH12,AK12,AN12) -> 0 | AR12: =SUM(AC12,AF12,AI12,AL12,AO12) -> 0 | AS12: =SUM(AD12,AG12,AJ12,AM12,AP12) -> 0 | BO12: =SUM(AT12,AW12,AZ12,BC12,BF12,BI12,BL12) -> 0 | BP12: =SUM(AU12,AX12,BA12,BD12,BG12,BJ12,BM12) -> 0 | BQ12: =SUM(AV12,AY12,BB12,BE12,BH12,BK12,BN12) -> 0 | CJ12: =SUM(BR12,BU12,BX12,CA12,CD12,CG12) -> 0 | CK12: =SUM(BS12,BV12,BY12,CB12,CE12,CH12) -> 0 | CL12: =SUM(BT12,BW12,BZ12,CC12,CF12,CI12) -> 0 | DB12: =SUM(CM12,CP12,CS12,CV12,CY12) -> 0 | DC12: =SUM(CN12,CQ12,CT12,CW12,CZ12) -> 0 | DD12: =SUM(CO12,CR12,CU12,CX12,DA12) -> 0 | DT12: =SUM(DE12,DH12,DK12,DN12,DQ12) -> 0 | DU12: =SUM(DF12,DI12,DL12,DO12,DR12) -> 0 | DV12: =SUM(DG12,DJ12,DM12,DP12,DS12) -> 0 | ER12: =SUM(DW12,DZ12,EC12,EF12,EI12,EL12,EO12) -> 0 | ES12: =SUM(DX12,EA12,ED12,EG12,EJ12,EM12,EP12) -> 0 | ET12: =SUM(DY12,EB12,EE12,EH12,EK12,EN12,EQ12) -> 0 | FJ12: =SUM(EU12,EX12,FA12,FD12,FG12) -> 0 | FK12: =SUM(EV12,EY12,FB12,FE12,FH12) -> 0 | FL12: =SUM(EW12,EZ12,FC12,FF12,FI12) -> 0 | GB12: =SUM(FM12,FP12,FS12,FV12,FY12) -> 0 | GC12: =SUM(FN12,FQ12,FT12,FW12,FZ12) -> 0 | GD12: =SUM(FO12,FR12,FU12,FX12,GA12) -> 0 | GQ12: =SUM(GE12,GH12,GK12,GN12) -> 0 | GR12: =SUM(GF12,GI12,GL12,GO12) -> 0 | GS12: =SUM(GG12,GJ12,GM12,GP12) -> 0 | HF12: =SUM(GT12,GW12,GZ12,HC12) -> 0 | HG12: =SUM(GU12,GX12,HA12,HD12) -> 0 | HH12: =SUM(GV12,GY12,HB12,HE12) -> 0 | HU12: =SUM(HI12,HL12,HO12,HR12) -> 0 | HV12: =SUM(HJ12,HM12,HP12,HS12) -> 0 | HW12: =SUM(HK12,HN12,HQ12,HT12) -> 0
A13: 5 | B13: Батыревский муниципальный округ | C13: МБОУ "Долгоостровская СОШ" | Y13: =SUM(D13,G13,J13,M13,P13,S13,V13) -> 0 | Z13: =SUM(E13,H13,K13,N13,Q13,T13,W13) -> 0 | AA13: =SUM(F13,I13,L13,O13,R13,U13,X13) -> 0 | AQ13: =SUM(AB13,AE13,AH13,AK13,AN13) -> 0 | AR13: =SUM(AC13,AF13,AI13,AL13,AO13) -> 0 | AS13: =SUM(AD13,AG13,AJ13,AM13,AP13) -> 0 | BO13: =SUM(AT13,AW13,AZ13,BC13,BF13,BI13,BL13) -> 0 | BP13: =SUM(AU13,AX13,BA13,BD13,BG13,BJ13,BM13) -> 0 | BQ13: =SUM(AV13,AY13,BB13,BE13,BH13,BK13,BN13) -> 0 | CJ13: =SUM(BR13,BU13,BX13,CA13,CD13,CG13) -> 0 | CK13: =SUM(BS13,BV13,BY13,CB13,CE13,CH13) -> 0 | CL13: =SUM(BT13,BW13,BZ13,CC13,CF13,CI13) -> 0 | DB13: =SUM(CM13,CP13,CS13,CV13,CY13) -> 0 | DC13: =SUM(CN13,CQ13,CT13,CW13,CZ13) -> 0 | DD13: =SUM(CO13,CR13,CU13,CX13,DA13) -> 0 | DT13: =SUM(DE13,DH13,DK13,DN13,DQ13) -> 0 | DU13: =SUM(DF13,DI13,DL13,DO13,DR13) -> 0 | DV13: =SUM(DG13,DJ13,DM13,DP13,DS13) -> 0 | ER13: =SUM(DW13,DZ13,EC13,EF13,EI13,EL13,EO13) -> 0 | ES13: =SUM(DX13,EA13,ED13,EG13,EJ13,EM13,EP13) -> 0 | ET13: =SUM(DY13,EB13,EE13,EH13,EK13,EN13,EQ13) -> 0 | FJ13: =SUM(EU13,EX13,FA13,FD13,FG13) -> 0 | FK13: =SUM(EV13,EY13,FB13,FE13,FH13) -> 0 | FL13: =SUM(EW13,EZ13,FC13,FF13,FI13) -> 0 | GB13: =SUM(FM13,FP13,FS13,FV13,FY13) -> 0 | GC13: =SUM(FN13,FQ13,FT13,FW13,FZ13) -> 0 | GD13: =SUM(FO13,FR13,FU13,FX13,GA13) -> 0 | GQ13: =SUM(GE13,GH13,GK13,GN13) -> 0 | GR13: =SUM(GF13,GI13,GL13,GO13) -> 0 | GS13: =SUM(GG13,GJ13,GM13,GP13) -> 0 | HF13: =SUM(GT13,GW13,GZ13,HC13) -> 0 | HG13: =SUM(GU13,GX13,HA13,HD13) -> 0 | HH13: =SUM(GV13,GY13,HB13,HE13) -> 0 | HU13: =SUM(HI13,HL13,HO13,HR13) -> 0 | HV13: =SUM(HJ13,HM13,HP13,HS13) -> 0 | HW13: =SUM(HK13,HN13,HQ13,HT13) -> 0
A14: 6 | B14: Батыревский муниципальный округ | C14: МБОУ "Норваш Шигалинская СОШ" | Y14: =SUM(D14,G14,J14,M14,P14,S14,V14) -> 0 | Z14: =SUM(E14,H14,K14,N14,Q14,T14,W14) -> 0 | AA14: =SUM(F14,I14,L14,O14,R14,U14,X14) -> 0 | AQ14: =SUM(AB14,AE14,AH14,AK14,AN14) -> 0 | AR14: =SUM(AC14,AF14,AI14,AL14,AO14) -> 0 | AS14: =SUM(AD14,AG14,AJ14,AM14,AP14) -> 0 | BO14: =SUM(AT14,AW14,AZ14,BC14,BF14,BI14,BL14) -> 0 | BP14: =SUM(AU14,AX14,BA14,BD14,BG14,BJ14,BM14) -> 0 | BQ14: =SUM(AV14,AY14,BB14,BE14,BH14,BK14,BN14) -> 0 | CJ14: =SUM(BR14,BU14,BX14,CA14,CD14,CG14) -> 0 | CK14: =SUM(BS14,BV14,BY14,CB14,CE14,CH14) -> 0 | CL14: =SUM(BT14,BW14,BZ14,CC14,CF14,CI14) -> 0 | DB14: =SUM(CM14,CP14,CS14,CV14,CY14) -> 0 | DC14: =SUM(CN14,CQ14,CT14,CW14,CZ14) -> 0 | DD14: =SUM(CO14,CR14,CU14,CX14,DA14) -> 0 | DT14: =SUM(DE14,DH14,DK14,DN14,DQ14) -> 0 | DU14: =SUM(DF14,DI14,DL14,DO14,DR14) -> 0 | DV14: =SUM(DG14,DJ14,DM14,DP14,DS14) -> 0 | ER14: =SUM(DW14,DZ14,EC14,EF14,EI14,EL14,EO14) -> 0 | ES14: =SUM(DX14,EA14,ED14,EG14,EJ14,EM14,EP14) -> 0 | ET14: =SUM(DY14,EB14,EE14,EH14,EK14,EN14,EQ14) -> 0 | FJ14: =SUM(EU14,EX14,FA14,FD14,FG14) -> 0 | FK14: =SUM(EV14,EY14,FB14,FE14,FH14) -> 0 | FL14: =SUM(EW14,EZ14,FC14,FF14,FI14) -> 0 | GB14: =SUM(FM14,FP14,FS14,FV14,FY14) -> 0 | GC14: =SUM(FN14,FQ14,FT14,FW14,FZ14) -> 0 | GD14: =SUM(FO14,FR14,FU14,FX14,GA14) -> 0 | GQ14: =SUM(GE14,GH14,GK14,GN14) -> 0 | GR14: =SUM(GF14,GI14,GL14,GO14) -> 0 | GS14: =SUM(GG14,GJ14,GM14,GP14) -> 0 | HF14: =SUM(GT14,GW14,GZ14,HC14) -> 0 | HG14: =SUM(GU14,GX14,HA14,HD14) -> 0 | HH14: =SUM(GV14,GY14,HB14,HE14) -> 0 | HU14: =SUM(HI14,HL14,HO14,HR14) -> 0 | HV14: =SUM(HJ14,HM14,HP14,HS14) -> 0 | HW14: =SUM(HK14,HN14,HQ14,HT14) -> 0
A15: 7 | B15: Батыревский муниципальный округ | C15: МБОУ "Первомайская СОШ имени В.Митты" | Y15: =SUM(D15,G15,J15,M15,P15,S15,V15) -> 0 | Z15: =SUM(E15,H15,K15,N15,Q15,T15,W15) -> 0 | AA15: =SUM(F15,I15,L15,O15,R15,U15,X15) -> 0 | AQ15: =SUM(AB15,AE15,AH15,AK15,AN15) -> 0 | AR15: =SUM(AC15,AF15,AI15,AL15,AO15) -> 0 | AS15: =SUM(AD15,AG15,AJ15,AM15,AP15) -> 0 | BO15: =SUM(AT15,AW15,AZ15,BC15,BF15,BI15,BL15) -> 0 | BP15: =SUM(AU15,AX15,BA15,BD15,BG15,BJ15,BM15) -> 0 | BQ15: =SUM(AV15,AY15,BB15,BE15,BH15,BK15,BN15) -> 0 | CJ15: =SUM(BR15,BU15,BX15,CA15,CD15,CG15) -> 0 | CK15: =SUM(BS15,BV15,BY15,CB15,CE15,CH15) -> 0 | CL15: =SUM(BT15,BW15,BZ15,CC15,CF15,CI15) -> 0 | DB15: =SUM(CM15,CP15,CS15,CV15,CY15) -> 0 | DC15: =SUM(CN15,CQ15,CT15,CW15,CZ15) -> 0 | DD15: =SUM(CO15,CR15,CU15,CX15,DA15) -> 0 | DT15: =SUM(DE15,DH15,DK15,DN15,DQ15) -> 0 | DU15: =SUM(DF15,DI15,DL15,DO15,DR15) -> 0 | DV15: =SUM(DG15,DJ15,DM15,DP15,DS15) -> 0 | ER15: =SUM(DW15,DZ15,EC15,EF15,EI15,EL15,EO15) -> 0 | ES15: =SUM(DX15,EA15,ED15,EG15,EJ15,EM15,EP15) -> 0 | ET15: =SUM(DY15,EB15,EE15,EH15,EK15,EN15,EQ15) -> 0 | FJ15: =SUM(EU15,EX15,FA15,FD15,FG15) -> 0 | FK15: =SUM(EV15,EY15,FB15,FE15,FH15) -> 0 | FL15: =SUM(EW15,EZ15,FC15,FF15,FI15) -> 0 | GB15: =SUM(FM15,FP15,FS15,FV15,FY15) -> 0 | GC15: =SUM(FN15,FQ15,FT15,FW15,FZ15) -> 0 | GD15: =SUM(FO15,FR15,FU15,FX15,GA15) -> 0 | GQ15: =SUM(GE15,GH15,GK15,GN15) -> 0 | GR15: =SUM(GF15,GI15,GL15,GO15) -> 0 | GS15: =SUM(GG15,GJ15,GM15,GP15) -> 0 | HF15: =SUM(GT15,GW15,GZ15,HC15) -> 0 | HG15: =SUM(GU15,GX15,HA15,HD15) -> 0 | HH15: =SUM(GV15,GY15,HB15,HE15) -> 0 | HU15: =SUM(HI15,HL15,HO15,HR15) -> 0 | HV15: =SUM(HJ15,HM15,HP15,HS15) -> 0 | HW15: =SUM(HK15,HN15,HQ15,HT15) -> 0
A16: 8 | B16: Батыревский муниципальный округ | C16: МБОУ "Полевобикшикская СОШ" | Y16: =SUM(D16,G16,J16,M16,P16,S16,V16) -> 0 | Z16: =SUM(E16,H16,K16,N16,Q16,T16,W16) -> 0 | AA16: =SUM(F16,I16,L16,O16,R16,U16,X16) -> 0 | AQ16: =SUM(AB16,AE16,AH16,AK16,AN16) -> 0 | AR16: =SUM(AC16,AF16,AI16,AL16,AO16) -> 0 | AS16: =SUM(AD16,AG16,AJ16,AM16,AP16) -> 0 | BO16: =SUM(AT16,AW16,AZ16,BC16,BF16,BI16,BL16) -> 0 | BP16: =SUM(AU16,AX16,BA16,BD16,BG16,BJ16,BM16) -> 0 | BQ16: =SUM(AV16,AY16,BB16,BE16,BH16,BK16,BN16) -> 0 | CJ16: =SUM(BR16,BU16,BX16,CA16,CD16,CG16) -> 0 | CK16: =SUM(BS16,BV16,BY16,CB16,CE16,CH16) -> 0 | CL16: =SUM(BT16,BW16,BZ16,CC16,CF16,CI16) -> 0 | DB16: =SUM(CM16,CP16,CS16,CV16,CY16) -> 0 | DC16: =SUM(CN16,CQ16,CT16,CW16,CZ16) -> 0 | DD16: =SUM(CO16,CR16,CU16,CX16,DA16) -> 0 | DT16: =SUM(DE16,DH16,DK16,DN16,DQ16) -> 0 | DU16: =SUM(DF16,DI16,DL16,DO16,DR16) -> 0 | DV16: =SUM(DG16,DJ16,DM16,DP16,DS16) -> 0 | ER16: =SUM(DW16,DZ16,EC16,EF16,EI16,EL16,EO16) -> 0 | ES16: =SUM(DX16,EA16,ED16,EG16,EJ16,EM16,EP16) -> 0 | ET16: =SUM(DY16,EB16,EE16,EH16,EK16,EN16,EQ16) -> 0 | FJ16: =SUM(EU16,EX16,FA16,FD16,FG16) -> 0 | FK16: =SUM(EV16,EY16,FB16,FE16,FH16) -> 0 | FL16: =SUM(EW16,EZ16,FC16,FF16,FI16) -> 0 | GB16: =SUM(FM16,FP16,FS16,FV16,FY16) -> 0 | GC16: =SUM(FN16,FQ16,FT16,FW16,FZ16) -> 0 | GD16: =SUM(FO16,FR16,FU16,FX16,GA16) -> 0 | GQ16: =SUM(GE16,GH16,GK16,GN16) -> 0 | GR16: =SUM(GF16,GI16,GL16,GO16) -> 0 | GS16: =SUM(GG16,GJ16,GM16,GP16) -> 0 | HF16: =SUM(GT16,GW16,GZ16,HC16) -> 0 | HG16: =SUM(GU16,GX16,HA16,HD16) -> 0 | HH16: =SUM(GV16,GY16,HB16,HE16) -> 0 | HU16: =SUM(HI16,HL16,HO16,HR16) -> 0 | HV16: =SUM(HJ16,HM16,HP16,HS16) -> 0 | HW16: =SUM(HK16,HN16,HQ16,HT16) -> 0
A17: 9 | B17: Батыревский муниципальный округ | C17: МАОУ "Сугутская СОШ" | Y17: =SUM(D17,G17,J17,M17,P17,S17,V17) -> 0 | Z17: =SUM(E17,H17,K17,N17,Q17,T17,W17) -> 0 | AA17: =SUM(F17,I17,L17,O17,R17,U17,X17) -> 0 | AQ17: =SUM(AB17,AE17,AH17,AK17,AN17) -> 0 | AR17: =SUM(AC17,AF17,AI17,AL17,AO17) -> 0 | AS17: =SUM(AD17,AG17,AJ17,AM17,AP17) -> 0 | BO17: =SUM(AT17,AW17,AZ17,BC17,BF17,BI17,BL17) -> 0 | BP17: =SUM(AU17,AX17,BA17,BD17,BG17,BJ17,BM17) -> 0 | BQ17: =SUM(AV17,AY17,BB17,BE17,BH17,BK17,BN17) -> 0 | CJ17: =SUM(BR17,BU17,BX17,CA17,CD17,CG17) -> 0 | CK17: =SUM(BS17,BV17,BY17,CB17,CE17,CH17) -> 0 | CL17: =SUM(BT17,BW17,BZ17,CC17,CF17,CI17) -> 0 | DB17: =SUM(CM17,CP17,CS17,CV17,CY17) -> 0 | DC17: =SUM(CN17,CQ17,CT17,CW17,CZ17) -> 0 | DD17: =SUM(CO17,CR17,CU17,CX17,DA17) -> 0 | DT17: =SUM(DE17,DH17,DK17,DN17,DQ17) -> 0 | DU17: =SUM(DF17,DI17,DL17,DO17,DR17) -> 0 | DV17: =SUM(DG17,DJ17,DM17,DP17,DS17) -> 0 | ER17: =SUM(DW17,DZ17,EC17,EF17,EI17,EL17,EO17) -> 0 | ES17: =SUM(DX17,EA17,ED17,EG17,EJ17,EM17,EP17) -> 0 | ET17: =SUM(DY17,EB17,EE17,EH17,EK17,EN17,EQ17) -> 0 | FJ17: =SUM(EU17,EX17,FA17,FD17,FG17) -> 0 | FK17: =SUM(EV17,EY17,FB17,FE17,FH17) -> 0 | FL17: =SUM(EW17,EZ17,FC17,FF17,FI17) -> 0 | GB17: =SUM(FM17,FP17,FS17,FV17,FY17) -> 0 | GC17: =SUM(FN17,FQ17,FT17,FW17,FZ17) -> 0 | GD17: =SUM(FO17,FR17,FU17,FX17,GA17) -> 0 | GQ17: =SUM(GE17,GH17,GK17,GN17) -> 0 | GR17: =SUM(GF17,GI17,GL17,GO17) -> 0 | GS17: =SUM(GG17,GJ17,GM17,GP17) -> 0 | HF17: =SUM(GT17,GW17,GZ17,HC17) -> 0 | HG17: =SUM(GU17,GX17,HA17,HD17) -> 0 | HH17: =SUM(GV17,GY17,HB17,HE17) -> 0 | HU17: =SUM(HI17,HL17,HO17,HR17) -> 0 | HV17: =SUM(HJ17,HM17,HP17,HS17) -> 0 | HW17: =SUM(HK17,HN17,HQ17,HT17) -> 0
A18: 10 | B18: Батыревский муниципальный округ | C18: МБОУ "Тарханская СОШ" | Y18: =SUM(D18,G18,J18,M18,P18,S18,V18) -> 0 | Z18: =SUM(E18,H18,K18,N18,Q18,T18,W18) -> 0 | AA18: =SUM(F18,I18,L18,O18,R18,U18,X18) -> 0 | AQ18: =SUM(AB18,AE18,AH18,AK18,AN18) -> 0 | AR18: =SUM(AC18,AF18,AI18,AL18,AO18) -> 0 | AS18: =SUM(AD18,AG18,AJ18,AM18,AP18) -> 0 | BO18: =SUM(AT18,AW18,AZ18,BC18,BF18,BI18,BL18) -> 0 | BP18: =SUM(AU18,AX18,BA18,BD18,BG18,BJ18,BM18) -> 0 | BQ18: =SUM(AV18,AY18,BB18,BE18,BH18,BK18,BN18) -> 0 | CJ18: =SUM(BR18,BU18,BX18,CA18,CD18,CG18) -> 0 | CK18: =SUM(BS18,BV18,BY18,CB18,CE18,CH18) -> 0 | CL18: =SUM(BT18,BW18,BZ18,CC18,CF18,CI18) -> 0 | DB18: =SUM(CM18,CP18,CS18,CV18,CY18) -> 0 | DC18: =SUM(CN18,CQ18,CT18,CW18,CZ18) -> 0 | DD18: =SUM(CO18,CR18,CU18,CX18,DA18) -> 0 | DT18: =SUM(DE18,DH18,DK18,DN18,DQ18) -> 0 | DU18: =SUM(DF18,DI18,DL18,DO18,DR18) -> 0 | DV18: =SUM(DG18,DJ18,DM18,DP18,DS18) -> 0 | ER18: =SUM(DW18,DZ18,EC18,EF18,EI18,EL18,EO18) -> 0 | ES18: =SUM(DX18,EA18,ED18,EG18,EJ18,EM18,EP18) -> 0 | ET18: =SUM(DY18,EB18,EE18,EH18,EK18,EN18,EQ18) -> 0 | FJ18: =SUM(EU18,EX18,FA18,FD18,FG18) -> 0 | FK18: =SUM(EV18,EY18,FB18,FE18,FH18) -> 0 | FL18: =SUM(EW18,EZ18,FC18,FF18,FI18) -> 0 | GB18: =SUM(FM18,FP18,FS18,FV18,FY18) -> 0 | GC18: =SUM(FN18,FQ18,FT18,FW18,FZ18) -> 0 | GD18: =SUM(FO18,FR18,FU18,FX18,GA18) -> 0 | GQ18: =SUM(GE18,GH18,GK18,GN18) -> 0 | GR18: =SUM(GF18,GI18,GL18,GO18) -> 0 | GS18: =SUM(GG18,GJ18,GM18,GP18) -> 0 | HF18: =SUM(GT18,GW18,GZ18,HC18) -> 0 | HG18: =SUM(GU18,GX18,HA18,HD18) -> 0 | HH18: =SUM(GV18,GY18,HB18,HE18) -> 0 | HU18: =SUM(HI18,HL18,HO18,HR18) -> 0 | HV18: =SUM(HJ18,HM18,HP18,HS18) -> 0 | HW18: =SUM(HK18,HN18,HQ18,HT18) -> 0
A19: 11 | B19: Батыревский муниципальный округ | C19: МАОУ "Татарско-Сугутская СОШ" | Y19: =SUM(D19,G19,J19,M19,P19,S19,V19) -> 0 | Z19: =SUM(E19,H19,K19,N19,Q19,T19,W19) -> 0 | AA19: =SUM(F19,I19,L19,O19,R19,U19,X19) -> 0 | AQ19: =SUM(AB19,AE19,AH19,AK19,AN19) -> 0 | AR19: =SUM(AC19,AF19,AI19,AL19,AO19) -> 0 | AS19: =SUM(AD19,AG19,AJ19,AM19,AP19) -> 0 | BO19: =SUM(AT19,AW19,AZ19,BC19,BF19,BI19,BL19) -> 0 | BP19: =SUM(AU19,AX19,BA19,BD19,BG19,BJ19,BM19) -> 0 | BQ19: =SUM(AV19,AY19,BB19,BE19,BH19,BK19,BN19) -> 0 | CJ19: =SUM(BR19,BU19,BX19,CA19,CD19,CG19) -> 0 | CK19: =SUM(BS19,BV19,BY19,CB19,CE19,CH19) -> 0 | CL19: =SUM(BT19,BW19,BZ19,CC19,CF19,CI19) -> 0 | DB19: =SUM(CM19,CP19,CS19,CV19,CY19) -> 0 | DC19: =SUM(CN19,CQ19,CT19,CW19,CZ19) -> 0 | DD19: =SUM(CO19,CR19,CU19,CX19,DA19) -> 0 | DT19: =SUM(DE19,DH19,DK19,DN19,DQ19) -> 0 | DU19: =SUM(DF19,DI19,DL19,DO19,DR19) -> 0 | DV19: =SUM(DG19,DJ19,DM19,DP19,DS19) -> 0 | ER19: =SUM(DW19,DZ19,EC19,EF19,EI19,EL19,EO19) -> 0 | ES19: =SUM(DX19,EA19,ED19,EG19,EJ19,EM19,EP19) -> 0 | ET19: =SUM(DY19,EB19,EE19,EH19,EK19,EN19,EQ19) -> 0 | FJ19: =SUM(EU19,EX19,FA19,FD19,FG19) -> 0 | FK19: =SUM(EV19,EY19,FB19,FE19,FH19) -> 0 | FL19: =SUM(EW19,EZ19,FC19,FF19,FI19) -> 0 | GB19: =SUM(FM19,FP19,FS19,FV19,FY19) -> 0 | GC19: =SUM(FN19,FQ19,FT19,FW19,FZ19) -> 0 | GD19: =SUM(FO19,FR19,FU19,FX19,GA19) -> 0 | GQ19: =SUM(GE19,GH19,GK19,GN19) -> 0 | GR19: =SUM(GF19,GI19,GL19,GO19) -> 0 | GS19: =SUM(GG19,GJ19,GM19,GP19) -> 0 | HF19: =SUM(GT19,GW19,GZ19,HC19) -> 0 | HG19: =SUM(GU19,GX19,HA19,HD19) -> 0 | HH19: =SUM(GV19,GY19,HB19,HE19) -> 0 | HU19: =SUM(HI19,HL19,HO19,HR19) -> 0 | HV19: =SUM(HJ19,HM19,HP19,HS19) -> 0 | HW19: =SUM(HK19,HN19,HQ19,HT19) -> 0
A20: 12 | B20: Батыревский муниципальный округ | C20: МБОУ "Тойсинская СОШ" | Y20: =SUM(D20,G20,J20,M20,P20,S20,V20) -> 0 | Z20: =SUM(E20,H20,K20,N20,Q20,T20,W20) -> 0 | AA20: =SUM(F20,I20,L20,O20,R20,U20,X20) -> 0 | AQ20: =SUM(AB20,AE20,AH20,AK20,AN20) -> 0 | AR20: =SUM(AC20,AF20,AI20,AL20,AO20) -> 0 | AS20: =SUM(AD20,AG20,AJ20,AM20,AP20) -> 0 | BO20: =SUM(AT20,AW20,AZ20,BC20,BF20,BI20,BL20) -> 0 | BP20: =SUM(AU20,AX20,BA20,BD20,BG20,BJ20,BM20) -> 0 | BQ20: =SUM(AV20,AY20,BB20,BE20,BH20,BK20,BN20) -> 0 | CJ20: =SUM(BR20,BU20,BX20,CA20,CD20,CG20) -> 0 | CK20: =SUM(BS20,BV20,BY20,CB20,CE20,CH20) -> 0 | CL20: =SUM(BT20,BW20,BZ20,CC20,CF20,CI20) -> 0 | DB20: =SUM(CM20,CP20,CS20,CV20,CY20) -> 0 | DC20: =SUM(CN20,CQ20,CT20,CW20,CZ20) -> 0 | DD20: =SUM(CO20,CR20,CU20,CX20,DA20) -> 0 | DT20: =SUM(DE20,DH20,DK20,DN20,DQ20) -> 0 | DU20: =SUM(DF20,DI20,DL20,DO20,DR20) -> 0 | DV20: =SUM(DG20,DJ20,DM20,DP20,DS20) -> 0 | ER20: =SUM(DW20,DZ20,EC20,EF20,EI20,EL20,EO20) -> 0 | ES20: =SUM(DX20,EA20,ED20,EG20,EJ20,EM20,EP20) -> 0 | ET20: =SUM(DY20,EB20,EE20,EH20,EK20,EN20,EQ20) -> 0 | FJ20: =SUM(EU20,EX20,FA20,FD20,FG20) -> 0 | FK20: =SUM(EV20,EY20,FB20,FE20,FH20) -> 0 | FL20: =SUM(EW20,EZ20,FC20,FF20,FI20) -> 0 | GB20: =SUM(FM20,FP20,FS20,FV20,FY20) -> 0 | GC20: =SUM(FN20,FQ20,FT20,FW20,FZ20) -> 0 | GD20: =SUM(FO20,FR20,FU20,FX20,GA20) -> 0 | GQ20: =SUM(GE20,GH20,GK20,GN20) -> 0 | GR20: =SUM(GF20,GI20,GL20,GO20) -> 0 | GS20: =SUM(GG20,GJ20,GM20,GP20) -> 0 | HF20: =SUM(GT20,GW20,GZ20,HC20) -> 0 | HG20: =SUM(GU20,GX20,HA20,HD20) -> 0 | HH20: =SUM(GV20,GY20,HB20,HE20) -> 0 | HU20: =SUM(HI20,HL20,HO20,HR20) -> 0 | HV20: =SUM(HJ20,HM20,HP20,HS20) -> 0 | HW20: =SUM(HK20,HN20,HQ20,HT20) -> 0
... A23: 15 | B23: Батыревский муниципальный округ | C23: МБОУ "Новоахпердинская ООШ" | Y23: =SUM(D23,G23,J23,M23,P23,S23,V23) -> 0 | Z23: =SUM(E23,H23,K23,N23,Q23,T23,W23) -> 0 | AA23: =SUM(F23,I23,L23,O23,R23,U23,X23) -> 0 | AQ23: =SUM(AB23,AE23,AH23,AK23,AN23) -> 0 | AR23: =SUM(AC23,AF23,AI23,AL23,AO23) -> 0 | AS23: =SUM(AD23,AG23,AJ23,AM23,AP23) -> 0 | BO23: =SUM(AT23,AW23,AZ23,BC23,BF23,BI23,BL23) -> 0 | BP23: =SUM(AU23,AX23,BA23,BD23,BG23,BJ23,BM23) -> 0 | BQ23: =SUM(AV23,AY23,BB23,BE23,BH23,BK23,BN23) -> 0 | CJ23: =SUM(BR23,BU23,BX23,CA23,CD23,CG23) -> 0 | CK23: =SUM(BS23,BV23,BY23,CB23,CE23,CH23) -> 0 | CL23: =SUM(BT23,BW23,BZ23,CC23,CF23,CI23) -> 0 | DB23: =SUM(CM23,CP23,CS23,CV23,CY23) -> 0 | DC23: =SUM(CN23,CQ23,CT23,CW23,CZ23) -> 0 | DD23: =SUM(CO23,CR23,CU23,CX23,DA23) -> 0 | DT23: =SUM(DE23,DH23,DK23,DN23,DQ23) -> 0 | DU23: =SUM(DF23,DI23,DL23,DO23,DR23) -> 0 | DV23: =SUM(DG23,DJ23,DM23,DP23,DS23) -> 0 | ER23: =SUM(DW23,DZ23,EC23,EF23,EI23,EL23,EO23) -> 0 | ES23: =SUM(DX23,EA23,ED23,EG23,EJ23,EM23,EP23) -> 0 | ET23: =SUM(DY23,EB23,EE23,EH23,EK23,EN23,EQ23) -> 0 | FJ23: =SUM(EU23,EX23,FA23,FD23,FG23) -> 0 | FK23: =SUM(EV23,EY23,FB23,FE23,FH23) -> 0 | FL23: =SUM(EW23,EZ23,FC23,FF23,FI23) -> 0 | GB23: =SUM(FM23,FP23,FS23,FV23,FY23) -> 0 | GC23: =SUM(FN23,FQ23,FT23,FW23,FZ23) -> 0 | GD23: =SUM(FO23,FR23,FU23,FX23,GA23) -> 0 | GQ23: =SUM(GE23,GH23,GK23,GN23) -> 0 | GR23: =SUM(GF23,GI23,GL23,GO23) -> 0 | GS23: =SUM(GG23,GJ23,GM23,GP23) -> 0 | HF23: =SUM(GT23,GW23,GZ23,HC23) -> 0 | HG23: =SUM(GU23,GX23,HA23,HD23) -> 0 | HH23: =SUM(GV23,GY23,HB23,HE23) -> 0 | HU23: =SUM(HI23,HL23,HO23,HR23) -> 0 | HV23: =SUM(HJ23,HM23,HP23,HS23) -> 0 | HW23: =SUM(HK23,HN23,HQ23,HT23) -> 0
A24: 16 | B24: Батыревский муниципальный округ | C24: МБОУ "Шаймурзинская ООШ имени Г.Айги" | D24: 3 | E24: 0 | F24: 0 | G24: 4 | H24: 0 | I24: 0 | J24: 5 | K24: 0 | L24: 0 | M24: 4 | N24: 0 | O24: 1 | P24: 3 | Q24: 0 | R24: 1 | S24: 0 | T24: 0 | U24: 0 | V24: 0 | W24: 0 | X24: 0 | Y24: =SUM(D24,G24,J24,M24,P24,S24,V24) -> 19 | Z24: =SUM(E24,H24,K24,N24,Q24,T24,W24) -> 0 | AA24: =SUM(F24,I24,L24,O24,R24,U24,X24) -> 2 | AB24: 1 | AC24: 0 | AD24: 0 | AE24: 0 | AF24: 0 | AG24: 0 | AH24: 1 | AI24: 0 | AJ24: 0 | AK24: 0 | AL24: 0 | AM24: 0 | AN24: 0 | AO24: 0 | AP24: 0 | AQ24: =SUM(AB24,AE24,AH24,AK24,AN24) -> 2 | AR24: =SUM(AC24,AF24,AI24,AL24,AO24) -> 0 | AS24: =SUM(AD24,AG24,AJ24,AM24,AP24) -> 0 | AT24: 2 | AU24: 0 | AV24: 0 | AW24: 3 | AX24: 0 | AY24: 0 | AZ24: 4 | BA24: 0 | BB24: 0 | BC24: 3 | BD24: 0 | BE24: 0 | BF24: 3 | BG24: 0 | BH24: 0 | BI24: 0 | BJ24: 0 | BK24: 0 | BL24: 0 | BM24: 0 | BN24: 0 | BO24: =SUM(AT24,AW24,AZ24,BC24,BF24,BI24,BL24) -> 15 | BP24: =SUM(AU24,AX24,BA24,BD24,BG24,BJ24,BM24) -> 0 | BQ24: =SUM(AV24,AY24,BB24,BE24,BH24,BK24,BN24) -> 0 | BR24: 0 | BS24: 0 | BT24: 0 | BU24: 0 | BV24: 0 | BW24: 0 | BX24: 2 | BY24: 0 | BZ24: 0 | CA24: 1 | CB24: 0 | CC24: 0 | CD24: 0 | CE24: 0 | CF24: 0 | CG24: 0 | CH24: 0 | CI24: 0 | CJ24: =SUM(BR24,BU24,BX24,CA24,CD24,CG24) -> 3 | CK24: =SUM(BS24,BV24,BY24,CB24,CE24,CH24) -> 0 | CL24: =SUM(BT24,BW24,BZ24,CC24,CF24,CI24) -> 0 | CM24: 3 | CN24: 0 | CO24: 0 | CP24: 4 | CQ24: 0 | CR24: 0 | CS24: 2 | CT24: 0 | CU24: 0 | CV24: 0 | CW24: 0 | CX24: 0 | CY24: 0 | CZ24: 0 | DA24: 0 | DB24: =SUM(CM24,CP24,CS24,CV24,CY24) -> 9 | DC24: =SUM(CN24,CQ24,CT24,CW24,CZ24) -> 0 | DD24: =SUM(CO24,CR24,CU24,CX24,DA24) -> 0 | DE24: 0 | DF24: 0 | DG24: 0 | DH24: 2 | DI24: 0 | DJ24: 0 | DK24: 1 | DL24: 0 | DM24: 0 | DN24: 0 | DO24: 0 | DP24: 0 | DQ24: 0 | DR24: 0 | DS24: 0 | DT24: =SUM(DE24,DH24,DK24,DN24,DQ24) -> 3 | DU24: =SUM(DF24,DI24,DL24,DO24,DR24) -> 0 | DV24: =SUM(DG24,DJ24,DM24,DP24,DS24) -> 0 | DW24: 6 | DX24: 0 | DY24: 1 | DZ24: 5 | EA24: 0 | EB24: 1 | EC24: 4 | ED24: 0 | EE24: 1 | EF24: 5 | EG24: 0 | EH24: 1 | EI24: 3 | EJ24: 0 | EK24: 1 | EL24: 0 | EM24: 0 | EN24: 0 | EO24: 0 | EP24: 0 | EQ24: 0 | ER24: =SUM(DW24,DZ24,EC24,EF24,EI24,EL24,EO24) -> 23 | ES24: =SUM(DX24,EA24,ED24,EG24,EJ24,EM24,EP24) -> 0 | ET24: =SUM(DY24,EB24,EE24,EH24,EK24,EN24,EQ24) -> 5 | FJ24: =SUM(EU24,EX24,FA24,FD24,FG24) -> 0 | FK24: =SUM(EV24,EY24,FB24,FE24,FH24) -> 0 | FL24: =SUM(EW24,EZ24,FC24,FF24,FI24) -> 0 | GB24: =SUM(FM24,FP24,FS24,FV24,FY24) -> 0 | GC24: =SUM(FN24,FQ24,FT24,FW24,FZ24) -> 0 | GD24: =SUM(FO24,FR24,FU24,FX24,GA24) -> 0 | GQ24: =SUM(GE24,GH24,GK24,GN24) -> 0 | GR24: =SUM(GF24,GI24,GL24,GO24) -> 0 | GS24: =SUM(GG24,GJ24,GM24,GP24) -> 0 | HF24: =SUM(GT24,GW24,GZ24,HC24) -> 0 | HG24: =SUM(GU24,GX24,HA24,HD24) -> 0 | HH24: =SUM(GV24,GY24,HB24,HE24) -> 0 | HU24: =SUM(HI24,HL24,HO24,HR24) -> 0 | HV24: =SUM(HJ24,HM24,HP24,HS24) -> 0 | HW24: =SUM(HK24,HN24,HQ24,HT24) -> 0
B26: строчку не удалять (считается автоматически) | D26: =SUM(D9:D24) -> 3 | E26: =SUM(E9:E24) -> 0 | F26: =SUM(F9:F24) -> 0 | G26: =SUM(G9:G24) -> 4 | H26: =SUM(H9:H24) -> 0 | I26: =SUM(I9:I24) -> 0 | J26: =SUM(J9:J24) -> 5 | K26: =SUM(K9:K24) -> 0 | ... HW26: =SUM(HW9:HW24) -> 0

Sheet Итоги по ОО Информатика
B1: Итоги школьного этапа всероссийской олимпиады школьников по профилям предмета Информатика 2025/2026 учебного года
A3: № | B3: Муниципальный/ городской округ* Чувашской Республики | C3: Образовательная организация (указывается сокращенное название ОО (по УСТАВУ)) | D3: ПРОГРАММИРОВАНИЕ | AB3: ИНФОРМАЦИОННАЯ БЕЗОПАСНОСТЬ | AZ3: РОБОТОТЕХНИКА | BX3: ИСКУССТВЕННЫЙ ИНТЕЛЛЕКТ | CW3: Програмирование | CZ3: Информационная безопасность | DC3: Робототехника | DF3: Искусственный интеллект | DJ3: Итого по всем предметам (считается автоматически) | DP3: Итого по всем предметам (данные заполняются автоматически из листа "Итоги по ОО"), которые должны совпадать с таблицей рядом
D4: 5 класс | G4: 6 класс | J4: 7 класс | M4: 8 класс | P4: 9 класс | S4: 10 класс | V4: 11 класс | Y4: всего по предмету | Z4: победители | AA4: призеры | AB4: 5 класс | AE4: 6 класс | AH4: 7 класс | AK4: 8 класс | AN4: 9 класс | AQ4: 10 класс | AT4: 11 класс | AW4: всего по предмету | AX4: победители | AY4: призеры | AZ4: 5 класс | BC4: 6 класс | BF4: 7 класс | BI4: 8 класс | BL4: 9 класс | BO4: 10 класс | BR4: 11 класс | BU4: всего по предмету | BV4: победители | BW4: призеры | BX4: 5 класс | CA4: 6 класс | CD4: 7 класс | CG4: 8 класс | CJ4: 9 класс | CM4: 10 класс | CP4: 11 класс | CS4: всего по предмету | CT4: победители | CU4: призеры | CW4: Всего | CX4: Победители | CY4: Призеры | CZ4: Всего | DA4: Победители | DB4: Призеры | DC4: Всего | DD4: Победители | DE4: Призеры | DF4: Всего | DG4: Победители | DH4: Призеры | DJ4: всего | DK4: победители | DL4: призеры | DM4: победителей и призеров всего | DP4: всего | DQ4: победители | DR4: призеры | DS4: победителей и призеров всего
D5: всего участников | E5: П | F5: ПР | G5: всего участников | H5: П | I5: ПР | J5: всего участников | K5: П | L5: ПР | M5: всего участников | N5: П | O5: ПР | P5: всего участников | Q5: П | R5: ПР | S5: всего участников | T5: П | U5: ПР | V5: всего участников | W5: П | X5: ПР | Z5: П | AA5: ПР | AB5: всего участников | AC5: П | AD5: ПР | AE5: всего участников | AF5: П | AG5: ПР | AH5: всего участников | AI5: П | AJ5: ПР | AK5: всего участников | AL5: П | AM5: ПР | AN5: всего участников | AO5: П | AP5: ПР | AQ5: всего участников | AR5: П | AS5: ПР | AT5: всего участников | AU5: П | AV5: ПР | AX5: П | AY5: ПР | AZ5: всего участников | BA5: П | BB5: ПР | BC5: всего участников | BD5: П | BE5: ПР | BF5: всего участников | BG5: П | BH5: ПР | BI5: всего участников | BJ5: П | BK5: ПР | BL5: всего участников | BM5: П | BN5: ПР | BO5: всего участников | BP5: П | BQ5: ПР | BR5: всего участников | BS5: П | BT5: ПР | BV5: П | BW5: ПР | BX5: всего участников | BY5: П | BZ5: ПР | CA5: всего участников | CB5: П | CC5: ПР | CD5: всего участников | CE5: П | CF5: ПР | CG5: всего участников | CH5: П | CI5: ПР | CJ5: всего участников | CK5: П | CL5: ПР | CM5: всего участников | CN5: П | CO5: ПР | CP5: всего участников | CQ5: П | CR5: ПР | CT5: П | CU5: ПР
A6: 2 | B6: Батыревский муниципальный округ | C6: МБОУ "Балабаш -Баишевская СОШ" | Y6: =SUM(D6,G6,J6,M6,P6,S6,V6) -> 0 | Z6: =SUM(E6,H6,K6,N6,Q6,T6,W6) -> 0 | AA6: =SUM(F6,I6,L6,O6,R6,U6,X6) -> 0 | AW6: =SUM(AB6,AE6,AH6,AK6,AN6,AQ6,AT6) -> 0 | AX6: =SUM(AC6,AF6,AI6,AL6,AO6,AR6,AU6) -> 0 | AY6: =SUM(AD6,AG6,AJ6,AM6,AP6,AS6,AV6) -> 0 | BU6: =SUM(AZ6,BC6,BF6,BI6,BL6,BO6,BR6) -> 0 | BV6: =SUM(BA6,BD6,BG6,BJ6,BM6,BP6,BS6) -> 0 | BW6: =SUM(BB6,BE6,BH6,BK6,BN6,BQ6,BT6) -> 0 | CS6: =SUM(BX6,CA6,CD6,CG6,CJ6,CM6,CP6) -> 0 | CT6: =SUM(BY6,CB6,CE6,CH6,CK6,CN6,CQ6) -> 0 | CU6: =SUM(BZ6,CC6,CF6,CI6,CL6,CO6,CR6) -> 0 | CW6: =Y6 -> 0 | CX6: =Z6 -> 0 | CY6: =AA6 -> 0 | CZ6: =AW6 -> 0 | DA6: =AX6 -> 0 | DB6: =AY6 -> 0 | DC6: =BU6 -> 0 | DD6: =BV6 -> 0 | DE6: =BW6 -> 0 | DF6: =CS6 -> 0 | DG6: =CT6 -> 0 | DH6: =CU6 -> 0 | DJ6: =CW6+CZ6+DC6+DF6 -> 0 | DK6: =CX6+DA6+DD6+DG6 -> 0 | DL6: =CY6+DB6+DE6+DH6 -> 0 | DM6: =DK6+DL6 -> 0 | DP6: ='Итоги по ОО'!#REF! -> #REF! | DQ6: ='Итоги по ОО'!#REF! -> #REF! | DR6: ='Итоги по ОО'!#REF! -> #REF! | DS6: =DQ6+DR6 -> #REF!
A7: 3 | B7: Батыревский муниципальный округ | C7: МАОУ "Батыревская СОШ №1" | Y7: =SUM(D7,G7,J7,M7,P7,S7,V7) -> 0 | Z7: =SUM(E7,H7,K7,N7,Q7,T7,W7) -> 0 | AA7: =SUM(F7,I7,L7,O7,R7,U7,X7) -> 0 | AW7: =SUM(AB7,AE7,AH7,AK7,AN7,AQ7,AT7) -> 0 | AX7: =SUM(AC7,AF7,AI7,AL7,AO7,AR7,AU7) -> 0 | AY7: =SUM(AD7,AG7,AJ7,AM7,AP7,AS7,AV7) -> 0 | BU7: =SUM(AZ7,BC7,BF7,BI7,BL7,BO7,BR7) -> 0 | BV7: =SUM(BA7,BD7,BG7,BJ7,BM7,BP7,BS7) -> 0 | BW7: =SUM(BB7,BE7,BH7,BK7,BN7,BQ7,BT7) -> 0 | CS7: =SUM(BX7,CA7,CD7,CG7,CJ7,CM7,CP7) -> 0 | CT7: =SUM(BY7,CB7,CE7,CH7,CK7,CN7,CQ7) -> 0 | CU7: =SUM(BZ7,CC7,CF7,CI7,CL7,CO7,CR7) -> 0 | CW7: =Y7 -> 0 | CX7: =Z7 -> 0 | CY7: =AA7 -> 0 | CZ7: =AW7 -> 0 | DA7: =AX7 -> 0 | DB7: =AY7 -> 0 | DC7: =BU7 -> 0 | DD7: =BV7 -> 0 | DE7: =BW7 -> 0 | DF7: =CS7 -> 0 | DG7: =CT7 -> 0 | DH7: =CU7 -> 0 | DJ7: =CW7+CZ7+DC7+DF7 -> 0 | DK7: =CX7+DA7+DD7+DG7 -> 0 | DL7: =CY7+DB7+DE7+DH7 -> 0 | DM7: =DK7+DL7 -> 0 | DP7: ='Итоги по ОО'!#REF! -> #REF! | DQ7: ='Итоги по ОО'!#REF! -> #REF! | DR7: ='Итоги по ОО'!#REF! -> #REF! | DS7: =DQ7+DR7 -> #REF!
A8: 4 | B8: Батыревский муниципальный округ | C8: МБОУ "Батыревская СОШ №2" | Y8: =SUM(D8,G8,J8,M8,P8,S8,V8) -> 0 | Z8: =SUM(E8,H8,K8,N8,Q8,T8,W8) -> 0 | AA8: =SUM(F8,I8,L8,O8,R8,U8,X8) -> 0 | AW8: =SUM(AB8,AE8,AH8,AK8,AN8,AQ8,AT8) -> 0 | AX8: =SUM(AC8,AF8,AI8,AL8,AO8,AR8,AU8) -> 0 | AY8: =SUM(AD8,AG8,AJ8,AM8,AP8,AS8,AV8) -> 0 | BU8: =SUM(AZ8,BC8,BF8,BI8,BL8,BO8,BR8) -> 0 | BV8: =SUM(BA8,BD8,BG8,BJ8,BM8,BP8,BS8) -> 0 | BW8: =SUM(BB8,BE8,BH8,BK8,BN8,BQ8,BT8) -> 0 | CS8: =SUM(BX8,CA8,CD8,CG8,CJ8,CM8,CP8) -> 0 | CT8: =SUM(BY8,CB8,CE8,CH8,CK8,CN8,CQ8) -> 0 | CU8: =SUM(BZ8,CC8,CF8,CI8,CL8,CO8,CR8) -> 0 | CW8: =Y8 -> 0 | CX8: =Z8 -> 0 | CY8: =AA8 -> 0 | CZ8: =AW8 -> 0 | DA8: =AX8 -> 0 | DB8: =AY8 -> 0 | DC8: =BU8 -> 0 | DD8: =BV8 -> 0 | DE8: =BW8 -> 0 | DF8: =CS8 -> 0 | DG8: =CT8 -> 0 | DH8: =CU8 -> 0 | DJ8: =CW8+CZ8+DC8+DF8 -> 0 | DK8: =CX8+DA8+DD8+DG8 -> 0 | DL8: =CY8+DB8+DE8+DH8 -> 0 | DM8: =DK8+DL8 -> 0 | DP8: ='Итоги по ОО'!#REF! -> #REF! | DQ8: ='Итоги по ОО'!#REF! -> #REF! | DR8: ='Итоги по ОО'!#REF! -> #REF! | DS8: =DQ8+DR8 -> #REF!
A9: 5 | B9: Батыревский муниципальный округ | C9: МБОУ "Большечеменевская СОШ" | Y9: =SUM(D9,G9,J9,M9,P9,S9,V9) -> 0 | Z9: =SUM(E9,H9,K9,N9,Q9,T9,W9) -> 0 | AA9: =SUM(F9,I9,L9,O9,R9,U9,X9) -> 0 | AW9: =SUM(AB9,AE9,AH9,AK9,AN9,AQ9,AT9) -> 0 | AX9: =SUM(AC9,AF9,AI9,AL9,AO9,AR9,AU9) -> 0 | AY9: =SUM(AD9,AG9,AJ9,AM9,AP9,AS9,AV9) -> 0 | BU9: =SUM(AZ9,BC9,BF9,BI9,BL9,BO9,BR9) -> 0 | BV9: =SUM(BA9,BD9,BG9,BJ9,BM9,BP9,BS9) -> 0 | BW9: =SUM(BB9,BE9,BH9,BK9,BN9,BQ9,BT9) -> 0 | CS9: =SUM(BX9,CA9,CD9,CG9,CJ9,CM9,CP9) -> 0 | CT9: =SUM(BY9,CB9,CE9,CH9,CK9,CN9,CQ9) -> 0 | CU9: =SUM(BZ9,CC9,CF9,CI9,CL9,CO9,CR9) -> 0 | CW9: =Y9 -> 0 | CX9: =Z9 -> 0 | CY9: =AA9 -> 0 | CZ9: =AW9 -> 0 | DA9: =AX9 -> 0 | DB9: =AY9 -> 0 | DC9: =BU9 -> 0 | DD9: =BV9 -> 0 | DE9: =BW9 -> 0 | DF9: =CS9 -> 0 | DG9: =CT9 -> 0 | DH9: =CU9 -> 0 | DJ9: =CW9+CZ9+DC9+DF9 -> 0 | DK9: =CX9+DA9+DD9+DG9 -> 0 | DL9: =CY9+DB9+DE9+DH9 -> 0 | DM9: =DK9+DL9 -> 0 | DP9: ='Итоги по ОО'!#REF! -> #REF! | DQ9: ='Итоги по ОО'!#REF! -> #REF! | DR9: ='Итоги по ОО'!#REF! -> #REF! | DS9: =DQ9+DR9 -> #REF!
A10: 6 | B10: Батыревский муниципальный округ | C10: МБОУ "Долгоостровская СОШ" | Y10: =SUM(D10,G10,J10,M10,P10,S10,V10) -> 0 | Z10: =SUM(E10,H10,K10,N10,Q10,T10,W10) -> 0 | AA10: =SUM(F10,I10,L10,O10,R10,U10,X10) -> 0 | AW10: =SUM(AB10,AE10,AH10,AK10,AN10,AQ10,AT10) -> 0 | AX10: =SUM(AC10,AF10,AI10,AL10,AO10,AR10,AU10) -> 0 | AY10: =SUM(AD10,AG10,AJ10,AM10,AP10,AS10,AV10) -> 0 | BU10: =SUM(AZ10,BC10,BF10,BI10,BL10,BO10,BR10) -> 0 | BV10: =SUM(BA10,BD10,BG10,BJ10,BM10,BP10,BS10) -> 0 | BW10: =SUM(BB10,BE10,BH10,BK10,BN10,BQ10,BT10) -> 0 | CS10: =SUM(BX10,CA10,CD10,CG10,CJ10,CM10,CP10) -> 0 | CT10: =SUM(BY10,CB10,CE10,CH10,CK10,CN10,CQ10) -> 0 | CU10: =SUM(BZ10,CC10,CF10,CI10,CL10,CO10,CR10) -> 0 | CW10: =Y10 -> 0 | CX10: =Z10 -> 0 | CY10: =AA10 -> 0 | CZ10: =AW10 -> 0 | DA10: =AX10 -> 0 | DB10: =AY10 -> 0 | DC10: =BU10 -> 0 | DD10: =BV10 -> 0 | DE10: =BW10 -> 0 | DF10: =CS10 -> 0 | DG10: =CT10 -> 0 | DH10: =CU10 -> 0 | DJ10: =CW10+CZ10+DC10+DF10 -> 0 | DK10: =CX10+DA10+DD10+DG10 -> 0 | DL10: =CY10+DB10+DE10+DH10 -> 0 | DM10: =DK10+DL10 -> 0 | DP10: ='Итоги по ОО'!#REF! -> #REF! | DQ10: ='Итоги по ОО'!#REF! -> #REF! | DR10: ='Итоги по ОО'!#REF! -> #REF! | DS10: =DQ10+DR10 -> #REF!
A11: 7 | B11: Батыревский муниципальный округ | C11: МБОУ "Норваш Шигалинская СОШ" | Y11: =SUM(D11,G11,J11,M11,P11,S11,V11) -> 0 | Z11: =SUM(E11,H11,K11,N11,Q11,T11,W11) -> 0 | AA11: =SUM(F11,I11,L11,O11,R11,U11,X11) -> 0 | AW11: =SUM(AB11,AE11,AH11,AK11,AN11,AQ11,AT11) -> 0 | AX11: =SUM(AC11,AF11,AI11,AL11,AO11,AR11,AU11) -> 0 | AY11: =SUM(AD11,AG11,AJ11,AM11,AP11,AS11,AV11) -> 0 | BU11: =SUM(AZ11,BC11,BF11,BI11,BL11,BO11,BR11) -> 0 | BV11: =SUM(BA11,BD11,BG11,BJ11,BM11,BP11,BS11) -> 0 | BW11: =SUM(BB11,BE11,BH11,BK11,BN11,BQ11,BT11) -> 0 | CS11: =SUM(BX11,CA11,CD11,CG11,CJ11,CM11,CP11) -> 0 | CT11: =SUM(BY11,CB11,CE11,CH11,CK11,CN11,CQ11) -> 0 | CU11: =SUM(BZ11,CC11,CF11,CI11,CL11,CO11,CR11) -> 0 | CW11: =Y11 -> 0 | CX11: =Z11 -> 0 | CY11: =AA11 -> 0 | CZ11: =AW11 -> 0 | DA11: =AX11 -> 0 | DB11: =AY11 -> 0 | DC11: =BU11 -> 0 | DD11: =BV11 -> 0 | DE11: =BW11 -> 0 | DF11: =CS11 -> 0 | DG11: =CT11 -> 0 | DH11: =CU11 -> 0 | DJ11: =CW11+CZ11+DC11+DF11 -> 0 | DK11: =CX11+DA11+DD11+DG11 -> 0 | DL11: =CY11+DB11+DE11+DH11 -> 0 | DM11: =DK11+DL11 -> 0 | DP11: ='Итоги по ОО'!#REF! -> #REF! | DQ11: ='Итоги по ОО'!#REF! -> #REF! | DR11: ='Итоги по ОО'!#REF! -> #REF! | DS11: =DQ11+DR11 -> #REF!
A12: 8 | B12: Батыревский муниципальный округ | C12: МБОУ "Первомайская СОШ имени В.Митты" | Y12: =SUM(D12,G12,J12,M12,P12,S12,V12) -> 0 | Z12: =SUM(E12,H12,K12,N12,Q12,T12,W12) -> 0 | AA12: =SUM(F12,I12,L12,O12,R12,U12,X12) -> 0 | AW12: =SUM(AB12,AE12,AH12,AK12,AN12,AQ12,AT12) -> 0 | AX12: =SUM(AC12,AF12,AI12,AL12,AO12,AR12,AU12) -> 0 | AY12: =SUM(AD12,AG12,AJ12,AM12,AP12,AS12,AV12) -> 0 | BU12: =SUM(AZ12,BC12,BF12,BI12,BL12,BO12,BR12) -> 0 | BV12: =SUM(BA12,BD12,BG12,BJ12,BM12,BP12,BS12) -> 0 | BW12: =SUM(BB12,BE12,BH12,BK12,BN12,BQ12,BT12) -> 0 | CS12: =SUM(BX12,CA12,CD12,CG12,CJ12,CM12,CP12) -> 0 | CT12: =SUM(BY12,CB12,CE12,CH12,CK12,CN12,CQ12) -> 0 | CU12: =SUM(BZ12,CC12,CF12,CI12,CL12,CO12,CR12) -> 0 | CW12: =Y12 -> 0 | CX12: =Z12 -> 0 | CY12: =AA12 -> 0 | CZ12: =AW12 -> 0 | DA12: =AX12 -> 0 | DB12: =AY12 -> 0 | DC12: =BU12 -> 0 | DD12: =BV12 -> 0 | DE12: =BW12 -> 0 | DF12: =CS12 -> 0 | DG12: =CT12 -> 0 | DH12: =CU12 -> 0 | DJ12: =CW12+CZ12+DC12+DF12 -> 0 | DK12: =CX12+DA12+DD12+DG12 -> 0 | DL12: =CY12+DB12+DE12+DH12 -> 0 | DM12: =DK12+DL12 -> 0 | DP12: ='Итоги по ОО'!#REF! -> #REF! | DQ12: ='Итоги по ОО'!#REF! -> #REF! | DR12: ='Итоги по ОО'!#REF! -> #REF! | DS12: =DQ12+DR12 -> #REF!
A13: 9 | B13: Батыревский муниципальный округ | C13: МБОУ "Полевобикшикская СОШ" | Y13: =SUM(D13,G13,J13,M13,P13,S13,V13) -> 0 | Z13: =SUM(E13,H13,K13,N13,Q13,T13,W13) -> 0 | AA13: =SUM(F13,I13,L13,O13,R13,U13,X13) -> 0 | AW13: =SUM(AB13,AE13,AH13,AK13,AN13,AQ13,AT13) -> 0 | AX13: =SUM(AC13,AF13,AI13,AL13,AO13,AR13,AU13) -> 0 | AY13: =SUM(AD13,AG13,AJ13,AM13,AP13,AS13,AV13) -> 0 | BU13: =SUM(AZ13,BC13,BF13,BI13,BL13,BO13,BR13) -> 0 | BV13: =SUM(BA13,BD13,BG13,BJ13,BM13,BP13,BS13) -> 0 | BW13: =SUM(BB13,BE13,BH13,BK13,BN13,BQ13,BT13) -> 0 | CS13: =SUM(BX13,CA13,CD13,CG13,CJ13,CM13,CP13) -> 0 | CT13: =SUM(BY13,CB13,CE13,CH13,CK13,CN13,CQ13) -> 0 | CU13: =SUM(BZ13,CC13,CF13,CI13,CL13,CO13,CR13) -> 0 | CW13: =Y13 -> 0 | CX13: =Z13 -> 0 | CY13: =AA13 -> 0 | CZ13: =AW13 -> 0 | DA13: =AX13 -> 0 | DB13: =AY13 -> 0 | DC13: =BU13 -> 0 | DD13: =BV13 -> 0 | DE13: =BW13 -> 0 | DF13: =CS13 -> 0 | DG13: =CT13 -> 0 | DH13: =CU13 -> 0 | DJ13: =CW13+CZ13+DC13+DF13 -> 0 | DK13: =CX13+DA13+DD13+DG13 -> 0 | DL13: =CY13+DB13+DE13+DH13 -> 0 | DM13: =DK13+DL13 -> 0 | DP13: ='Итоги по ОО'!#REF! -> #REF! | DQ13: ='Итоги по ОО'!#REF! -> #REF! | DR13: ='Итоги по ОО'!#REF! -> #REF! | DS13: =DQ13+DR13 -> #REF!
A14: 10 | B14: Батыревский муниципальный округ | C14: МАОУ "Сугутская СОШ" | Y14: =SUM(D14,G14,J14,M14,P14,S14,V14) -> 0 | Z14: =SUM(E14,H14,K14,N14,Q14,T14,W14) -> 0 | AA14: =SUM(F14,I14,L14,O14,R14,U14,X14) -> 0 | AW14: =SUM(AB14,AE14,AH14,AK14,AN14,AQ14,AT14) -> 0 | AX14: =SUM(AC14,AF14,AI14,AL14,AO14,AR14,AU14) -> 0 | AY14: =SUM(AD14,AG14,AJ14,AM14,AP14,AS14,AV14) -> 0 | BU14: =SUM(AZ14,BC14,BF14,BI14,BL14,BO14,BR14) -> 0 | BV14: =SUM(BA14,BD14,BG14,BJ14,BM14,BP14,BS14) -> 0 | BW14: =SUM(BB14,BE14,BH14,BK14,BN14,BQ14,BT14) -> 0 | CS14: =SUM(BX14,CA14,CD14,CG14,CJ14,CM14,CP14) -> 0 | CT14: =SUM(BY14,CB14,CE14,CH14,CK14,CN14,CQ14) -> 0 | CU14: =SUM(BZ14,CC14,CF14,CI14,CL14,CO14,CR14) -> 0 | CW14: =Y14 -> 0 | CX14: =Z14 -> 0 | CY14: =AA14 -> 0 | CZ14: =AW14 -> 0 | DA14: =AX14 -> 0 | DB14: =AY14 -> 0 | DC14: =BU14 -> 0 | DD14: =BV14 -> 0 | DE14: =BW14 -> 0 | DF14: =CS14 -> 0 | DG14: =CT14 -> 0 | DH14: =CU14 -> 0 | DJ14: =CW14+CZ14+DC14+DF14 -> 0 | DK14: =CX14+DA14+DD14+DG14 -> 0 | DL14: =CY14+DB14+DE14+DH14 -> 0 | DM14: =DK14+DL14 -> 0 | DP14: ='Итоги по ОО'!R7 -> 0 | DQ14: ='Итоги по ОО'!S7 -> 0 | DR14: ='Итоги по ОО'!T7 -> 0 | DS14: =DQ14+DR14 -> 0
A15: 11 | B15: Батыревский муниципальный округ | C15: МБОУ "Тарханская СОШ" | Y15: =SUM(D15,G15,J15,M15,P15,S15,V15) -> 0 | Z15: =SUM(E15,H15,K15,N15,Q15,T15,W15) -> 0 | AA15: =SUM(F15,I15,L15,O15,R15,U15,X15) -> 0 | AW15: =SUM(AB15,AE15,AH15,AK15,AN15,AQ15,AT15) -> 0 | AX15: =SUM(AC15,AF15,AI15,AL15,AO15,AR15,AU15) -> 0 | AY15: =SUM(AD15,AG15,AJ15,AM15,AP15,AS15,AV15) -> 0 | BU15: =SUM(AZ15,BC15,BF15,BI15,BL15,BO15,BR15) -> 0 | BV15: =SUM(BA15,BD15,BG15,BJ15,BM15,BP15,BS15) -> 0 | BW15: =SUM(BB15,BE15,BH15,BK15,BN15,BQ15,BT15) -> 0 | CS15: =SUM(BX15,CA15,CD15,CG15,CJ15,CM15,CP15) -> 0 | CT15: =SUM(BY15,CB15,CE15,CH15,CK15,CN15,CQ15) -> 0 | CU15: =SUM(BZ15,CC15,CF15,CI15,CL15,CO15,CR15) -> 0 | CW15: =Y15 -> 0 | CX15: =Z15 -> 0 | CY15: =AA15 -> 0 | CZ15: =AW15 -> 0 | DA15: =AX15 -> 0 | DB15: =AY15 -> 0 | DC15: =BU15 -> 0 | DD15: =BV15 -> 0 | DE15: =BW15 -> 0 | DF15: =CS15 -> 0 | DG15: =CT15 -> 0 | DH15: =CU15 -> 0 | DJ15: =CW15+CZ15+DC15+DF15 -> 0 | DK15: =CX15+DA15+DD15+DG15 -> 0 | DL15: =CY15+DB15+DE15+DH15 -> 0 | DM15: =DK15+DL15 -> 0 | DP15: ='Итоги по ОО'!R8 -> 0 | DQ15: ='Итоги по ОО'!S8 -> 0 | DR15: ='Итоги по ОО'!T8 -> 0 | DS15: =DQ15+DR15 -> 0
A16: 12 | B16: Батыревский муниципальный округ | C16: МАОУ "Татарско-Сугутская СОШ" | Y16: =SUM(D16,G16,J16,M16,P16,S16,V16) -> 0 | Z16: =SUM(E16,H16,K16,N16,Q16,T16,W16) -> 0 | AA16: =SUM(F16,I16,L16,O16,R16,U16,X16) -> 0 | AW16: =SUM(AB16,AE16,AH16,AK16,AN16,AQ16,AT16) -> 0 | AX16: =SUM(AC16,AF16,AI16,AL16,AO16,AR16,AU16) -> 0 | AY16: =SUM(AD16,AG16,AJ16,AM16,AP16,AS16,AV16) -> 0 | BU16: =SUM(AZ16,BC16,BF16,BI16,BL16,BO16,BR16) -> 0 | BV16: =SUM(BA16,BD16,BG16,BJ16,BM16,BP16,BS16) -> 0 | BW16: =SUM(BB16,BE16,BH16,BK16,BN16,BQ16,BT16) -> 0 | CS16: =SUM(BX16,CA16,CD16,CG16,CJ16,CM16,CP16) -> 0 | CT16: =SUM(BY16,CB16,CE16,CH16,CK16,CN16,CQ16) -> 0 | CU16: =SUM(BZ16,CC16,CF16,CI16,CL16,CO16,CR16) -> 0 | CW16: =Y16 -> 0 | CX16: =Z16 -> 0 | CY16: =AA16 -> 0 | CZ16: =AW16 -> 0 | DA16: =AX16 -> 0 | DB16: =AY16 -> 0 | DC16: =BU16 -> 0 | DD16: =BV16 -> 0 | DE16: =BW16 -> 0 | DF16: =CS16 -> 0 | DG16: =CT16 -> 0 | DH16: =CU16 -> 0 | DJ16: =CW16+CZ16+DC16+DF16 -> 0 | DK16: =CX16+DA16+DD16+DG16 -> 0 | DL16: =CY16+DB16+DE16+DH16 -> 0 | DM16: =DK16+DL16 -> 0 | DP16: ='Итоги по ОО'!R9 -> 0 | DQ16: ='Итоги по ОО'!S9 -> 0 | DR16: ='Итоги по ОО'!T9 -> 0 | DS16: =DQ16+DR16 -> 0
A17: 13 | B17: Батыревский муниципальный округ | C17: МБОУ "Тойсинская СОШ" | Y17: =SUM(D17,G17,J17,M17,P17,S17,V17) -> 0 | Z17: =SUM(E17,H17,K17,N17,Q17,T17,W17) -> 0 | AA17: =SUM(F17,I17,L17,O17,R17,U17,X17) -> 0 | AW17: =SUM(AB17,AE17,AH17,AK17,AN17,AQ17,AT17) -> 0 | AX17: =SUM(AC17,AF17,AI17,AL17,AO17,AR17,AU17) -> 0 | AY17: =SUM(AD17,AG17,AJ17,AM17,AP17,AS17,AV17) -> 0 | BU17: =SUM(AZ17,BC17,BF17,BI17,BL17,BO17,BR17) -> 0 | BV17: =SUM(BA17,BD17,BG17,BJ17,BM17,BP17,BS17) -> 0 | BW17: =SUM(BB17,BE17,BH17,BK17,BN17,BQ17,BT17) -> 0 | CS17: =SUM(BX17,CA17,CD17,CG17,CJ17,CM17,CP17) -> 0 | CT17: =SUM(BY17,CB17,CE17,CH17,CK17,CN17,CQ17) -> 0 | CU17: =SUM(BZ17,CC17,CF17,CI17,CL17,CO17,CR17) -> 0 | CW17: =Y17 -> 0 | CX17: =Z17 -> 0 | CY17: =AA17 -> 0 | CZ17: =AW17 -> 0 | DA17: =AX17 -> 0 | DB17: =AY17 -> 0 | DC17: =BU17 -> 0 | DD17: =BV17 -> 0 | DE17: =BW17 -> 0 | DF17: =CS17 -> 0 | DG17: =CT17 -> 0 | DH17: =CU17 -> 0 | DJ17: =CW17+CZ17+DC17+DF17 -> 0 | DK17: =CX17+DA17+DD17+DG17 -> 0 | DL17: =CY17+DB17+DE17+DH17 -> 0 | DM17: =DK17+DL17 -> 0 | DP17: ='Итоги по ОО'!R10 -> 0 | DQ17: ='Итоги по ОО'!S10 -> 0 | DR17: ='Итоги по ОО'!T10 -> 0 | DS17: =DQ17+DR17 -> 0
A18: 14 | B18: Батыревский муниципальный округ | C18: МАОУ "Шыгырданская СОШ №1" | Y18: =SUM(D18,G18,J18,M18,P18,S18,V18) -> 0 | Z18: =SUM(E18,H18,K18,N18,Q18,T18,W18) -> 0 | AA18: =SUM(F18,I18,L18,O18,R18,U18,X18) -> 0 | AW18: =SUM(AB18,AE18,AH18,AK18,AN18,AQ18,AT18) -> 0 | AX18: =SUM(AC18,AF18,AI18,AL18,AO18,AR18,AU18) -> 0 | AY18: =SUM(AD18,AG18,AJ18,AM18,AP18,AS18,AV18) -> 0 | BU18: =SUM(AZ18,BC18,BF18,BI18,BL18,BO18,BR18) -> 0 | BV18: =SUM(BA18,BD18,BG18,BJ18,BM18,BP18,BS18) -> 0 | BW18: =SUM(BB18,BE18,BH18,BK18,BN18,BQ18,BT18) -> 0 | CS18: =SUM(BX18,CA18,CD18,CG18,CJ18,CM18,CP18) -> 0 | CT18: =SUM(BY18,CB18,CE18,CH18,CK18,CN18,CQ18) -> 0 | CU18: =SUM(BZ18,CC18,CF18,CI18,CL18,CO18,CR18) -> 0 | CW18: =Y18 -> 0 | CX18: =Z18 -> 0 | CY18: =AA18 -> 0 | CZ18: =AW18 -> 0 | DA18: =AX18 -> 0 | DB18: =AY18 -> 0 | DC18: =BU18 -> 0 | DD18: =BV18 -> 0 | DE18: =BW18 -> 0 | DF18: =CS18 -> 0 | DG18: =CT18 -> 0 | DH18: =CU18 -> 0 | DJ18: =CW18+CZ18+DC18+DF18 -> 0 | DK18: =CX18+DA18+DD18+DG18 -> 0 | DL18: =CY18+DB18+DE18+DH18 -> 0 | DM18: =DK18+DL18 -> 0 | DP18: ='Итоги по ОО'!R11 -> 0 | DQ18: ='Итоги по ОО'!S11 -> 0 | DR18: ='Итоги по ОО'!T11 -> 0 | DS18: =DQ18+DR18 -> 0
A19: 15 | B19: Батыревский муниципальный округ | C19: МАОУ "Шыгырданская СОШ имени профессора Э.З.Феизова" | Y19: =SUM(D19,G19,J19,M19,P19,S19,V19) -> 0 | Z19: =SUM(E19,H19,K19,N19,Q19,T19,W19) -> 0 | AA19: =SUM(F19,I19,L19,O19,R19,U19,X19) -> 0 | AW19: =SUM(AB19,AE19,AH19,AK19,AN19,AQ19,AT19) -> 0 | AX19: =SUM(AC19,AF19,AI19,AL19,AO19,AR19,AU19) -> 0 | AY19: =SUM(AD19,AG19,AJ19,AM19,AP19,AS19,AV19) -> 0 | BU19: =SUM(AZ19,BC19,BF19,BI19,BL19,BO19,BR19) -> 0 | BV19: =SUM(BA19,BD19,BG19,BJ19,BM19,BP19,BS19) -> 0 | BW19: =SUM(BB19,BE19,BH19,BK19,BN19,BQ19,BT19) -> 0 | CS19: =SUM(BX19,CA19,CD19,CG19,CJ19,CM19,CP19) -> 0 | CT19: =SUM(BY19,CB19,CE19,CH19,CK19,CN19,CQ19) -> 0 | CU19: =SUM(BZ19,CC19,CF19,CI19,CL19,CO19,CR19) -> 0 | CW19: =Y19 -> 0 | CX19: =Z19 -> 0 | CY19: =AA19 -> 0 | CZ19: =AW19 -> 0 | DA19: =AX19 -> 0 | DB19: =AY19 -> 0 | DC19: =BU19 -> 0 | DD19: =BV19 -> 0 | DE19: =BW19 -> 0 | DF19: =CS19 -> 0 | DG19: =CT19 -> 0 | DH19: =CU19 -> 0 | DJ19: =CW19+CZ19+DC19+DF19 -> 0 | DK19: =CX19+DA19+DD19+DG19 -> 0 | DL19: =CY19+DB19+DE19+DH19 -> 0 | DM19: =DK19+DL19 -> 0 | DP19: ='Итоги по ОО'!R12 -> 0 | DQ19: ='Итоги по ОО'!S12 -> 0 | DR19: ='Итоги по ОО'!T12 -> 0 | DS19: =DQ19+DR19 -> 0
A20: 16 | B20: Батыревский муниципальный округ | C20: МБОУ "Новоахпердинская ООШ" | Y20: =SUM(D20,G20,J20,M20,P20,S20,V20) -> 0 | Z20: =SUM(E20,H20,K20,N20,Q20,T20,W20) -> 0 | AA20: =SUM(F20,I20,L20,O20,R20,U20,X20) -> 0 | AW20: =SUM(AB20,AE20,AH20,AK20,AN20,AQ20,AT20) -> 0 | AX20: =SUM(AC20,AF20,AI20,AL20,AO20,AR20,AU20) -> 0 | AY20: =SUM(AD20,AG20,AJ20,AM20,AP20,AS20,AV20) -> 0 | BU20: =SUM(AZ20,BC20,BF20,BI20,BL20,BO20,BR20) -> 0 | BV20: =SUM(BA20,BD20,BG20,BJ20,BM20,BP20,BS20) -> 0 | BW20: =SUM(BB20,BE20,BH20,BK20,BN20,BQ20,BT20) -> 0 | CS20: =SUM(BX20,CA20,CD20,CG20,CJ20,CM20,CP20) -> 0 | CT20: =SUM(BY20,CB20,CE20,CH20,CK20,CN20,CQ20) -> 0 | CU20: =SUM(BZ20,CC20,CF20,CI20,CL20,CO20,CR20) -> 0 | CW20: =Y20 -> 0 | CX20: =Z20 -> 0 | CY20: =AA20 -> 0 | CZ20: =AW20 -> 0 | DA20: =AX20 -> 0 | DB20: =AY20 -> 0 | DC20: =BU20 -> 0 | DD20: =BV20 -> 0 | DE20: =BW20 -> 0 | DF20: =CS20 -> 0 | DG20: =CT20 -> 0 | DH20: =CU20 -> 0 | DJ20: =CW20+CZ20+DC20+DF20 -> 0 | DK20: =CX20+DA20+DD20+DG20 -> 0 | DL20: =CY20+DB20+DE20+DH20 -> 0 | DM20: =DK20+DL20 -> 0 | DP20: ='Итоги по ОО'!R13 -> 0 | DQ20: ='Итоги по ОО'!S13 -> 0 | DR20: ='Итоги по ОО'!T13 -> 0 | DS20: =DQ20+DR20 -> 0
A21: 17 | B21: Батыревский муниципальный округ | C21: МБОУ "Шаймурзинская ООШ имени Г.Айги" | D21: 0 | E21: 0 | F21: 0 | G21: 0 | H21: 0 | I21: 0 | J21: 0 | K21: 0 | L21: 0 | M21: 0 | N21: 0 | O21: 0 | P21: 0 | Q21: 0 | R21: 0 | S21: 0 | T21: 0 | U21: 0 | V21: 0 | W21: 0 | X21: 0 | Y21: =SUM(D21,G21,J21,M21,P21,S21,V21) -> 0 | Z21: =SUM(E21,H21,K21,N21,Q21,T21,W21) -> 0 | AA21: =SUM(F21,I21,L21,O21,R21,U21,X21) -> 0 | AB21: 0 | AC21: 0 | AD21: 0 | AE21: 0 | AF21: 0 | AG21: 0 | AH21: 0 | AI21: 0 | AJ21: 0 | AK21: 0 | AL21: 0 | AM21: 0 | AN21: 0 | AO21: 0 | AP21: 0 | AQ21: 0 | AR21: 0 | AS21: 0 | AT21: 0 | AU21: 0 | AV21: 0 | AW21: =SUM(AB21,AE21,AH21,AK21,AN21,AQ21,AT21) -> 0 | AX21: =SUM(AC21,AF21,AI21,AL21,AO21,AR21,AU21) -> 0 | AY21: =SUM(AD21,AG21,AJ21,AM21,AP21,AS21,AV21) -> 0 | AZ21: 0 | BA21: 0 | BB21: 0 | BC21: 0 | BD21: 0 | BE21: 0 | BF21: 0 | BG21: 0 | BH21: 0 | BI21: 0 | BJ21: 0 | BK21: 0 | BL21: 0 | BM21: 0 | BN21: 0 | BO21: 0 | BP21: 0 | BQ21: 0 | BR21: 0 | BS21: 0 | BT21: 0 | BU21: =SUM(AZ21,BC21,BF21,BI21,BL21,BO21,BR21) -> 0 | BV21: =SUM(BA21,BD21,BG21,BJ21,BM21,BP21,BS21) -> 0 | BW21: =SUM(BB21,BE21,BH21,BK21,BN21,BQ21,BT21) -> 0 | BX21: 0 | BY21: 0 | BZ21: 0 | CA21: 0 | CB21: 0 | CC21: 0 | CD21: 0 | CE21: 0 | CF21: 0 | CG21: 0 | CH21: 0 | CI21: 0 | CJ21: 0 | CK21: 0 | CL21: 0 | CM21: 0 | CN21: 0 | CO21: 0 | CP21: 0 | CQ21: 0 | CR21: 0 | CS21: =SUM(BX21,CA21,CD21,CG21,CJ21,CM21,CP21) -> 0 | CT21: =SUM(BY21,CB21,CE21,CH21,CK21,CN21,CQ21) -> 0 | CU21: =SUM(BZ21,CC21,CF21,CI21,CL21,CO21,CR21) -> 0 | CW21: =Y21 -> 0 | CX21: =Z21 -> 0 | CY21: =AA21 -> 0 | CZ21: =AW21 -> 0 | DA21: =AX21 -> 0 | DB21: =AY21 -> 0 | DC21: =BU21 -> 0 | DD21: =BV21 -> 0 | DE21: =BW21 -> 0 | DF21: =CS21 -> 0 | DG21: =CT21 -> 0 | DH21: =CU21 -> 0 | DJ21: =CW21+CZ21+DC21+DF21 -> 0 | DK21: =CX21+DA21+DD21+DG21 -> 0 | DL21: =CY21+DB21+DE21+DH21 -> 0 | DM21: =DK21+DL21 -> 0 | DP21: ='Итоги по ОО'!R14 -> #REF! | DQ21: ='Итоги по ОО'!S14 -> #REF! | DR21: ='Итоги по ОО'!T14 -> #REF! | DS21: =DQ21+DR21 -> #REF!
A23: строчку не удалять (считается автоматически) | D23: =SUM(D7:D21) -> 0 | E23: =SUM(E7:E21) -> 0 | F23: =SUM(F7:F21) -> 0 | G23: =SUM(G7:G21) -> 0 | H23: =SUM(H7:H21) -> 0 | I23: =SUM(I7:I21) -> 0 | J23: =SUM(J7:J21) -> 0 | K23: =SUM(K7:K21) -> 0 | ... CU23: =SUM(CU7:CU21) -> 0 | CW23: =SUM(CW5:CW21) -> 0 | CX23: =SUM(CX5:CX21) -> 0 | CY23: =SUM(CY5:CY21) -> 0 | CZ23: =SUM(CZ5:CZ21) -> 0 | DA23: =SUM(DA5:DA21) -> 0 | DB23: =SUM(DB5:DB21) -> 0 | DC23: =SUM(DC5:DC21) -> 0 | DD23: =SUM(DD5:DD21) -> 0 | ... DH23: =SUM(DH5:DH21) -> 0 | DJ23: =SUM(DJ5:DJ21) -> 0 | DK23: =SUM(DK5:DK21) -> 0 | DL23: =SUM(DL5:DL21) -> 0 | DM23: =SUM(DK23:DL23) -> 0 | DP23: =SUM(DP5:DP21) -> #REF! | DQ23: =SUM(DQ5:DQ21) -> #REF! | DR23: =SUM(DR5:DR21) -> #REF! | DS23: =SUM(DQ23:DR23) -> #REF!
B25: * Муниципальный/городской округ указывается в каждой ячейке

Sheet Итоги по ОО 4 класс
B1: Итоги школьного этапа всероссийской олимпиады школьников 2025/2026 учебного года (4 класс)
A3: № | B3: Муниципальный/ городской округ Чувашской Республики (указывается в каждой ячейке) | C3: Образовательная организация (указывается сокращенное название ОО (по УСТАВУ)) | D3: Общие данные | L3: Данные по обучающимся с ОВЗ
D4: Общее количество обучающихся 4 классов | E4: Количество участников - обучающихся 4 классов (обучающиеся, принявшие участие в школьном этапе олимпиады по математике и русскому языку, учитываются 1 раз) | F4: Количество участников по русскому языку - обучающихся 4 классов | G4: Количество победителей по русскому языку - обучающихся 4 классов | H4: Количество призёров по русскому языку - обучающихся 4 классов | I4: Количество участников по математике - обучающихся 4 классов | J4: Количество победителей по математике - обучающихся 4 классов | K4: Количество призёров по математике - обучающихся 4 классов | L4: Общее количество обучающихся с ОВЗ -обучающихся 4 классов | M4: Количество обучающихся с ОВЗ 4 классов, участников ШЭ ВСОШ (обучающиеся, принявшие участие в школьном этапе олимпиады по математике и русскому языку, учитываются 1 раз) | N4: Количество обучающихся с ОВЗ 4 классов, участников ШЭ ВСОШ по математике | O4: Количество победителей - обучающихся с ОВЗ 4 классов по математике | P4: Количество призёров - обучающихся с ОВЗ 4 классов по математике | Q4: Количество обучающихся с ОВЗ 4 классов, участников ШЭ ВСОШ по русскому языку | R4: Количество победителей - обучающихся с ОВЗ 4 классов по русскому языку | S4: Количество призёров - обучающихся с ОВЗ 4 классов по русскому языку
A5: 1 | B5: Батыревский муниципальный округ | C5: МБОУ "Балабаш -Баишевская СОШ"
A6: 2 | B6: Батыревский муниципальный округ | C6: МАОУ "Батыревская СОШ №1"
A7: 3 | B7: Батыревский муниципальный округ | C7: МБОУ "Батыревская СОШ №2"
A8: 4 | B8: Батыревский муниципальный округ | C8: МБОУ "Большечеменевская СОШ"
A9: 5 | B9: Батыревский муниципальный округ | C9: МБОУ "Долгоостровская СОШ"
A10: 6 | B10: Батыревский муниципальный округ | C10: МБОУ "Норваш Шигалинская СОШ"
A11: 7 | B11: Батыревский муниципальный округ | C11: МБОУ "Первомайская СОШ имени В.Митты"
A12: 8 | B12: Батыревский муниципальный округ | C12: МБОУ "Полевобикшикская СОШ"
A13: 9 | B13: Батыревский муниципальный округ | C13: МАОУ "Сугутская СОШ"
A14: 10 | B14: Батыревский муниципальный округ | C14: МБОУ "Тарханская СОШ"
A15: 11 | B15: Батыревский муниципальный округ | C15: МАОУ "Татарско-Сугутская СОШ"
A16: 12 | B16: Батыревский муниципальный округ | C16: МБОУ "Тойсинская СОШ"
... A19: 15 | B19: Батыревский муниципальный округ | C19: МБОУ "Новоахпердинская ООШ"
A20: 16 | B20: Батыревский муниципальный округ | C20: МБОУ "Шаймурзинская ООШ имени Г.Айги" | D20: 7 | E20: 7 | F20: 7 | G20: 0 | H20: 1 | I20: 7 | J20: 0 | K20: 2 | L20: 0 | M20: 0 | N20: 0 | O20: 0 | P20: 0 | Q20: 0 | R20: 0 | S20: 0
A22: строчку не удалять (считается автоматически) | D22: =SUM(D5:D20) -> 7 | E22: =SUM(E5:E20) -> 7 | F22: =SUM(F5:F20) -> 7 | G22: =SUM(G5:G20) -> 0 | H22: =SUM(H5:H20) -> 1 | I22: =SUM(I5:I20) -> 7 | J22: =SUM(J5:J20) -> 0 | K22: =SUM(K5:K20) -> 2 | ... S22: =SUM(S5:S20) -> 0

Sheet Общие итоги
A1: * Данная таблица заполняется автоматически по итогам внесения данных на листы "Итоги участия_Ч_1" и "Итоги участия_Ч_2"
A2: Общие итоги участия в школьном этапе Всероссийской олимпиады школьников 2025/2026 учебного года
A5: № | B5: Предметы | C5: Всего
C6: Кол-во участников | D6: Победители | E6: Призеры | F6: Победителей и призеров
A7: 1 | B7: Астрономия | C7: ='Итоги участия_Ч_1'!AD25 -> 1 | D7: ='Итоги участия_Ч_1'!AE25 -> 0 | E7: ='Итоги участия_Ч_1'!AF25 -> 0 | F7: =SUM(D7:E7) -> 0
A8: 2 | B8: Биология | C8: ='Итоги участия_Ч_1'!BB25 -> 28 | D8: ='Итоги участия_Ч_1'!BC25 -> 0 | E8: ='Итоги участия_Ч_1'!BD25 -> 5 | F8: =SUM(D8:E8) -> 5
A9: 3 | B9: География | C9: ='Итоги участия_Ч_1'!BZ25 -> 22 | D9: ='Итоги участия_Ч_1'!CA25 -> 0 | E9: ='Итоги участия_Ч_1'!CB25 -> 4 | F9: =SUM(D9:E9) -> 4
A10: 4 | B10: Информатика | C10: ='Итоги участия_Ч_1'!CX25 -> 0 | D10: ='Итоги участия_Ч_1'!CY25 -> 0 | E10: ='Итоги участия_Ч_1'!CZ25 -> 0 | F10: =SUM(D10:E10) -> 0
A11: 5 | B11: Искусство (МХК) | C11: ='Итоги участия_Ч_1'!DV25 -> 22 | D11: ='Итоги участия_Ч_1'!DW25 -> 0 | E11: ='Итоги участия_Ч_1'!DX25 -> 0 | F11: =SUM(D11:E11) -> 0
A12: 6 | B12: История | C12: ='Итоги участия_Ч_1'!ET25 -> 23 | D12: ='Итоги участия_Ч_1'!EU25 -> 0 | E12: ='Итоги участия_Ч_1'!EV25 -> 2 | F12: =SUM(D12:E12) -> 2
A13: 7 | B13: Литература | C13: ='Итоги участия_Ч_1'!FR25 -> 23 | D13: ='Итоги участия_Ч_1'!FS25 -> 0 | E13: ='Итоги участия_Ч_1'!FT25 -> 5 | F13: =SUM(D13:E13) -> 5
A14: 8 | B14: Математика | C14: ='Итоги участия_Ч_1'!GP25 -> 12 | D14: ='Итоги участия_Ч_1'!GQ25 -> 0 | E14: ='Итоги участия_Ч_1'!GR25 -> 0 | F14: =SUM(D14:E14) -> 0
A15: 9 | B15: ОБЗР | C15: ='Итоги участия_Ч_1'!HN25 -> 17 | D15: ='Итоги участия_Ч_1'!HO25 -> 0 | E15: ='Итоги участия_Ч_1'!HP25 -> 0 | F15: =SUM(D15:E15) -> 0
A16: 10 | B16: Обществознание | C16: ='Итоги участия_Ч_1'!IF25 -> 12 | D16: ='Итоги участия_Ч_1'!IG25 -> 0 | E16: ='Итоги участия_Ч_1'!IH25 -> 3 | F16: =SUM(D16:E16) -> 3
A17: 11 | B17: Право | C17: ='Итоги участия_Ч_1'!IX25 -> 10 | D17: ='Итоги участия_Ч_1'!IY25 -> 0 | E17: ='Итоги участия_Ч_1'!IZ25 -> 1 | F17: =SUM(D17:E17) -> 1
A18: 12 | B18: Русский язык | C18: ='Итоги участия_Ч_1'!JV25 -> 23 | D18: ='Итоги участия_Ч_1'!JW25 -> 0 | E18: ='Итоги участия_Ч_1'!JX25 -> 5 | F18: =SUM(D18:E18) -> 5
A19: 13 | B19: Труд (технология) | C19: ='Итоги участия_Ч_2'!Y26 -> 19 | D19: ='Итоги участия_Ч_2'!Z26 -> 0 | E19: ='Итоги участия_Ч_2'!AA26 -> 2 | F19: =SUM(D19:E19) -> 2
A20: 14 | B20: Физика | C20: ='Итоги участия_Ч_2'!AQ26 -> 2 | D20: ='Итоги участия_Ч_2'!AR26 -> 0 | E20: ='Итоги участия_Ч_2'!AS26 -> 0 | F20: =SUM(D20:E20) -> 0
A21: 15 | B21: Физическая культура | C21: ='Итоги участия_Ч_2'!BO26 -> 15 | D21: ='Итоги участия_Ч_2'!BP26 -> 0 | E21: ='Итоги участия_Ч_2'!BQ26 -> 0 | F21: =SUM(D21:E21) -> 0
A22: 16 | B22: Химия | C22: ='Итоги участия_Ч_2'!CJ26 -> 3 | D22: ='Итоги участия_Ч_2'!CK26 -> 0 | E22: ='Итоги участия_Ч_2'!CL26 -> 0 | F22: =SUM(D22:E22) -> 0
A23: 17 | B23: Экология | C23: ='Итоги участия_Ч_2'!DB26 -> 9 | D23: ='Итоги участия_Ч_2'!DC26 -> 0 | E23: ='Итоги участия_Ч_2'!DD26 -> 0 | F23: =SUM(D23:E23) -> 0
A24: 18 | B24: Экономика | C24: ='Итоги участия_Ч_2'!DT26 -> 3 | D24: ='Итоги участия_Ч_2'!DU26 -> 0 | E24: ='Итоги участия_Ч_2'!DV26 -> 0 | F24: =SUM(D24:E24) -> 0
A25: 19 | B25: Английский язык | C25: ='Итоги участия_Ч_2'!ER26 -> 23 | D25: ='Итоги участия_Ч_2'!ES26 -> 0 | E25: ='Итоги участия_Ч_2'!ET26 -> 5 | F25: =SUM(D25:E25) -> 5
A26: 20 | B26: Немецкий язык | C26: ='Итоги участия_Ч_2'!FJ26 -> 0 | D26: ='Итоги участия_Ч_2'!FK26 -> 0 | E26: ='Итоги участия_Ч_2'!FL26 -> 0 | F26: =SUM(D26:E26) -> 0
A27: 21 | B27: Французский язык | C27: ='Итоги участия_Ч_2'!GB26 -> 0 | D27: ='Итоги участия_Ч_2'!GC26 -> 0 | E27: ='Итоги участия_Ч_2'!GD26 -> 0 | F27: =SUM(D27:E27) -> 0
A28: 22 | B28: Китайский язык | C28: ='Итоги участия_Ч_2'!GQ26 -> 0 | D28: ='Итоги участия_Ч_2'!GR26 -> 0 | E28: ='Итоги участия_Ч_2'!GS26 -> 0 | F28: =SUM(D28:E28) -> 0
A29: 23 | B29: Испанский язык | C29: ='Итоги участия_Ч_2'!HF26 -> 0 | D29: ='Итоги участия_Ч_2'!HG26 -> 0 | E29: ='Итоги участия_Ч_2'!HH26 -> 0 | F29: =SUM(D29:E29) -> 0
A30: 24 | B30: Итальянский язык | C30: ='Итоги участия_Ч_2'!HU26 -> 0 | D30: ='Итоги участия_Ч_2'!HV26 -> 0 | E30: ='Итоги участия_Ч_2'!HW26 -> 0 | F30: =SUM(D30:E30) -> 0
B31: ИТОГО | C31: =SUM(C7:C30) -> 267 | D31: =SUM(D7:D30) -> 0 | E31: =SUM(E7:E30) -> 32 | F31: =SUM(D31:E31) -> 32
A33: * Данная таблица заполняется автоматически по итогам внесения данных на листы "Итоги участия_Ч_1" и "Итоги участия_Ч_2"

Sheet Итоги по ОО
B1: * Данная таблица заполняется автоматически по итогам внесения данных на листы "Итоги участия_Ч_1" и "Итоги участия_Ч_2"
B2: Итоги школьного этапа всероссийской олимпиады школьников 2025/2026 учебного года
A5: № | B5: Муниципальный/ городской округ* Чувашской Республики | C5: Образовательная организация (указывается сокращенное название ОО (по УСТАВУ)) | D5: Общие данные | F5: Данные по обучающимся с ОВЗ | I5: Астрономия | L5: Биология | O5: География | R5: Информатика | U5: Искусство (МХК) | X5: История | AA5: Литература | AD5: Математика (с 5 по 11 кл.) | AG5: ОБЗР | AJ5: Обществознание | AM5: Право | AP5: Русский язык (с 5 по 11 кл.) | AS5: Труд (Технология) | AV5: Физика | AY5: Физическая культура | BB5: Химия | BE5: Экология | BH5: Экономика | BK5: Английский язык | BN5: Немецкий язык | BQ5: Французский язык | BT5: Китайский язык | BW5: Испанский язык | BZ5: Итальянский язык | CD5: Итого по всем предметам (считается автоматически)
D6: Общее количество обучающихся 5-11 классов | E6: Кол-во участников - обучающихся 5-11 классов (обучающийся, принявший участие по нескольким предметам, учитывается 1 раз) | F6: Общее количество обучающихся с ОВЗ -обучающихся 5-11 классов | G6: Количество обучающихся с ОВЗ 5-11 классов, участников ШЭ ВсОШ (обучающийся, принявший участие по нескольким предметам, учитывается 1 раз) | H6: Количество призовых мест по всем предметам, занятых обучающимися с ОВЗ 5-11 классов, участников ШЭ ВсОШ | I6: Всего | J6: Победители | K6: Призеры | L6: Всего | M6: Победители | N6: Призеры | O6: Всего | P6: Победители | Q6: Призеры | R6: Всего | S6: Победители | T6: Призеры | U6: Всего | V6: Победители | W6: Призеры | X6: Всего | Y6: Победители | Z6: Призеры | AA6: Всего | AB6: Победители | AC6: Призеры | AD6: Всего | AE6: Победители | AF6: Призеры | AG6: Всего | AH6: Победители | AI6: Призеры | AJ6: Всего | AK6: Победители | AL6: Призеры | AM6: Всего | AN6: Победители | AO6: Призеры | AP6: Всего | AQ6: Победители | AR6: Призеры | AS6: Всего | AT6: Победители | AU6: Призеры | AV6: Всего | AW6: Победители | AX6: Призеры | AY6: Всего | AZ6: Победители | BA6: Призеры | BB6: Всего | BC6: Победители | BD6: Призеры | BE6: Всего | BF6: Победители | BG6: Призеры | BH6: Всего | BI6: Победители | BJ6: Призеры | BK6: Всего | BL6: Победители | BM6: Призеры | BN6: Всего | BO6: Победители | BP6: Призеры | BQ6: Всего | BR6: Победители | BS6: Призеры | BT6: Всего | BU6: Победители | BV6: Призеры | BW6: Всего | BX6: Победители | BY6: Призеры | BZ6: Всего | CA6: Победители | CB6: Призеры | CD6: всего | CE6: победители | CF6: призеры | CG6: победителей и призеров всего
A7: 10 | B7: ='Итоги участия_Ч_1'!B17 -> Батыревский муниципальный округ | C7: ='Итоги участия_Ч_1'!C17 -> МБОУ "Тарханская СОШ" | D7: ='Итоги участия_Ч_1'!D17 -> 0 | E7: ='Итоги участия_Ч_1'!E17 -> 0 | F7: ='Итоги участия_Ч_1'!F17 -> 0 | G7: ='Итоги участия_Ч_1'!G17 -> 0 | H7: ='Итоги участия_Ч_1'!H17 -> 0 | I7: ='Итоги участия_Ч_1'!AD17 -> 0 | J7: ='Итоги участия_Ч_1'!AE17 -> 0 | K7: ='Итоги участия_Ч_1'!AF17 -> 0 | L7: ='Итоги участия_Ч_1'!BB17 -> 0 | M7: ='Итоги участия_Ч_1'!BC17 -> 0 | N7: ='Итоги участия_Ч_1'!BD17 -> 0 | O7: ='Итоги участия_Ч_1'!BZ17 -> 0 | P7: ='Итоги участия_Ч_1'!CA17 -> 0 | Q7: ='Итоги участия_Ч_1'!CB17 -> 0 | R7: ='Итоги участия_Ч_1'!CX17 -> 0 | S7: ='Итоги участия_Ч_1'!CY17 -> 0 | T7: ='Итоги участия_Ч_1'!CZ17 -> 0 | U7: ='Итоги участия_Ч_1'!DV17 -> 0 | V7: ='Итоги участия_Ч_1'!DW17 -> 0 | W7: ='Итоги участия_Ч_1'!DX17 -> 0 | X7: ='Итоги участия_Ч_1'!ET17 -> 0 | Y7: ='Итоги участия_Ч_1'!EU17 -> 0 | Z7: ='Итоги участия_Ч_1'!EV17 -> 0 | AA7: ='Итоги участия_Ч_1'!FR17 -> 0 | AB7: ='Итоги участия_Ч_1'!FS17 -> 0 | AC7: ='Итоги участия_Ч_1'!FT17 -> 0 | AD7: ='Итоги участия_Ч_1'!GP17 -> 0 | AE7: ='Итоги участия_Ч_1'!GQ17 -> 0 | AF7: ='Итоги участия_Ч_1'!GR17 -> 0 | AG7: ='Итоги участия_Ч_1'!HN17 -> 0 | AH7: ='Итоги участия_Ч_1'!HO17 -> 0 | AI7: ='Итоги участия_Ч_1'!HP17 -> 0 | AJ7: ='Итоги участия_Ч_1'!IF17 -> 0 | AK7: ='Итоги участия_Ч_1'!IG17 -> 0 | AL7: ='Итоги участия_Ч_1'!IH17 -> 0 | AM7: ='Итоги участия_Ч_1'!IX17 -> 0 | AN7: ='Итоги участия_Ч_1'!IY17 -> 0 | AO7: ='Итоги участия_Ч_1'!IZ17 -> 0 | AP7: ='Итоги участия_Ч_1'!JV17 -> 0 | AQ7: ='Итоги участия_Ч_1'!JW17 -> 0 | AR7: ='Итоги участия_Ч_1'!JX17 -> 0 | AS7: ='Итоги участия_Ч_2'!Y18 -> 0 | AT7: ='Итоги участия_Ч_2'!Z18 -> 0 | AU7: ='Итоги участия_Ч_2'!AA18 -> 0 | AV7: ='Итоги участия_Ч_2'!AQ18 -> 0 | AW7: ='Итоги участия_Ч_2'!AR18 -> 0 | AX7: ='Итоги участия_Ч_2'!AS18 -> 0 | AY7: ='Итоги участия_Ч_2'!BO18 -> 0 | AZ7: ='Итоги участия_Ч_2'!BP18 -> 0 | BA7: ='Итоги участия_Ч_2'!BQ18 -> 0 | BB7: ='Итоги участия_Ч_2'!CJ18 -> 0 | BC7: ='Итоги участия_Ч_2'!CK18 -> 0 | BD7: ='Итоги участия_Ч_2'!CL18 -> 0 | BE7: ='Итоги участия_Ч_2'!DB18 -> 0 | BF7: ='Итоги участия_Ч_2'!DC18 -> 0 | BG7: ='Итоги участия_Ч_2'!DD18 -> 0 | BH7: ='Итоги участия_Ч_2'!DT18 -> 0 | BI7: ='Итоги участия_Ч_2'!DU18 -> 0 | BJ7: ='Итоги участия_Ч_2'!DV18 -> 0 | BK7: ='Итоги участия_Ч_2'!ER18 -> 0 | BL7: ='Итоги участия_Ч_2'!ES18 -> 0 | BM7: ='Итоги участия_Ч_2'!ET18 -> 0 | BN7: ='Итоги участия_Ч_2'!FJ18 -> 0 | BO7: ='Итоги участия_Ч_2'!FK18 -> 0 | BP7: ='Итоги участия_Ч_2'!FL18 -> 0 | BQ7: ='Итоги участия_Ч_2'!GB18 -> 0 | BR7: ='Итоги участия_Ч_2'!GC18 -> 0 | BS7: ='Итоги участия_Ч_2'!GD18 -> 0 | BT7: ='Итоги участия_Ч_2'!GQ18 -> 0 | BU7: ='Итоги участия_Ч_2'!GR18 -> 0 | BV7: ='Итоги участия_Ч_2'!GS18 -> 0 | BW7: ='Итоги участия_Ч_2'!HF18 -> 0 | BX7: ='Итоги участия_Ч_2'!HG18 -> 0 | BY7: ='Итоги участия_Ч_2'!HH18 -> 0 | BZ7: ='Итоги участия_Ч_2'!HU18 -> 0 | CA7: ='Итоги участия_Ч_2'!HV18 -> 0 | CB7: ='Итоги участия_Ч_2'!HW18 -> 0 | CD7: =I7+L7+O7+R7+U7+X7+AA7+AD7+AG7+AJ7+AM7+AP7+AS7+AV7+AY7+BB7+BE7+BH7+BK7+BN7+BQ7+BT7+BW7+BZ7 -> 0 | CE7: =J7+M7+P7+S7+V7+Y7+AB7+AE7+AH7+AK7+AN7+AQ7+AT7+AW7+AZ7+BC7+BF7+BI7+BL7+BO7+BR7+BU7+BX7+CA7 -> 0 | CF7: =K7+N7+Q7+T7+W7+Z7+AC7+AF7+AI7+AL7+AO7+AR7+AU7+AX7+BA7+BD7+BG7+BJ7+BM7+BP7+BS7+BV7+BY7+CB7 -> 0 | CG7: =CE7+CF7 -> 0
A8: 11 | B8: ='Итоги участия_Ч_1'!B18 -> Батыревский муниципальный округ | C8: ='Итоги участия_Ч_1'!C18 -> МАОУ "Татарско-Сугутская СОШ" | D8: ='Итоги участия_Ч_1'!D18 -> 0 | E8: ='Итоги участия_Ч_1'!E18 -> 0 | F8: ='Итоги участия_Ч_1'!F18 -> 0 | G8: ='Итоги участия_Ч_1'!G18 -> 0 | H8: ='Итоги участия_Ч_1'!H18 -> 0 | I8: ='Итоги участия_Ч_1'!AD18 -> 0 | J8: ='Итоги участия_Ч_1'!AE18 -> 0 | K8: ='Итоги участия_Ч_1'!AF18 -> 0 | L8: ='Итоги участия_Ч_1'!BB18 -> 0 | M8: ='Итоги участия_Ч_1'!BC18 -> 0 | N8: ='Итоги участия_Ч_1'!BD18 -> 0 | O8: ='Итоги участия_Ч_1'!BZ18 -> 0 | P8: ='Итоги участия_Ч_1'!CA18 -> 0 | Q8: ='Итоги участия_Ч_1'!CB18 -> 0 | R8: ='Итоги участия_Ч_1'!CX18 -> 0 | S8: ='Итоги участия_Ч_1'!CY18 -> 0 | T8: ='Итоги участия_Ч_1'!CZ18 -> 0 | U8: ='Итоги участия_Ч_1'!DV18 -> 0 | V8: ='Итоги участия_Ч_1'!DW18 -> 0 | W8: ='Итоги участия_Ч_1'!DX18 -> 0 | X8: ='Итоги участия_Ч_1'!ET18 -> 0 | Y8: ='Итоги участия_Ч_1'!EU18 -> 0 | Z8: ='Итоги участия_Ч_1'!EV18 -> 0 | AA8: ='Итоги участия_Ч_1'!FR18 -> 0 | AB8: ='Итоги участия_Ч_1'!FS18 -> 0 | AC8: ='Итоги участия_Ч_1'!FT18 -> 0 | AD8: ='Итоги участия_Ч_1'!GP18 -> 0 | AE8: ='Итоги участия_Ч_1'!GQ18 -> 0 | AF8: ='Итоги участия_Ч_1'!GR18 -> 0 | AG8: ='Итоги участия_Ч_1'!HN18 -> 0 | AH8: ='Итоги участия_Ч_1'!HO18 -> 0 | AI8: ='Итоги участия_Ч_1'!HP18 -> 0 | AJ8: ='Итоги участия_Ч_1'!IF18 -> 0 | AK8: ='Итоги участия_Ч_1'!IG18 -> 0 | AL8: ='Итоги участия_Ч_1'!IH18 -> 0 | AM8: ='Итоги участия_Ч_1'!IX18 -> 0 | AN8: ='Итоги участия_Ч_1'!IY18 -> 0 | AO8: ='Итоги участия_Ч_1'!IZ18 -> 0 | AP8: ='Итоги участия_Ч_1'!JV18 -> 0 | AQ8: ='Итоги участия_Ч_1'!JW18 -> 0 | AR8: ='Итоги участия_Ч_1'!JX18 -> 0 | AS8: ='Итоги участия_Ч_2'!Y19 -> 0 | AT8: ='Итоги участия_Ч_2'!Z19 -> 0 | AU8: ='Итоги участия_Ч_2'!AA19 -> 0 | AV8: ='Итоги участия_Ч_2'!AQ19 -> 0 | AW8: ='Итоги участия_Ч_2'!AR19 -> 0 | AX8: ='Итоги участия_Ч_2'!AS19 -> 0 | AY8: ='Итоги участия_Ч_2'!BO19 -> 0 | AZ8: ='Итоги участия_Ч_2'!BP19 -> 0 | BA8: ='Итоги участия_Ч_2'!BQ19 -> 0 | BB8: ='Итоги участия_Ч_2'!CJ19 -> 0 | BC8: ='Итоги участия_Ч_2'!CK19 -> 0 | BD8: ='Итоги участия_Ч_2'!CL19 -> 0 | BE8: ='Итоги участия_Ч_2'!DB19 -> 0 | BF8: ='Итоги участия_Ч_2'!DC19 -> 0 | BG8: ='Итоги участия_Ч_2'!DD19 -> 0 | BH8: ='Итоги участия_Ч_2'!DT19 -> 0 | BI8: ='Итоги участия_Ч_2'!DU19 -> 0 | BJ8: ='Итоги участия_Ч_2'!DV19 -> 0 | BK8: ='Итоги участия_Ч_2'!ER19 -> 0 | BL8: ='Итоги участия_Ч_2'!ES19 -> 0 | BM8: ='Итоги участия_Ч_2'!ET19 -> 0 | BN8: ='Итоги участия_Ч_2'!FJ19 -> 0 | BO8: ='Итоги участия_Ч_2'!FK19 -> 0 | BP8: ='Итоги участия_Ч_2'!FL19 -> 0 | BQ8: ='Итоги участия_Ч_2'!GB19 -> 0 | BR8: ='Итоги участия_Ч_2'!GC19 -> 0 | BS8: ='Итоги участия_Ч_2'!GD19 -> 0 | BT8: ='Итоги участия_Ч_2'!GQ19 -> 0 | BU8: ='Итоги участия_Ч_2'!GR19 -> 0 | BV8: ='Итоги участия_Ч_2'!GS19 -> 0 | BW8: ='Итоги участия_Ч_2'!HF19 -> 0 | BX8: ='Итоги участия_Ч_2'!HG19 -> 0 | BY8: ='Итоги участия_Ч_2'!HH19 -> 0 | BZ8: ='Итоги участия_Ч_2'!HU19 -> 0 | CA8: ='Итоги участия_Ч_2'!HV19 -> 0 | CB8: ='Итоги участия_Ч_2'!HW19 -> 0 | CD8: =I8+L8+O8+R8+U8+X8+AA8+AD8+AG8+AJ8+AM8+AP8+AS8+AV8+AY8+BB8+BE8+BH8+BK8+BN8+BQ8+BT8+BW8+BZ8 -> 0 | CE8: =J8+M8+P8+S8+V8+Y8+AB8+AE8+AH8+AK8+AN8+AQ8+AT8+AW8+AZ8+BC8+BF8+BI8+BL8+BO8+BR8+BU8+BX8+CA8 -> 0 | CF8: =K8+N8+Q8+T8+W8+Z8+AC8+AF8+AI8+AL8+AO8+AR8+AU8+AX8+BA8+BD8+BG8+BJ8+BM8+BP8+BS8+BV8+BY8+CB8 -> 0 | CG8: =CE8+CF8 -> 0
A9: 12 | B9: ='Итоги участия_Ч_1'!B19 -> Батыревский муниципальный округ | C9: ='Итоги участия_Ч_1'!C19 -> МБОУ "Тойсинская СОШ" | D9: ='Итоги участия_Ч_1'!D19 -> 0 | E9: ='Итоги участия_Ч_1'!E19 -> 0 | F9: ='Итоги участия_Ч_1'!F19 -> 0 | G9: ='Итоги участия_Ч_1'!G19 -> 0 | H9: ='Итоги участия_Ч_1'!H19 -> 0 | I9: ='Итоги участия_Ч_1'!AD19 -> 0 | J9: ='Итоги участия_Ч_1'!AE19 -> 0 | K9: ='Итоги участия_Ч_1'!AF19 -> 0 | L9: ='Итоги участия_Ч_1'!BB19 -> 0 | M9: ='Итоги участия_Ч_1'!BC19 -> 0 | N9: ='Итоги участия_Ч_1'!BD19 -> 0 | O9: ='Итоги участия_Ч_1'!BZ19 -> 0 | P9: ='Итоги участия_Ч_1'!CA19 -> 0 | Q9: ='Итоги участия_Ч_1'!CB19 -> 0 | R9: ='Итоги участия_Ч_1'!CX19 -> 0 | S9: ='Итоги участия_Ч_1'!CY19 -> 0 | T9: ='Итоги участия_Ч_1'!CZ19 -> 0 | U9: ='Итоги участия_Ч_1'!DV19 -> 0 | V9: ='Итоги участия_Ч_1'!DW19 -> 0 | W9: ='Итоги участия_Ч_1'!DX19 -> 0 | X9: ='Итоги участия_Ч_1'!ET19 -> 0 | Y9: ='Итоги участия_Ч_1'!EU19 -> 0 | Z9: ='Итоги участия_Ч_1'!EV19 -> 0 | AA9: ='Итоги участия_Ч_1'!FR19 -> 0 | AB9: ='Итоги участия_Ч_1'!FS19 -> 0 | AC9: ='Итоги участия_Ч_1'!FT19 -> 0 | AD9: ='Итоги участия_Ч_1'!GP19 -> 0 | AE9: ='Итоги участия_Ч_1'!GQ19 -> 0 | AF9: ='Итоги участия_Ч_1'!GR19 -> 0 | AG9: ='Итоги участия_Ч_1'!HN19 -> 0 | AH9: ='Итоги участия_Ч_1'!HO19 -> 0 | AI9: ='Итоги участия_Ч_1'!HP19 -> 0 | AJ9: ='Итоги участия_Ч_1'!IF19 -> 0 | AK9: ='Итоги участия_Ч_1'!IG19 -> 0 | AL9: ='Итоги участия_Ч_1'!IH19 -> 0 | AM9: ='Итоги участия_Ч_1'!IX19 -> 0 | AN9: ='Итоги участия_Ч_1'!IY19 -> 0 | AO9: ='Итоги участия_Ч_1'!IZ19 -> 0 | AP9: ='Итоги участия_Ч_1'!JV19 -> 0 | AQ9: ='Итоги участия_Ч_1'!JW19 -> 0 | AR9: ='Итоги участия_Ч_1'!JX19 -> 0 | AS9: ='Итоги участия_Ч_2'!Y20 -> 0 | AT9: ='Итоги участия_Ч_2'!Z20 -> 0 | AU9: ='Итоги участия_Ч_2'!AA20 -> 0 | AV9: ='Итоги участия_Ч_2'!AQ20 -> 0 | AW9: ='Итоги участия_Ч_2'!AR20 -> 0 | AX9: ='Итоги участия_Ч_2'!AS20 -> 0 | AY9: ='Итоги участия_Ч_2'!BO20 -> 0 | AZ9: ='Итоги участия_Ч_2'!BP20 -> 0 | BA9: ='Итоги участия_Ч_2'!BQ20 -> 0 | BB9: ='Итоги участия_Ч_2'!CJ20 -> 0 | BC9: ='Итоги участия_Ч_2'!CK20 -> 0 | BD9: ='Итоги участия_Ч_2'!CL20 -> 0 | BE9: ='Итоги участия_Ч_2'!DB20 -> 0 | BF9: ='Итоги участия_Ч_2'!DC20 -> 0 | BG9: ='Итоги участия_Ч_2'!DD20 -> 0 | BH9: ='Итоги участия_Ч_2'!DT20 -> 0 | BI9: ='Итоги участия_Ч_2'!DU20 -> 0 | BJ9: ='Итоги участия_Ч_2'!DV20 -> 0 | BK9: ='Итоги участия_Ч_2'!ER20 -> 0 | BL9: ='Итоги участия_Ч_2'!ES20 -> 0 | BM9: ='Итоги участия_Ч_2'!ET20 -> 0 | BN9: ='Итоги участия_Ч_2'!FJ20 -> 0 | BO9: ='Итоги участия_Ч_2'!FK20 -> 0 | BP9: ='Итоги участия_Ч_2'!FL20 -> 0 | BQ9: ='Итоги участия_Ч_2'!GB20 -> 0 | BR9: ='Итоги участия_Ч_2'!GC20 -> 0 | BS9: ='Итоги участия_Ч_2'!GD20 -> 0 | BT9: ='Итоги участия_Ч_2'!GQ20 -> 0 | BU9: ='Итоги участия_Ч_2'!GR20 -> 0 | BV9: ='Итоги участия_Ч_2'!GS20 -> 0 | BW9: ='Итоги участия_Ч_2'!HF20 -> 0 | BX9: ='Итоги участия_Ч_2'!HG20 -> 0 | BY9: ='Итоги участия_Ч_2'!HH20 -> 0 | BZ9: ='Итоги участия_Ч_2'!HU20 -> 0 | CA9: ='Итоги участия_Ч_2'!HV20 -> 0 | CB9: ='Итоги участия_Ч_2'!HW20 -> 0 | CD9: =I9+L9+O9+R9+U9+X9+AA9+AD9+AG9+AJ9+AM9+AP9+AS9+AV9+AY9+BB9+BE9+BH9+BK9+BN9+BQ9+BT9+BW9+BZ9 -> 0 | CE9: =J9+M9+P9+S9+V9+Y9+AB9+AE9+AH9+AK9+AN9+AQ9+AT9+AW9+AZ9+BC9+BF9+BI9+BL9+BO9+BR9+BU9+BX9+CA9 -> 0 | CF9: =K9+N9+Q9+T9+W9+Z9+AC9+AF9+AI9+AL9+AO9+AR9+AU9+AX9+BA9+BD9+BG9+BJ9+BM9+BP9+BS9+BV9+BY9+CB9 -> 0 | CG9: =CE9+CF9 -> 0
A10: 13 | B10: ='Итоги участия_Ч_1'!B20 -> Батыревский муниципальный округ | C10: ='Итоги участия_Ч_1'!C20 -> МАОУ "Шыгырданская СОШ №1" | D10: ='Итоги участия_Ч_1'!D20 -> 0 | E10: ='Итоги участия_Ч_1'!E20 -> 0 | F10: ='Итоги участия_Ч_1'!F20 -> 0 | G10: ='Итоги участия_Ч_1'!G20 -> 0 | H10: ='Итоги участия_Ч_1'!H20 -> 0 | I10: ='Итоги участия_Ч_1'!AD20 -> 0 | J10: ='Итоги участия_Ч_1'!AE20 -> 0 | K10: ='Итоги участия_Ч_1'!AF20 -> 0 | L10: ='Итоги участия_Ч_1'!BB20 -> 0 | M10: ='Итоги участия_Ч_1'!BC20 -> 0 | N10: ='Итоги участия_Ч_1'!BD20 -> 0 | O10: ='Итоги участия_Ч_1'!BZ20 -> 0 | P10: ='Итоги участия_Ч_1'!CA20 -> 0 | Q10: ='Итоги участия_Ч_1'!CB20 -> 0 | R10: ='Итоги участия_Ч_1'!CX20 -> 0 | S10: ='Итоги участия_Ч_1'!CY20 -> 0 | T10: ='Итоги участия_Ч_1'!CZ20 -> 0 | U10: ='Итоги участия_Ч_1'!DV20 -> 0 | V10: ='Итоги участия_Ч_1'!DW20 -> 0 | W10: ='Итоги участия_Ч_1'!DX20 -> 0 | X10: ='Итоги участия_Ч_1'!ET20 -> 0 | Y10: ='Итоги участия_Ч_1'!EU20 -> 0 | Z10: ='Итоги участия_Ч_1'!EV20 -> 0 | AA10: ='Итоги участия_Ч_1'!FR20 -> 0 | AB10: ='Итоги участия_Ч_1'!FS20 -> 0 | AC10: ='Итоги участия_Ч_1'!FT20 -> 0 | AD10: ='Итоги участия_Ч_1'!GP20 -> 0 | AE10: ='Итоги участия_Ч_1'!GQ20 -> 0 | AF10: ='Итоги участия_Ч_1'!GR20 -> 0 | AG10: ='Итоги участия_Ч_1'!HN20 -> 0 | AH10: ='Итоги участия_Ч_1'!HO20 -> 0 | AI10: ='Итоги участия_Ч_1'!HP20 -> 0 | AJ10: ='Итоги участия_Ч_1'!IF20 -> 0 | AK10: ='Итоги участия_Ч_1'!IG20 -> 0 | AL10: ='Итоги участия_Ч_1'!IH20 -> 0 | AM10: ='Итоги участия_Ч_1'!IX20 -> 0 | AN10: ='Итоги участия_Ч_1'!IY20 -> 0 | AO10: ='Итоги участия_Ч_1'!IZ20 -> 0 | AP10: ='Итоги участия_Ч_1'!JV20 -> 0 | AQ10: ='Итоги участия_Ч_1'!JW20 -> 0 | AR10: ='Итоги участия_Ч_1'!JX20 -> 0 | AS10: ='Итоги участия_Ч_2'!Y21 -> 0 | AT10: ='Итоги участия_Ч_2'!Z21 -> 0 | AU10: ='Итоги участия_Ч_2'!AA21 -> 0 | AV10: ='Итоги участия_Ч_2'!AQ21 -> 0 | AW10: ='Итоги участия_Ч_2'!AR21 -> 0 | AX10: ='Итоги участия_Ч_2'!AS21 -> 0 | AY10: ='Итоги участия_Ч_2'!BO21 -> 0 | AZ10: ='Итоги участия_Ч_2'!BP21 -> 0 | BA10: ='Итоги участия_Ч_2'!BQ21 -> 0 | BB10: ='Итоги участия_Ч_2'!CJ21 -> 0 | BC10: ='Итоги участия_Ч_2'!CK21 -> 0 | BD10: ='Итоги участия_Ч_2'!CL21 -> 0 | BE10: ='Итоги участия_Ч_2'!DB21 -> 0 | BF10: ='Итоги участия_Ч_2'!DC21 -> 0 | BG10: ='Итоги участия_Ч_2'!DD21 -> 0 | BH10: ='Итоги участия_Ч_2'!DT21 -> 0 | BI10: ='Итоги участия_Ч_2'!DU21 -> 0 | BJ10: ='Итоги участия_Ч_2'!DV21 -> 0 | BK10: ='Итоги участия_Ч_2'!ER21 -> 0 | BL10: ='Итоги участия_Ч_2'!ES21 -> 0 | BM10: ='Итоги участия_Ч_2'!ET21 -> 0 | BN10: ='Итоги участия_Ч_2'!FJ21 -> 0 | BO10: ='Итоги участия_Ч_2'!FK21 -> 0 | BP10: ='Итоги участия_Ч_2'!FL21 -> 0 | BQ10: ='Итоги участия_Ч_2'!GB21 -> 0 | BR10: ='Итоги участия_Ч_2'!GC21 -> 0 | BS10: ='Итоги участия_Ч_2'!GD21 -> 0 | BT10: ='Итоги участия_Ч_2'!GQ21 -> 0 | BU10: ='Итоги участия_Ч_2'!GR21 -> 0 | BV10: ='Итоги участия_Ч_2'!GS21 -> 0 | BW10: ='Итоги участия_Ч_2'!HF21 -> 0 | BX10: ='Итоги участия_Ч_2'!HG21 -> 0 | BY10: ='Итоги участия_Ч_2'!HH21 -> 0 | BZ10: ='Итоги участия_Ч_2'!HU21 -> 0 | CA10: ='Итоги участия_Ч_2'!HV21 -> 0 | CB10: ='Итоги участия_Ч_2'!HW21 -> 0 | CD10: =I10+L10+O10+R10+U10+X10+AA10+AD10+AG10+AJ10+AM10+AP10+AS10+AV10+AY10+BB10+BE10+BH10+BK10+BN10+BQ10+BT10+BW10+BZ10 -> 0 | CE10: =J10+M10+P10+S10+V10+Y10+AB10+AE10+AH10+AK10+AN10+AQ10+AT10+AW10+AZ10+BC10+BF10+BI10+BL10+BO10+BR10+BU10+BX10+CA10 -> 0 | CF10: =K10+N10+Q10+T10+W10+Z10+AC10+AF10+AI10+AL10+AO10+AR10+AU10+AX10+BA10+BD10+BG10+BJ10+BM10+BP10+BS10+BV10+BY10+CB10 -> 0 | CG10: =CE10+CF10 -> 0
A11: 14 | B11: ='Итоги участия_Ч_1'!B21 -> Батыревский муниципальный округ | C11: ='Итоги участия_Ч_1'!C21 -> МАОУ "Шыгырданская СОШ имени профессора Э.З.Феизова" | D11: ='Итоги участия_Ч_1'!D21 -> 0 | E11: ='Итоги участия_Ч_1'!E21 -> 0 | F11: ='Итоги участия_Ч_1'!F21 -> 0 | G11: ='Итоги участия_Ч_1'!G21 -> 0 | H11: ='Итоги участия_Ч_1'!H21 -> 0 | I11: ='Итоги участия_Ч_1'!AD21 -> 0 | J11: ='Итоги участия_Ч_1'!AE21 -> 0 | K11: ='Итоги участия_Ч_1'!AF21 -> 0 | L11: ='Итоги участия_Ч_1'!BB21 -> 0 | M11: ='Итоги участия_Ч_1'!BC21 -> 0 | N11: ='Итоги участия_Ч_1'!BD21 -> 0 | O11: ='Итоги участия_Ч_1'!BZ21 -> 0 | P11: ='Итоги участия_Ч_1'!CA21 -> 0 | Q11: ='Итоги участия_Ч_1'!CB21 -> 0 | R11: ='Итоги участия_Ч_1'!CX21 -> 0 | S11: ='Итоги участия_Ч_1'!CY21 -> 0 | T11: ='Итоги участия_Ч_1'!CZ21 -> 0 | U11: ='Итоги участия_Ч_1'!DV21 -> 0 | V11: ='Итоги участия_Ч_1'!DW21 -> 0 | W11: ='Итоги участия_Ч_1'!DX21 -> 0 | X11: ='Итоги участия_Ч_1'!ET21 -> 0 | Y11: ='Итоги участия_Ч_1'!EU21 -> 0 | Z11: ='Итоги участия_Ч_1'!EV21 -> 0 | AA11: ='Итоги участия_Ч_1'!FR21 -> 0 | AB11: ='Итоги участия_Ч_1'!FS21 -> 0 | AC11: ='Итоги участия_Ч_1'!FT21 -> 0 | AD11: ='Итоги участия_Ч_1'!GP21 -> 0 | AE11: ='Итоги участия_Ч_1'!GQ21 -> 0 | AF11: ='Итоги участия_Ч_1'!GR21 -> 0 | AG11: ='Итоги участия_Ч_1'!HN21 -> 0 | AH11: ='Итоги участия_Ч_1'!HO21 -> 0 | AI11: ='Итоги участия_Ч_1'!HP21 -> 0 | AJ11: ='Итоги участия_Ч_1'!IF21 -> 0 | AK11: ='Итоги участия_Ч_1'!IG21 -> 0 | AL11: ='Итоги участия_Ч_1'!IH21 -> 0 | AM11: ='Итоги участия_Ч_1'!IX21 -> 0 | AN11: ='Итоги участия_Ч_1'!IY21 -> 0 | AO11: ='Итоги участия_Ч_1'!IZ21 -> 0 | AP11: ='Итоги участия_Ч_1'!JV21 -> 0 | AQ11: ='Итоги участия_Ч_1'!JW21 -> 0 | AR11: ='Итоги участия_Ч_1'!JX21 -> 0 | AS11: ='Итоги участия_Ч_2'!Y22 -> 0 | AT11: ='Итоги участия_Ч_2'!Z22 -> 0 | AU11: ='Итоги участия_Ч_2'!AA22 -> 0 | AV11: ='Итоги участия_Ч_2'!AQ22 -> 0 | AW11: ='Итоги участия_Ч_2'!AR22 -> 0 | AX11: ='Итоги участия_Ч_2'!AS22 -> 0 | AY11: ='Итоги участия_Ч_2'!BO22 -> 0 | AZ11: ='Итоги участия_Ч_2'!BP22 -> 0 | BA11: ='Итоги участия_Ч_2'!BQ22 -> 0 | BB11: ='Итоги участия_Ч_2'!CJ22 -> 0 | BC11: ='Итоги участия_Ч_2'!CK22 -> 0 | BD11: ='Итоги участия_Ч_2'!CL22 -> 0 | BE11: ='Итоги участия_Ч_2'!DB22 -> 0 | BF11: ='Итоги участия_Ч_2'!DC22 -> 0 | BG11: ='Итоги участия_Ч_2'!DD22 -> 0 | BH11: ='Итоги участия_Ч_2'!DT22 -> 0 | BI11: ='Итоги участия_Ч_2'!DU22 -> 0 | BJ11: ='Итоги участия_Ч_2'!DV22 -> 0 | BK11: ='Итоги участия_Ч_2'!ER22 -> 0 | BL11: ='Итоги участия_Ч_2'!ES22 -> 0 | BM11: ='Итоги участия_Ч_2'!ET22 -> 0 | BN11: ='Итоги участия_Ч_2'!FJ22 -> 0 | BO11: ='Итоги участия_Ч_2'!FK22 -> 0 | BP11: ='Итоги участия_Ч_2'!FL22 -> 0 | BQ11: ='Итоги участия_Ч_2'!GB22 -> 0 | BR11: ='Итоги участия_Ч_2'!GC22 -> 0 | BS11: ='Итоги участия_Ч_2'!GD22 -> 0 | BT11: ='Итоги участия_Ч_2'!GQ22 -> 0 | BU11: ='Итоги участия_Ч_2'!GR22 -> 0 | BV11: ='Итоги участия_Ч_2'!GS22 -> 0 | BW11: ='Итоги участия_Ч_2'!HF22 -> 0 | BX11: ='Итоги участия_Ч_2'!HG22 -> 0 | BY11: ='Итоги участия_Ч_2'!HH22 -> 0 | BZ11: ='Итоги участия_Ч_2'!HU22 -> 0 | CA11: ='Итоги участия_Ч_2'!HV22 -> 0 | CB11: ='Итоги участия_Ч_2'!HW22 -> 0 | CD11: =I11+L11+O11+R11+U11+X11+AA11+AD11+AG11+AJ11+AM11+AP11+AS11+AV11+AY11+BB11+BE11+BH11+BK11+BN11+BQ11+BT11+BW11+BZ11 -> 0 | CE11: =J11+M11+P11+S11+V11+Y11+AB11+AE11+AH11+AK11+AN11+AQ11+AT11+AW11+AZ11+BC11+BF11+BI11+BL11+BO11+BR11+BU11+BX11+CA11 -> 0 | CF11: =K11+N11+Q11+T11+W11+Z11+AC11+AF11+AI11+AL11+AO11+AR11+AU11+AX11+BA11+BD11+BG11+BJ11+BM11+BP11+BS11+BV11+BY11+CB11 -> 0 | CG11: =CE11+CF11 -> 0
A12: 15 | B12: ='Итоги участия_Ч_1'!B22 -> Батыревский муниципальный округ | C12: ='Итоги участия_Ч_1'!C22 -> МБОУ "Новоахпердинская ООШ" | D12: ='Итоги участия_Ч_1'!D22 -> 0 | E12: ='Итоги участия_Ч_1'!E22 -> 0 | F12: ='Итоги участия_Ч_1'!F22 -> 0 | G12: ='Итоги участия_Ч_1'!G22 -> 0 | H12: ='Итоги участия_Ч_1'!H22 -> 0 | I12: ='Итоги участия_Ч_1'!AD22 -> 0 | J12: ='Итоги участия_Ч_1'!AE22 -> 0 | K12: ='Итоги участия_Ч_1'!AF22 -> 0 | L12: ='Итоги участия_Ч_1'!BB22 -> 0 | M12: ='Итоги участия_Ч_1'!BC22 -> 0 | N12: ='Итоги участия_Ч_1'!BD22 -> 0 | O12: ='Итоги участия_Ч_1'!BZ22 -> 0 | P12: ='Итоги участия_Ч_1'!CA22 -> 0 | Q12: ='Итоги участия_Ч_1'!CB22 -> 0 | R12: ='Итоги участия_Ч_1'!CX22 -> 0 | S12: ='Итоги участия_Ч_1'!CY22 -> 0 | T12: ='Итоги участия_Ч_1'!CZ22 -> 0 | U12: ='Итоги участия_Ч_1'!DV22 -> 0 | V12: ='Итоги участия_Ч_1'!DW22 -> 0 | W12: ='Итоги участия_Ч_1'!DX22 -> 0 | X12: ='Итоги участия_Ч_1'!ET22 -> 0 | Y12: ='Итоги участия_Ч_1'!EU22 -> 0 | Z12: ='Итоги участия_Ч_1'!EV22 -> 0 | AA12: ='Итоги участия_Ч_1'!FR22 -> 0 | AB12: ='Итоги участия_Ч_1'!FS22 -> 0 | AC12: ='Итоги участия_Ч_1'!FT22 -> 0 | AD12: ='Итоги участия_Ч_1'!GP22 -> 0 | AE12: ='Итоги участия_Ч_1'!GQ22 -> 0 | AF12: ='Итоги участия_Ч_1'!GR22 -> 0 | AG12: ='Итоги участия_Ч_1'!HN22 -> 0 | AH12: ='Итоги участия_Ч_1'!HO22 -> 0 | AI12: ='Итоги участия_Ч_1'!HP22 -> 0 | AJ12: ='Итоги участия_Ч_1'!IF22 -> 0 | AK12: ='Итоги участия_Ч_1'!IG22 -> 0 | AL12: ='Итоги участия_Ч_1'!IH22 -> 0 | AM12: ='Итоги участия_Ч_1'!IX22 -> 0 | AN12: ='Итоги участия_Ч_1'!IY22 -> 0 | AO12: ='Итоги участия_Ч_1'!IZ22 -> 0 | AP12: ='Итоги участия_Ч_1'!JV22 -> 0 | AQ12: ='Итоги участия_Ч_1'!JW22 -> 0 | AR12: ='Итоги участия_Ч_1'!JX22 -> 0 | AS12: ='Итоги участия_Ч_2'!Y23 -> 0 | AT12: ='Итоги участия_Ч_2'!Z23 -> 0 | AU12: ='Итоги участия_Ч_2'!AA23 -> 0 | AV12: ='Итоги участия_Ч_2'!AQ23 -> 0 | AW12: ='Итоги участия_Ч_2'!AR23 -> 0 | AX12: ='Итоги участия_Ч_2'!AS23 -> 0 | AY12: ='Итоги участия_Ч_2'!BO23 -> 0 | AZ12: ='Итоги участия_Ч_2'!BP23 -> 0 | BA12: ='Итоги участия_Ч_2'!BQ23 -> 0 | BB12: ='Итоги участия_Ч_2'!CJ23 -> 0 | BC12: ='Итоги участия_Ч_2'!CK23 -> 0 | BD12: ='Итоги участия_Ч_2'!CL23 -> 0 | BE12: ='Итоги участия_Ч_2'!DB23 -> 0 | BF12: ='Итоги участия_Ч_2'!DC23 -> 0 | BG12: ='Итоги участия_Ч_2'!DD23 -> 0 | BH12: ='Итоги участия_Ч_2'!DT23 -> 0 | BI12: ='Итоги участия_Ч_2'!DU23 -> 0 | BJ12: ='Итоги участия_Ч_2'!DV23 -> 0 | BK12: ='Итоги участия_Ч_2'!ER23 -> 0 | BL12: ='Итоги участия_Ч_2'!ES23 -> 0 | BM12: ='Итоги участия_Ч_2'!ET23 -> 0 | BN12: ='Итоги участия_Ч_2'!FJ23 -> 0 | BO12: ='Итоги участия_Ч_2'!FK23 -> 0 | BP12: ='Итоги участия_Ч_2'!FL23 -> 0 | BQ12: ='Итоги участия_Ч_2'!GB23 -> 0 | BR12: ='Итоги участия_Ч_2'!GC23 -> 0 | BS12: ='Итоги участия_Ч_2'!GD23 -> 0 | BT12: ='Итоги участия_Ч_2'!GQ23 -> 0 | BU12: ='Итоги участия_Ч_2'!GR23 -> 0 | BV12: ='Итоги участия_Ч_2'!GS23 -> 0 | BW12: ='Итоги участия_Ч_2'!HF23 -> 0 | BX12: ='Итоги участия_Ч_2'!HG23 -> 0 | BY12: ='Итоги участия_Ч_2'!HH23 -> 0 | BZ12: ='Итоги участия_Ч_2'!HU23 -> 0 | CA12: ='Итоги участия_Ч_2'!HV23 -> 0 | CB12: ='Итоги участия_Ч_2'!HW23 -> 0 | CD12: =I12+L12+O12+R12+U12+X12+AA12+AD12+AG12+AJ12+AM12+AP12+AS12+AV12+AY12+BB12+BE12+BH12+BK12+BN12+BQ12+BT12+BW12+BZ12 -> 0 | CE12: =J12+M12+P12+S12+V12+Y12+AB12+AE12+AH12+AK12+AN12+AQ12+AT12+AW12+AZ12+BC12+BF12+BI12+BL12+BO12+BR12+BU12+BX12+CA12 -> 0 | CF12: =K12+N12+Q12+T12+W12+Z12+AC12+AF12+AI12+AL12+AO12+AR12+AU12+AX12+BA12+BD12+BG12+BJ12+BM12+BP12+BS12+BV12+BY12+CB12 -> 0 | CG12: =CE12+CF12 -> 0
A13: 16 | B13: ='Итоги участия_Ч_1'!B23 -> Батыревский муниципальный округ | C13: ='Итоги участия_Ч_1'!C23 -> МБОУ "Шаймурзинская ООШ имени Г.Айги" | D13: ='Итоги участия_Ч_1'!D23 -> 31 | E13: ='Итоги участия_Ч_1'!E23 -> 23 | F13: ='Итоги участия_Ч_1'!F23 -> 0 | G13: ='Итоги участия_Ч_1'!G23 -> 0 | H13: ='Итоги участия_Ч_1'!H23 -> 0 | I13: ='Итоги участия_Ч_1'!AD23 -> 1 | J13: ='Итоги участия_Ч_1'!AE23 -> 0 | K13: ='Итоги участия_Ч_1'!AF23 -> 0 | L13: ='Итоги участия_Ч_1'!BB23 -> 28 | M13: ='Итоги участия_Ч_1'!BC23 -> 0 | N13: ='Итоги участия_Ч_1'!BD23 -> 5 | O13: ='Итоги участия_Ч_1'!BZ23 -> 22 | P13: ='Итоги участия_Ч_1'!CA23 -> 0 | Q13: ='Итоги участия_Ч_1'!CB23 -> 4 | R13: ='Итоги участия_Ч_1'!CX23 -> 0 | S13: ='Итоги участия_Ч_1'!CY23 -> 0 | T13: ='Итоги участия_Ч_1'!CZ23 -> 0 | U13: ='Итоги участия_Ч_1'!DV23 -> 22 | V13: ='Итоги участия_Ч_1'!DW23 -> 0 | W13: ='Итоги участия_Ч_1'!DX23 -> 0 | X13: ='Итоги участия_Ч_1'!ET23 -> 23 | Y13: ='Итоги участия_Ч_1'!EU23 -> 0 | Z13: ='Итоги участия_Ч_1'!EV23 -> 2 | AA13: ='Итоги участия_Ч_1'!FR23 -> 23 | AB13: ='Итоги участия_Ч_1'!FS23 -> 0 | AC13: ='Итоги участия_Ч_1'!FT23 -> 5 | AD13: ='Итоги участия_Ч_1'!GP23 -> 12 | AE13: ='Итоги участия_Ч_1'!GQ23 -> 0 | AF13: ='Итоги участия_Ч_1'!GR23 -> 0 | AG13: ='Итоги участия_Ч_1'!HN23 -> 17 | AH13: ='Итоги участия_Ч_1'!HO23 -> 0 | AI13: ='Итоги участия_Ч_1'!HP23 -> 0 | AJ13: ='Итоги участия_Ч_1'!IF23 -> 12 | AK13: ='Итоги участия_Ч_1'!IG23 -> 0 | AL13: ='Итоги участия_Ч_1'!IH23 -> 3 | AM13: ='Итоги участия_Ч_1'!IX23 -> 10 | AN13: ='Итоги участия_Ч_1'!IY23 -> 0 | AO13: ='Итоги участия_Ч_1'!IZ23 -> 1 | AP13: ='Итоги участия_Ч_1'!JV23 -> 23 | AQ13: ='Итоги участия_Ч_1'!JW23 -> 0 | AR13: ='Итоги участия_Ч_1'!JX23 -> 5 | AS13: ='Итоги участия_Ч_2'!Y24 -> 19 | AT13: ='Итоги участия_Ч_2'!Z24 -> 0 | AU13: ='Итоги участия_Ч_2'!AA24 -> 2 | AV13: ='Итоги участия_Ч_2'!AQ24 -> 2 | AW13: ='Итоги участия_Ч_2'!AR24 -> 0 | AX13: ='Итоги участия_Ч_2'!AS24 -> 0 | AY13: ='Итоги участия_Ч_2'!BO24 -> 15 | AZ13: ='Итоги участия_Ч_2'!BP24 -> 0 | BA13: ='Итоги участия_Ч_2'!BQ24 -> 0 | BB13: ='Итоги участия_Ч_2'!CJ24 -> 3 | BC13: ='Итоги участия_Ч_2'!CK24 -> 0 | BD13: ='Итоги участия_Ч_2'!CL24 -> 0 | BE13: ='Итоги участия_Ч_2'!DB24 -> 9 | BF13: ='Итоги участия_Ч_2'!DC24 -> 0 | BG13: ='Итоги участия_Ч_2'!DD24 -> 0 | BH13: ='Итоги участия_Ч_2'!DT24 -> 3 | BI13: ='Итоги участия_Ч_2'!DU24 -> 0 | BJ13: ='Итоги участия_Ч_2'!DV24 -> 0 | BK13: ='Итоги участия_Ч_2'!ER24 -> 23 | BL13: ='Итоги участия_Ч_2'!ES24 -> 0 | BM13: ='Итоги участия_Ч_2'!ET24 -> 5 | BN13: ='Итоги участия_Ч_2'!FJ24 -> 0 | BO13: ='Итоги участия_Ч_2'!FK24 -> 0 | BP13: ='Итоги участия_Ч_2'!FL24 -> 0 | BQ13: ='Итоги участия_Ч_2'!GB24 -> 0 | BR13: ='Итоги участия_Ч_2'!GC24 -> 0 | BS13: ='Итоги участия_Ч_2'!GD24 -> 0 | BT13: ='Итоги участия_Ч_2'!GQ24 -> 0 | BU13: ='Итоги участия_Ч_2'!GR24 -> 0 | BV13: ='Итоги участия_Ч_2'!GS24 -> 0 | BW13: ='Итоги участия_Ч_2'!HF24 -> 0 | BX13: ='Итоги участия_Ч_2'!HG24 -> 0 | BY13: ='Итоги участия_Ч_2'!HH24 -> 0 | BZ13: ='Итоги участия_Ч_2'!HU24 -> 0 | CA13: ='Итоги участия_Ч_2'!HV24 -> 0 | CB13: ='Итоги участия_Ч_2'!HW24 -> 0 | CD13: =I13+L13+O13+R13+U13+X13+AA13+AD13+AG13+AJ13+AM13+AP13+AS13+AV13+AY13+BB13+BE13+BH13+BK13+BN13+BQ13+BT13+BW13+BZ13 -> 267 | CE13: =J13+M13+P13+S13+V13+Y13+AB13+AE13+AH13+AK13+AN13+AQ13+AT13+AW13+AZ13+BC13+BF13+BI13+BL13+BO13+BR13+BU13+BX13+CA13 -> 0 | CF13: =K13+N13+Q13+T13+W13+Z13+AC13+AF13+AI13+AL13+AO13+AR13+AU13+AX13+BA13+BD13+BG13+BJ13+BM13+BP13+BS13+BV13+BY13+CB13 -> 32 | CG13: =CE13+CF13 -> 32
A14: 17 | B14: =#REF! -> #REF! | C14: =#REF! -> #REF! | D14: =#REF! -> #REF! | E14: =#REF! -> #REF! | F14: =#REF! -> #REF! | G14: =#REF! -> #REF! | H14: =#REF! -> #REF! | I14: =#REF! -> #REF! | ... CB14: =#REF! -> #REF! | CD14: =I14+L14+O14+R14+U14+X14+AA14+AD14+AG14+AJ14+AM14+AP14+AS14+AV14+AY14+BB14+BE14+BH14+BK14+BN14+BQ14+BT14+BW14+BZ14 -> #REF! | CE14: =J14+M14+P14+S14+V14+Y14+AB14+AE14+AH14+AK14+AN14+AQ14+AT14+AW14+AZ14+BC14+BF14+BI14+BL14+BO14+BR14+BU14+BX14+CA14 -> #REF! | CF14: =K14+N14+Q14+T14+W14+Z14+AC14+AF14+AI14+AL14+AO14+AR14+AU14+AX14+BA14+BD14+BG14+BJ14+BM14+BP14+BS14+BV14+BY14+CB14 -> #REF! | CG14: =CE14+CF14 -> #REF!
A15: 18 | B15: =#REF! -> #REF! | C15: =#REF! -> #REF! | D15: =#REF! -> #REF! | E15: =#REF! -> #REF! | F15: =#REF! -> #REF! | G15: =#REF! -> #REF! | H15: =#REF! -> #REF! | I15: =#REF! -> #REF! | ... CB15: =#REF! -> #REF! | CD15: =I15+L15+O15+R15+U15+X15+AA15+AD15+AG15+AJ15+AM15+AP15+AS15+AV15+AY15+BB15+BE15+BH15+BK15+BN15+BQ15+BT15+BW15+BZ15 -> #REF! | CE15: =J15+M15+P15+S15+V15+Y15+AB15+AE15+AH15+AK15+AN15+AQ15+AT15+AW15+AZ15+BC15+BF15+BI15+BL15+BO15+BR15+BU15+BX15+CA15 -> #REF! | CF15: =K15+N15+Q15+T15+W15+Z15+AC15+AF15+AI15+AL15+AO15+AR15+AU15+AX15+BA15+BD15+BG15+BJ15+BM15+BP15+BS15+BV15+BY15+CB15 -> #REF! | CG15: =CE15+CF15 -> #REF!
A16: 19 | B16: =#REF! -> #REF! | C16: =#REF! -> #REF! | D16: =#REF! -> #REF! | E16: =#REF! -> #REF! | F16: =#REF! -> #REF! | G16: =#REF! -> #REF! | H16: =#REF! -> #REF! | I16: =#REF! -> #REF! | ... CB16: =#REF! -> #REF! | CD16: =I16+L16+O16+R16+U16+X16+AA16+AD16+AG16+AJ16+AM16+AP16+AS16+AV16+AY16+BB16+BE16+BH16+BK16+BN16+BQ16+BT16+BW16+BZ16 -> #REF! | CE16: =J16+M16+P16+S16+V16+Y16+AB16+AE16+AH16+AK16+AN16+AQ16+AT16+AW16+AZ16+BC16+BF16+BI16+BL16+BO16+BR16+BU16+BX16+CA16 -> #REF! | CF16: =K16+N16+Q16+T16+W16+Z16+AC16+AF16+AI16+AL16+AO16+AR16+AU16+AX16+BA16+BD16+BG16+BJ16+BM16+BP16+BS16+BV16+BY16+CB16 -> #REF! | CG16: =CE16+CF16 -> #REF!
A17: 20 | B17: =#REF! -> #REF! | C17: =#REF! -> #REF! | D17: =#REF! -> #REF! | E17: =#REF! -> #REF! | F17: =#REF! -> #REF! | G17: =#REF! -> #REF! | H17: =#REF! -> #REF! | I17: =#REF! -> #REF! | ... CB17: =#REF! -> #REF! | CD17: =I17+L17+O17+R17+U17+X17+AA17+AD17+AG17+AJ17+AM17+AP17+AS17+AV17+AY17+BB17+BE17+BH17+BK17+BN17+BQ17+BT17+BW17+BZ17 -> #REF! | CE17: =J17+M17+P17+S17+V17+Y17+AB17+AE17+AH17+AK17+AN17+AQ17+AT17+AW17+AZ17+BC17+BF17+BI17+BL17+BO17+BR17+BU17+BX17+CA17 -> #REF! | CF17: =K17+N17+Q17+T17+W17+Z17+AC17+AF17+AI17+AL17+AO17+AR17+AU17+AX17+BA17+BD17+BG17+BJ17+BM17+BP17+BS17+BV17+BY17+CB17 -> #REF! | CG17: =CE17+CF17 -> #REF!
A18: 21 | B18: =#REF! -> #REF! | C18: =#REF! -> #REF! | D18: =#REF! -> #REF! | E18: =#REF! -> #REF! | F18: =#REF! -> #REF! | G18: =#REF! -> #REF! | H18: =#REF! -> #REF! | I18: =#REF! -> #REF! | ... CB18: =#REF! -> #REF! | CD18: =I18+L18+O18+R18+U18+X18+AA18+AD18+AG18+AJ18+AM18+AP18+AS18+AV18+AY18+BB18+BE18+BH18+BK18+BN18+BQ18+BT18+BW18+BZ18 -> #REF! | CE18: =J18+M18+P18+S18+V18+Y18+AB18+AE18+AH18+AK18+AN18+AQ18+AT18+AW18+AZ18+BC18+BF18+BI18+BL18+BO18+BR18+BU18+BX18+CA18 -> #REF! | CF18: =K18+N18+Q18+T18+W18+Z18+AC18+AF18+AI18+AL18+AO18+AR18+AU18+AX18+BA18+BD18+BG18+BJ18+BM18+BP18+BS18+BV18+BY18+CB18 -> #REF! | CG18: =CE18+CF18 -> #REF!
A19: 22 | B19: =#REF! -> #REF! | C19: =#REF! -> #REF! | D19: =#REF! -> #REF! | E19: =#REF! -> #REF! | F19: =#REF! -> #REF! | G19: =#REF! -> #REF! | H19: =#REF! -> #REF! | I19: =#REF! -> #REF! | ... CB19: =#REF! -> #REF! | CD19: =I19+L19+O19+R19+U19+X19+AA19+AD19+AG19+AJ19+AM19+AP19+AS19+AV19+AY19+BB19+BE19+BH19+BK19+BN19+BQ19+BT19+BW19+BZ19 -> #REF! | CE19: =J19+M19+P19+S19+V19+Y19+AB19+AE19+AH19+AK19+AN19+AQ19+AT19+AW19+AZ19+BC19+BF19+BI19+BL19+BO19+BR19+BU19+BX19+CA19 -> #REF! | CF19: =K19+N19+Q19+T19+W19+Z19+AC19+AF19+AI19+AL19+AO19+AR19+AU19+AX19+BA19+BD19+BG19+BJ19+BM19+BP19+BS19+BV19+BY19+CB19 -> #REF! | CG19: =CE19+CF19 -> #REF!
A20: 23 | B20: =#REF! -> #REF! | C20: =#REF! -> #REF! | D20: =#REF! -> #REF! | E20: =#REF! -> #REF! | F20: =#REF! -> #REF! | G20: =#REF! -> #REF! | H20: =#REF! -> #REF! | I20: =#REF! -> #REF! | ... CB20: =#REF! -> #REF! | CD20: =I20+L20+O20+R20+U20+X20+AA20+AD20+AG20+AJ20+AM20+AP20+AS20+AV20+AY20+BB20+BE20+BH20+BK20+BN20+BQ20+BT20+BW20+BZ20 -> #REF! | CE20: =J20+M20+P20+S20+V20+Y20+AB20+AE20+AH20+AK20+AN20+AQ20+AT20+AW20+AZ20+BC20+BF20+BI20+BL20+BO20+BR20+BU20+BX20+CA20 -> #REF! | CF20: =K20+N20+Q20+T20+W20+Z20+AC20+AF20+AI20+AL20+AO20+AR20+AU20+AX20+BA20+BD20+BG20+BJ20+BM20+BP20+BS20+BV20+BY20+CB20 -> #REF! | CG20: =CE20+CF20 -> #REF!
A21: 24 | B21: =#REF! -> #REF! | C21: =#REF! -> #REF! | D21: =#REF! -> #REF! | E21: =#REF! -> #REF! | F21: =#REF! -> #REF! | G21: =#REF! -> #REF! | H21: =#REF! -> #REF! | I21: =#REF! -> #REF! | ... CB21: =#REF! -> #REF! | CD21: =I21+L21+O21+R21+U21+X21+AA21+AD21+AG21+AJ21+AM21+AP21+AS21+AV21+AY21+BB21+BE21+BH21+BK21+BN21+BQ21+BT21+BW21+BZ21 -> #REF! | CE21: =J21+M21+P21+S21+V21+Y21+AB21+AE21+AH21+AK21+AN21+AQ21+AT21+AW21+AZ21+BC21+BF21+BI21+BL21+BO21+BR21+BU21+BX21+CA21 -> #REF! | CF21: =K21+N21+Q21+T21+W21+Z21+AC21+AF21+AI21+AL21+AO21+AR21+AU21+AX21+BA21+BD21+BG21+BJ21+BM21+BP21+BS21+BV21+BY21+CB21 -> #REF! | CG21: =CE21+CF21 -> #REF!
A22: 25 | B22: =#REF! -> #REF! | C22: =#REF! -> #REF! | D22: =#REF! -> #REF! | E22: =#REF! -> #REF! | F22: =#REF! -> #REF! | G22: =#REF! -> #REF! | H22: =#REF! -> #REF! | I22: =#REF! -> #REF! | ... CB22: =#REF! -> #REF! | CD22: =I22+L22+O22+R22+U22+X22+AA22+AD22+AG22+AJ22+AM22+AP22+AS22+AV22+AY22+BB22+BE22+BH22+BK22+BN22+BQ22+BT22+BW22+BZ22 -> #REF! | CE22: =J22+M22+P22+S22+V22+Y22+AB22+AE22+AH22+AK22+AN22+AQ22+AT22+AW22+AZ22+BC22+BF22+BI22+BL22+BO22+BR22+BU22+BX22+CA22 -> #REF! | CF22: =K22+N22+Q22+T22+W22+Z22+AC22+AF22+AI22+AL22+AO22+AR22+AU22+AX22+BA22+BD22+BG22+BJ22+BM22+BP22+BS22+BV22+BY22+CB22 -> #REF! | CG22: =CE22+CF22 -> #REF!
A23: 26 | B23: =#REF! -> #REF! | C23: =#REF! -> #REF! | D23: =#REF! -> #REF! | E23: =#REF! -> #REF! | F23: =#REF! -> #REF! | G23: =#REF! -> #REF! | H23: =#REF! -> #REF! | I23: =#REF! -> #REF! | ... CB23: =#REF! -> #REF! | CD23: =I23+L23+O23+R23+U23+X23+AA23+AD23+AG23+AJ23+AM23+AP23+AS23+AV23+AY23+BB23+BE23+BH23+BK23+BN23+BQ23+BT23+BW23+BZ23 -> #REF! | CE23: =J23+M23+P23+S23+V23+Y23+AB23+AE23+AH23+AK23+AN23+AQ23+AT23+AW23+AZ23+BC23+BF23+BI23+BL23+BO23+BR23+BU23+BX23+CA23 -> #REF! | CF23: =K23+N23+Q23+T23+W23+Z23+AC23+AF23+AI23+AL23+AO23+AR23+AU23+AX23+BA23+BD23+BG23+BJ23+BM23+BP23+BS23+BV23+BY23+CB23 -> #REF! | CG23: =CE23+CF23 -> #REF!
A24: 27 | B24: =#REF! -> #REF! | C24: =#REF! -> #REF! | D24: =#REF! -> #REF! | E24: =#REF! -> #REF! | F24: =#REF! -> #REF! | G24: =#REF! -> #REF! | H24: =#REF! -> #REF! | I24: =#REF! -> #REF! | ... CB24: =#REF! -> #REF! | CD24: =I24+L24+O24+R24+U24+X24+AA24+AD24+AG24+AJ24+AM24+AP24+AS24+AV24+AY24+BB24+BE24+BH24+BK24+BN24+BQ24+BT24+BW24+BZ24 -> #REF! | CE24: =J24+M24+P24+S24+V24+Y24+AB24+AE24+AH24+AK24+AN24+AQ24+AT24+AW24+AZ24+BC24+BF24+BI24+BL24+BO24+BR24+BU24+BX24+CA24 -> #REF! | CF24: =K24+N24+Q24+T24+W24+Z24+AC24+AF24+AI24+AL24+AO24+AR24+AU24+AX24+BA24+BD24+BG24+BJ24+BM24+BP24+BS24+BV24+BY24+CB24 -> #REF! | CG24: =CE24+CF24 -> #REF!
A25: 28 | B25: =#REF! -> #REF! | C25: =#REF! -> #REF! | D25: =#REF! -> #REF! | E25: =#REF! -> #REF! | F25: =#REF! -> #REF! | G25: =#REF! -> #REF! | H25: =#REF! -> #REF! | I25: =#REF! -> #REF! | ... CB25: =#REF! -> #REF! | CD25: =I25+L25+O25+R25+U25+X25+AA25+AD25+AG25+AJ25+AM25+AP25+AS25+AV25+AY25+BB25+BE25+BH25+BK25+BN25+BQ25+BT25+BW25+BZ25 -> #REF! | CE25: =J25+M25+P25+S25+V25+Y25+AB25+AE25+AH25+AK25+AN25+AQ25+AT25+AW25+AZ25+BC25+BF25+BI25+BL25+BO25+BR25+BU25+BX25+CA25 -> #REF! | CF25: =K25+N25+Q25+T25+W25+Z25+AC25+AF25+AI25+AL25+AO25+AR25+AU25+AX25+BA25+BD25+BG25+BJ25+BM25+BP25+BS25+BV25+BY25+CB25 -> #REF! | CG25: =CE25+CF25 -> #REF!
... A59: 62 | B59: =#REF! -> #REF! | C59: =#REF! -> #REF! | D59: =#REF! -> #REF! | E59: =#REF! -> #REF! | F59: =#REF! -> #REF! | G59: =#REF! -> #REF! | H59: =#REF! -> #REF! | I59: =#REF! -> #REF! | ... CB59: =#REF! -> #REF! | CD59: =I59+L59+O59+R59+U59+X59+AA59+AD59+AG59+AJ59+AM59+AP59+AS59+AV59+AY59+BB59+BE59+BH59+BK59+BN59+BQ59+BT59+BW59+BZ59 -> #REF! | CE59: =J59+M59+P59+S59+V59+Y59+AB59+AE59+AH59+AK59+AN59+AQ59+AT59+AW59+AZ59+BC59+BF59+BI59+BL59+BO59+BR59+BU59+BX59+CA59 -> #REF! | CF59: =K59+N59+Q59+T59+W59+Z59+AC59+AF59+AI59+AL59+AO59+AR59+AU59+AX59+BA59+BD59+BG59+BJ59+BM59+BP59+BS59+BV59+BY59+CB59 -> #REF! | CG59: =CE59+CF59 -> #REF!
A60: 63 | B60: ='Итоги участия_Ч_1'!B24 -> 0 | C60: ='Итоги участия_Ч_1'!C24 -> 0 | D60: ='Итоги участия_Ч_1'!D24 -> 0 | E60: ='Итоги участия_Ч_1'!E24 -> 0 | F60: ='Итоги участия_Ч_1'!F24 -> 0 | G60: ='Итоги участия_Ч_1'!G24 -> 0 | H60: ='Итоги участия_Ч_1'!H24 -> 0 | I60: ='Итоги участия_Ч_1'!AD24 -> 0 | J60: ='Итоги участия_Ч_1'!AE24 -> 0 | K60: ='Итоги участия_Ч_1'!AF24 -> 0 | L60: ='Итоги участия_Ч_1'!BB24 -> 0 | M60: ='Итоги участия_Ч_1'!BC24 -> 0 | N60: ='Итоги участия_Ч_1'!BD24 -> 0 | O60: ='Итоги участия_Ч_1'!BZ24 -> 0 | P60: ='Итоги участия_Ч_1'!CA24 -> 0 | Q60: ='Итоги участия_Ч_1'!CB24 -> 0 | R60: ='Итоги участия_Ч_1'!CX24 -> 0 | S60: ='Итоги участия_Ч_1'!CY24 -> 0 | T60: ='Итоги участия_Ч_1'!CZ24 -> 0 | U60: ='Итоги участия_Ч_1'!DV24 -> 0 | V60: ='Итоги участия_Ч_1'!DW24 -> 0 | W60: ='Итоги участия_Ч_1'!DX24 -> 0 | X60: ='Итоги участия_Ч_1'!ET24 -> 0 | Y60: ='Итоги участия_Ч_1'!EU24 -> 0 | Z60: ='Итоги участия_Ч_1'!EV24 -> 0 | AA60: ='Итоги участия_Ч_1'!FR24 -> 0 | AB60: ='Итоги участия_Ч_1'!FS24 -> 0 | AC60: ='Итоги участия_Ч_1'!FT24 -> 0 | AD60: ='Итоги участия_Ч_1'!GP24 -> 0 | AE60: ='Итоги участия_Ч_1'!GQ24 -> 0 | AF60: ='Итоги участия_Ч_1'!GR24 -> 0 | AG60: ='Итоги участия_Ч_1'!HN24 -> 0 | AH60: ='Итоги участия_Ч_1'!HO24 -> 0 | AI60: ='Итоги участия_Ч_1'!HP24 -> 0 | AJ60: ='Итоги участия_Ч_1'!IF24 -> 0 | AK60: ='Итоги участия_Ч_1'!IG24 -> 0 | AL60: ='Итоги участия_Ч_1'!IH24 -> 0 | AM60: ='Итоги участия_Ч_1'!IX24 -> 0 | AN60: ='Итоги участия_Ч_1'!IY24 -> 0 | AO60: ='Итоги участия_Ч_1'!IZ24 -> 0 | AP60: ='Итоги участия_Ч_1'!JV24 -> 0 | AQ60: ='Итоги участия_Ч_1'!JW24 -> 0 | AR60: ='Итоги участия_Ч_1'!JX24 -> 0 | AS60: ='Итоги участия_Ч_2'!Y25 -> 0 | AT60: ='Итоги участия_Ч_2'!Z25 -> 0 | AU60: ='Итоги участия_Ч_2'!AA25 -> 0 | AV60: ='Итоги участия_Ч_2'!AQ25 -> 0 | AW60: ='Итоги участия_Ч_2'!AR25 -> 0 | AX60: ='Итоги участия_Ч_2'!AS25 -> 0 | AY60: ='Итоги участия_Ч_2'!BO25 -> 0 | AZ60: ='Итоги участия_Ч_2'!BP25 -> 0 | BA60: ='Итоги участия_Ч_2'!BQ25 -> 0 | BB60: ='Итоги участия_Ч_2'!CJ25 -> 0 | BC60: ='Итоги участия_Ч_2'!CK25 -> 0 | BD60: ='Итоги участия_Ч_2'!CL25 -> 0 | BE60: ='Итоги участия_Ч_2'!DB25 -> 0 | BF60: ='Итоги участия_Ч_2'!DC25 -> 0 | BG60: ='Итоги участия_Ч_2'!DD25 -> 0 | BH60: ='Итоги участия_Ч_2'!DT25 -> 0 | BI60: ='Итоги участия_Ч_2'!DU25 -> 0 | BJ60: ='Итоги участия_Ч_2'!DV25 -> 0 | BK60: ='Итоги участия_Ч_2'!ER25 -> 0 | BL60: ='Итоги участия_Ч_2'!ES25 -> 0 | BM60: ='Итоги участия_Ч_2'!ET25 -> 0 | BN60: ='Итоги участия_Ч_2'!FJ25 -> 0 | BO60: ='Итоги участия_Ч_2'!FK25 -> 0 | BP60: ='Итоги участия_Ч_2'!FL25 -> 0 | BQ60: ='Итоги участия_Ч_2'!GB25 -> 0 | BR60: ='Итоги участия_Ч_2'!GC25 -> 0 | BS60: ='Итоги участия_Ч_2'!GD25 -> 0 | BT60: ='Итоги участия_Ч_2'!GQ25 -> 0 | BU60: ='Итоги участия_Ч_2'!GR25 -> 0 | BV60: ='Итоги участия_Ч_2'!GS25 -> 0 | BW60: ='Итоги участия_Ч_2'!HF25 -> 0 | BX60: ='Итоги участия_Ч_2'!HG25 -> 0 | BY60: ='Итоги участия_Ч_2'!HH25 -> 0 | BZ60: ='Итоги участия_Ч_2'!HU25 -> 0 | CA60: ='Итоги участия_Ч_2'!HV25 -> 0 | CB60: ='Итоги участия_Ч_2'!HW25 -> 0 | CD60: =I60+L60+O60+R60+U60+X60+AA60+AD60+AG60+AJ60+AM60+AP60+AS60+AV60+AY60+BB60+BE60+BH60+BK60+BN60+BQ60+BT60+BW60+BZ60 -> 0 | CE60: =J60+M60+P60+S60+V60+Y60+AB60+AE60+AH60+AK60+AN60+AQ60+AT60+AW60+AZ60+BC60+BF60+BI60+BL60+BO60+BR60+BU60+BX60+CA60 -> 0 | CF60: =K60+N60+Q60+T60+W60+Z60+AC60+AF60+AI60+AL60+AO60+AR60+AU60+AX60+BA60+BD60+BG60+BJ60+BM60+BP60+BS60+BV60+BY60+CB60 -> 0 | CG60: =CE60+CF60 -> 0
A61: 64 | B61: ='Итоги участия_Ч_1'!B25 -> строчку не удалять (считается автоматически) | C61: ='Итоги участия_Ч_1'!C25 -> 0 | D61: ='Итоги участия_Ч_1'!D25 -> 31 | E61: ='Итоги участия_Ч_1'!E25 -> 23 | F61: ='Итоги участия_Ч_1'!F25 -> 0 | G61: ='Итоги участия_Ч_1'!G25 -> 0 | H61: ='Итоги участия_Ч_1'!H25 -> 0 | I61: ='Итоги участия_Ч_1'!AD25 -> 1 | J61: ='Итоги участия_Ч_1'!AE25 -> 0 | K61: ='Итоги участия_Ч_1'!AF25 -> 0 | L61: ='Итоги участия_Ч_1'!BB25 -> 28 | M61: ='Итоги участия_Ч_1'!BC25 -> 0 | N61: ='Итоги участия_Ч_1'!BD25 -> 5 | O61: ='Итоги участия_Ч_1'!BZ25 -> 22 | P61: ='Итоги участия_Ч_1'!CA25 -> 0 | Q61: ='Итоги участия_Ч_1'!CB25 -> 4 | R61: ='Итоги участия_Ч_1'!CX25 -> 0 | S61: ='Итоги участия_Ч_1'!CY25 -> 0 | T61: ='Итоги участия_Ч_1'!CZ25 -> 0 | U61: ='Итоги участия_Ч_1'!DV25 -> 22 | V61: ='Итоги участия_Ч_1'!DW25 -> 0 | W61: ='Итоги участия_Ч_1'!DX25 -> 0 | X61: ='Итоги участия_Ч_1'!ET25 -> 23 | Y61: ='Итоги участия_Ч_1'!EU25 -> 0 | Z61: ='Итоги участия_Ч_1'!EV25 -> 2 | AA61: ='Итоги участия_Ч_1'!FR25 -> 23 | AB61: ='Итоги участия_Ч_1'!FS25 -> 0 | AC61: ='Итоги участия_Ч_1'!FT25 -> 5 | AD61: ='Итоги участия_Ч_1'!GP25 -> 12 | AE61: ='Итоги участия_Ч_1'!GQ25 -> 0 | AF61: ='Итоги участия_Ч_1'!GR25 -> 0 | AG61: ='Итоги участия_Ч_1'!HN25 -> 17 | AH61: ='Итоги участия_Ч_1'!HO25 -> 0 | AI61: ='Итоги участия_Ч_1'!HP25 -> 0 | AJ61: ='Итоги участия_Ч_1'!IF25 -> 12 | AK61: ='Итоги участия_Ч_1'!IG25 -> 0 | AL61: ='Итоги участия_Ч_1'!IH25 -> 3 | AM61: ='Итоги участия_Ч_1'!IX25 -> 10 | AN61: ='Итоги участия_Ч_1'!IY25 -> 0 | AO61: ='Итоги участия_Ч_1'!IZ25 -> 1 | AP61: ='Итоги участия_Ч_1'!JV25 -> 23 | AQ61: ='Итоги участия_Ч_1'!JW25 -> 0 | AR61: ='Итоги участия_Ч_1'!JX25 -> 5 | AS61: ='Итоги участия_Ч_2'!Y26 -> 19 | AT61: ='Итоги участия_Ч_2'!Z26 -> 0 | AU61: ='Итоги участия_Ч_2'!AA26 -> 2 | AV61: ='Итоги участия_Ч_2'!AQ26 -> 2 | AW61: ='Итоги участия_Ч_2'!AR26 -> 0 | AX61: ='Итоги участия_Ч_2'!AS26 -> 0 | AY61: ='Итоги участия_Ч_2'!BO26 -> 15 | AZ61: ='Итоги участия_Ч_2'!BP26 -> 0 | BA61: ='Итоги участия_Ч_2'!BQ26 -> 0 | BB61: ='Итоги участия_Ч_2'!CJ26 -> 3 | BC61: ='Итоги участия_Ч_2'!CK26 -> 0 | BD61: ='Итоги участия_Ч_2'!CL26 -> 0 | BE61: ='Итоги участия_Ч_2'!DB26 -> 9 | BF61: ='Итоги участия_Ч_2'!DC26 -> 0 | BG61: ='Итоги участия_Ч_2'!DD26 -> 0 | BH61: ='Итоги участия_Ч_2'!DT26 -> 3 | BI61: ='Итоги участия_Ч_2'!DU26 -> 0 | BJ61: ='Итоги участия_Ч_2'!DV26 -> 0 | BK61: ='Итоги участия_Ч_2'!ER26 -> 23 | BL61: ='Итоги участия_Ч_2'!ES26 -> 0 | BM61: ='Итоги участия_Ч_2'!ET26 -> 5 | BN61: ='Итоги участия_Ч_2'!FJ26 -> 0 | BO61: ='Итоги участия_Ч_2'!FK26 -> 0 | BP61: ='Итоги участия_Ч_2'!FL26 -> 0 | BQ61: ='Итоги участия_Ч_2'!GB26 -> 0 | BR61: ='Итоги участия_Ч_2'!GC26 -> 0 | BS61: ='Итоги участия_Ч_2'!GD26 -> 0 | BT61: ='Итоги участия_Ч_2'!GQ26 -> 0 | BU61: ='Итоги участия_Ч_2'!GR26 -> 0 | BV61: ='Итоги участия_Ч_2'!GS26 -> 0 | BW61: ='Итоги участия_Ч_2'!HF26 -> 0 | BX61: ='Итоги участия_Ч_2'!HG26 -> 0 | BY61: ='Итоги участия_Ч_2'!HH26 -> 0 | BZ61: ='Итоги участия_Ч_2'!HU26 -> 0 | CA61: ='Итоги участия_Ч_2'!HV26 -> 0 | CB61: ='Итоги участия_Ч_2'!HW26 -> 0 | CD61: =I61+L61+O61+R61+U61+X61+AA61+AD61+AG61+AJ61+AM61+AP61+AS61+AV61+AY61+BB61+BE61+BH61+BK61+BN61+BQ61+BT61+BW61+BZ61 -> 267 | CE61: =J61+M61+P61+S61+V61+Y61+AB61+AE61+AH61+AK61+AN61+AQ61+AT61+AW61+AZ61+BC61+BF61+BI61+BL61+BO61+BR61+BU61+BX61+CA61 -> 0 | CF61: =K61+N61+Q61+T61+W61+Z61+AC61+AF61+AI61+AL61+AO61+AR61+AU61+AX61+BA61+BD61+BG61+BJ61+BM61+BP61+BS61+BV61+BY61+CB61 -> 32 | CG61: =CE61+CF61 -> 32
A63: строчку не удалять (считается автоматически) | D63: =SUM(D7:D62) -> #REF! | E63: =SUM(E7:E62) -> #REF! | F63: =SUM(F7:F62) -> #REF! | G63: =SUM(G7:G62) -> #REF! | H63: =SUM(H7:H62) -> #REF! | I63: =SUM(I7:I62) -> #REF! | J63: =SUM(J7:J62) -> #REF! | K63: =SUM(K7:K62) -> #REF! | ... CB63: =SUM(CB7:CB62) -> #REF! | CD63: =SUM(CD7:CD62) -> #REF! | CE63: =SUM(CE7:CE62) -> #REF! | CF63: =SUM(CF7:CF62) -> #REF! | CG63: =SUM(CE63:CF63) -> #REF!
B65: * Муниципальный/городской округ указывается в каждой ячейке

Sheet Итоги по ОО (2)
A1: * Данная таблица заполняется автоматически по итогам внесения данных на листе "Итоги по ОО"
A4: № | B4: Муниципальный/ городской округ Чувашской Республики | C4: Образовательная организация | D4: Общие данные | I4: Астрономия | K4: Биология | M4: География | O4: Информатика | Q4: Искусство (МХК) | S4: История | U4: Литература | W4: Математика (с 5 по 11 кл.) | Y4: ОБЗР | AA4: Обществознание | AC4: Право | AE4: Русский язык (с 5 по 11 кл.) | AG4: Технология | AI4: Физика | AK4: Физическая культура | AM4: Химия | AO4: Экология | AQ4: Экономика | AS4: Английский язык | AU4: Немецкий язык | AW4: Французский язык | AY4: Китайский язык | BA4: Испанский язык | BC4: Итальянский язык | BF4: Итого по всем предметам
D5: Общее количество обучающихся 5-11 классов | E5: Кол-во участников - обучающихся 5-11 классов (обучающийся, принявший участие по нескольким предметам, учитывается 1 раз) | F5: Общее количество обучающихся с ОВЗ -обучающихся 5-11 классов | G5: Количество обучающихся с ОВЗ -обучающихся 5-11 классов, участников ШЭ ВсОШ | H5: Количество призовых мест по всем предметам, занятых обучающимися с ОВЗ 5-11 классов, участников ШЭ ВсОШ | I5: Всего | J5: П и Пр | K5: Всего | L5: П и Пр | M5: Всего | N5: П и Пр | O5: Всего | P5: П и Пр | Q5: Всего | R5: П и Пр | S5: Всего | T5: П и Пр | U5: Всего | V5: П и Пр | W5: Всего | X5: П и Пр | Y5: Всего | Z5: П и Пр | AA5: Всего | AB5: П и Пр | AC5: Всего | AD5: П и Пр | AE5: Всего | AF5: П и Пр | AG5: Всего | AH5: П и Пр | AI5: Всего | AJ5: П и Пр | AK5: Всего | AL5: П и Пр | AM5: Всего | AN5: П и Пр | AO5: Всего | AP5: П и Пр | AQ5: Всего | AR5: П и Пр | AS5: Всего | AT5: П и Пр | AU5: Всего | AV5: П и Пр | AW5: Всего | AX5: П и Пр | AY5: Всего | AZ5: П и Пр | BA5: Всего | BB5: П и Пр | BC5: Всего | BD5: П и Пр | BF5: Всего | BG5: Победители и Призёры
A6: 1 | B6: ='Итоги по ОО'!#REF! -> #REF! | C6: ='Итоги по ОО'!#REF! -> #REF! | D6: ='Итоги по ОО'!#REF! -> #REF! | E6: ='Итоги по ОО'!#REF! -> #REF! | F6: ='Итоги по ОО'!#REF! -> #REF! | G6: ='Итоги по ОО'!#REF! -> #REF! | H6: ='Итоги по ОО'!#REF! -> #REF! | I6: ='Итоги по ОО'!#REF! -> #REF! | J6: ='Итоги по ОО'!#REF!+'Итоги по ОО'!#REF! -> #REF! | K6: ='Итоги по ОО'!#REF! -> #REF! | L6: ='Итоги по ОО'!#REF!+'Итоги по ОО'!#REF! -> #REF! | M6: ='Итоги по ОО'!#REF! -> #REF! | N6: ='Итоги по ОО'!#REF!+'Итоги по ОО'!#REF! -> #REF! | O6: ='Итоги по ОО'!#REF! -> #REF! | P6: ='Итоги по ОО'!#REF!+'Итоги по ОО'!#REF! -> #REF! | Q6: ='Итоги по ОО'!#REF! -> #REF! | R6: ='Итоги по ОО'!#REF!+'Итоги по ОО'!#REF! -> #REF! | S6: ='Итоги по ОО'!#REF! -> #REF! | T6: ='Итоги по ОО'!#REF!+'Итоги по ОО'!#REF! -> #REF! | U6: ='Итоги по ОО'!#REF! -> #REF! | V6: ='Итоги по ОО'!#REF!+'Итоги по ОО'!#REF! -> #REF! | W6: ='Итоги по ОО'!#REF! -> #REF! | X6: ='Итоги по ОО'!#REF!+'Итоги по ОО'!#REF! -> #REF! | Y6: ='Итоги по ОО'!#REF! -> #REF! | Z6: ='Итоги по ОО'!#REF!+'Итоги по ОО'!#REF! -> #REF! | AA6: ='Итоги по ОО'!#REF! -> #REF! | AB6: ='Итоги по ОО'!#REF!+'Итоги по ОО'!#REF! -> #REF! | AC6: ='Итоги по ОО'!#REF! -> #REF! | AD6: ='Итоги по ОО'!#REF!+'Итоги по ОО'!#REF! -> #REF! | AE6: ='Итоги по ОО'!#REF! -> #REF! | AF6: ='Итоги по ОО'!#REF!+'Итоги по ОО'!#REF! -> #REF! | AG6: ='Итоги по ОО'!#REF! -> #REF! | AH6: ='Итоги по ОО'!#REF!+'Итоги по ОО'!#REF! -> #REF! | AI6: ='Итоги по ОО'!#REF! -> #REF! | AJ6: ='Итоги по ОО'!#REF!+'Итоги по ОО'!#REF! -> #REF! | AK6: ='Итоги по ОО'!#REF! -> #REF! | AL6: ='Итоги по ОО'!#REF!+'Итоги по ОО'!#REF! -> #REF! | AM6: ='Итоги по ОО'!#REF! -> #REF! | AN6: ='Итоги по ОО'!#REF!+'Итоги по ОО'!#REF! -> #REF! | AO6: ='Итоги по ОО'!#REF! -> #REF! | AP6: ='Итоги по ОО'!#REF!+'Итоги по ОО'!#REF! -> #REF! | AQ6: ='Итоги по ОО'!#REF! -> #REF! | AR6: ='Итоги по ОО'!#REF!+'Итоги по ОО'!#REF! -> #REF! | AS6: ='Итоги по ОО'!#REF! -> #REF! | AT6: ='Итоги по ОО'!#REF!+'Итоги по ОО'!#REF! -> #REF! | AU6: ='Итоги по ОО'!#REF! -> #REF! | AV6: ='Итоги по ОО'!#REF!+'Итоги по ОО'!#REF! -> #REF! | AW6: ='Итоги по ОО'!#REF! -> #REF! | AX6: ='Итоги по ОО'!#REF!+'Итоги по ОО'!#REF! -> #REF! | AY6: ='Итоги по ОО'!#REF! -> #REF! | AZ6: ='Итоги по ОО'!#REF!+'Итоги по ОО'!#REF! -> #REF! | BA6: ='Итоги по ОО'!#REF! -> #REF! | BB6: ='Итоги по ОО'!#REF!+'Итоги по ОО'!#REF! -> #REF! | BC6: ='Итоги по ОО'!#REF! -> #REF! | BD6: ='Итоги по ОО'!#REF!+'Итоги по ОО'!#REF! -> #REF! | BF6: =I6+K6+M6+O6+Q6+S6+U6+W6+AU6+Y6+AA6+AC6+AE6+AG6+AI6+AK6+AW6+AM6+AO6+AQ6+AS6+AY6+BA6+BC6 -> #REF! | BG6: =AT6+J6+L6+N6+P6+R6+T6+V6+X6+AV6+Z6+AB6+AD6+AF6+AH6+AJ6+AL6+AX6+AN6+AP6+AR6+AZ6+BB6+BD6 -> #REF!
A7: 2 | B7: ='Итоги по ОО'!#REF! -> #REF! | C7: ='Итоги по ОО'!#REF! -> #REF! | D7: ='Итоги по ОО'!#REF! -> #REF! | E7: ='Итоги по ОО'!#REF! -> #REF! | F7: ='Итоги по ОО'!#REF! -> #REF! | G7: ='Итоги по ОО'!#REF! -> #REF! | H7: ='Итоги по ОО'!#REF! -> #REF! | I7: ='Итоги по ОО'!#REF! -> #REF! | J7: ='Итоги по ОО'!#REF!+'Итоги по ОО'!#REF! -> #REF! | K7: ='Итоги по ОО'!#REF! -> #REF! | L7: ='Итоги по ОО'!#REF!+'Итоги по ОО'!#REF! -> #REF! | M7: ='Итоги по ОО'!#REF! -> #REF! | N7: ='Итоги по ОО'!#REF!+'Итоги по ОО'!#REF! -> #REF! | O7: ='Итоги по ОО'!#REF! -> #REF! | P7: ='Итоги по ОО'!#REF!+'Итоги по ОО'!#REF! -> #REF! | Q7: ='Итоги по ОО'!#REF! -> #REF! | R7: ='Итоги по ОО'!#REF!+'Итоги по ОО'!#REF! -> #REF! | S7: ='Итоги по ОО'!#REF! -> #REF! | T7: ='Итоги по ОО'!#REF!+'Итоги по ОО'!#REF! -> #REF! | U7: ='Итоги по ОО'!#REF! -> #REF! | V7: ='Итоги по ОО'!#REF!+'Итоги по ОО'!#REF! -> #REF! | W7: ='Итоги по ОО'!#REF! -> #REF! | X7: ='Итоги по ОО'!#REF!+'Итоги по ОО'!#REF! -> #REF! | Y7: ='Итоги по ОО'!#REF! -> #REF! | Z7: ='Итоги по ОО'!#REF!+'Итоги по ОО'!#REF! -> #REF! | AA7: ='Итоги по ОО'!#REF! -> #REF! | AB7: ='Итоги по ОО'!#REF!+'Итоги по ОО'!#REF! -> #REF! | AC7: ='Итоги по ОО'!#REF! -> #REF! | AD7: ='Итоги по ОО'!#REF!+'Итоги по ОО'!#REF! -> #REF! | AE7: ='Итоги по ОО'!#REF! -> #REF! | AF7: ='Итоги по ОО'!#REF!+'Итоги по ОО'!#REF! -> #REF! | AG7: ='Итоги по ОО'!#REF! -> #REF! | AH7: ='Итоги по ОО'!#REF!+'Итоги по ОО'!#REF! -> #REF! | AI7: ='Итоги по ОО'!#REF! -> #REF! | AJ7: ='Итоги по ОО'!#REF!+'Итоги по ОО'!#REF! -> #REF! | AK7: ='Итоги по ОО'!#REF! -> #REF! | AL7: ='Итоги по ОО'!#REF!+'Итоги по ОО'!#REF! -> #REF! | AM7: ='Итоги по ОО'!#REF! -> #REF! | AN7: ='Итоги по ОО'!#REF!+'Итоги по ОО'!#REF! -> #REF! | AO7: ='Итоги по ОО'!#REF! -> #REF! | AP7: ='Итоги по ОО'!#REF!+'Итоги по ОО'!#REF! -> #REF! | AQ7: ='Итоги по ОО'!#REF! -> #REF! | AR7: ='Итоги по ОО'!#REF!+'Итоги по ОО'!#REF! -> #REF! | AS7: ='Итоги по ОО'!#REF! -> #REF! | AT7: ='Итоги по ОО'!#REF!+'Итоги по ОО'!#REF! -> #REF! | AU7: ='Итоги по ОО'!#REF! -> #REF! | AV7: ='Итоги по ОО'!#REF!+'Итоги по ОО'!#REF! -> #REF! | AW7: ='Итоги по ОО'!#REF! -> #REF! | AX7: ='Итоги по ОО'!#REF!+'Итоги по ОО'!#REF! -> #REF! | AY7: ='Итоги по ОО'!#REF! -> #REF! | AZ7: ='Итоги по ОО'!#REF!+'Итоги по ОО'!#REF! -> #REF! | BA7: ='Итоги по ОО'!#REF! -> #REF! | BB7: ='Итоги по ОО'!#REF!+'Итоги по ОО'!#REF! -> #REF! | BC7: ='Итоги по ОО'!#REF! -> #REF! | BD7: ='Итоги по ОО'!#REF!+'Итоги по ОО'!#REF! -> #REF! | BF7: =I7+K7+M7+O7+Q7+S7+U7+W7+AU7+Y7+AA7+AC7+AE7+AG7+AI7+AK7+AW7+AM7+AO7+AQ7+AS7+AY7+BA7+BC7 -> #REF! | BG7: =AT7+J7+L7+N7+P7+R7+T7+V7+X7+AV7+Z7+AB7+AD7+AF7+AH7+AJ7+AL7+AX7+AN7+AP7+AR7+AZ7+BB7+BD7 -> #REF!
A8: 3 | B8: ='Итоги по ОО'!#REF! -> #REF! | C8: ='Итоги по ОО'!#REF! -> #REF! | D8: ='Итоги по ОО'!#REF! -> #REF! | E8: ='Итоги по ОО'!#REF! -> #REF! | F8: ='Итоги по ОО'!#REF! -> #REF! | G8: ='Итоги по ОО'!#REF! -> #REF! | H8: ='Итоги по ОО'!#REF! -> #REF! | I8: ='Итоги по ОО'!#REF! -> #REF! | J8: ='Итоги по ОО'!#REF!+'Итоги по ОО'!#REF! -> #REF! | K8: ='Итоги по ОО'!#REF! -> #REF! | L8: ='Итоги по ОО'!#REF!+'Итоги по ОО'!#REF! -> #REF! | M8: ='Итоги по ОО'!#REF! -> #REF! | N8: ='Итоги по ОО'!#REF!+'Итоги по ОО'!#REF! -> #REF! | O8: ='Итоги по ОО'!#REF! -> #REF! | P8: ='Итоги по ОО'!#REF!+'Итоги по ОО'!#REF! -> #REF! | Q8: ='Итоги по ОО'!#REF! -> #REF! | R8: ='Итоги по ОО'!#REF!+'Итоги по ОО'!#REF! -> #REF! | S8: ='Итоги по ОО'!#REF! -> #REF! | T8: ='Итоги по ОО'!#REF!+'Итоги по ОО'!#REF! -> #REF! | U8: ='Итоги по ОО'!#REF! -> #REF! | V8: ='Итоги по ОО'!#REF!+'Итоги по ОО'!#REF! -> #REF! | W8: ='Итоги по ОО'!#REF! -> #REF! | X8: ='Итоги по ОО'!#REF!+'Итоги по ОО'!#REF! -> #REF! | Y8: ='Итоги по ОО'!#REF! -> #REF! | Z8: ='Итоги по ОО'!#REF!+'Итоги по ОО'!#REF! -> #REF! | AA8: ='Итоги по ОО'!#REF! -> #REF! | AB8: ='Итоги по ОО'!#REF!+'Итоги по ОО'!#REF! -> #REF! | AC8: ='Итоги по ОО'!#REF! -> #REF! | AD8: ='Итоги по ОО'!#REF!+'Итоги по ОО'!#REF! -> #REF! | AE8: ='Итоги по ОО'!#REF! -> #REF! | AF8: ='Итоги по ОО'!#REF!+'Итоги по ОО'!#REF! -> #REF! | AG8: ='Итоги по ОО'!#REF! -> #REF! | AH8: ='Итоги по ОО'!#REF!+'Итоги по ОО'!#REF! -> #REF! | AI8: ='Итоги по ОО'!#REF! -> #REF! | AJ8: ='Итоги по ОО'!#REF!+'Итоги по ОО'!#REF! -> #REF! | AK8: ='Итоги по ОО'!#REF! -> #REF! | AL8: ='Итоги по ОО'!#REF!+'Итоги по ОО'!#REF! -> #REF! | AM8: ='Итоги по ОО'!#REF! -> #REF! | AN8: ='Итоги по ОО'!#REF!+'Итоги по ОО'!#REF! -> #REF! | AO8: ='Итоги по ОО'!#REF! -> #REF! | AP8: ='Итоги по ОО'!#REF!+'Итоги по ОО'!#REF! -> #REF! | AQ8: ='Итоги по ОО'!#REF! -> #REF! | AR8: ='Итоги по ОО'!#REF!+'Итоги по ОО'!#REF! -> #REF! | AS8: ='Итоги по ОО'!#REF! -> #REF! | AT8: ='Итоги по ОО'!#REF!+'Итоги по ОО'!#REF! -> #REF! | AU8: ='Итоги по ОО'!#REF! -> #REF! | AV8: ='Итоги по ОО'!#REF!+'Итоги по ОО'!#REF! -> #REF! | AW8: ='Итоги по ОО'!#REF! -> #REF! | AX8: ='Итоги по ОО'!#REF!+'Итоги по ОО'!#REF! -> #REF! | AY8: ='Итоги по ОО'!#REF! -> #REF! | AZ8: ='Итоги по ОО'!#REF!+'Итоги по ОО'!#REF! -> #REF! | BA8: ='Итоги по ОО'!#REF! -> #REF! | BB8: ='Итоги по ОО'!#REF!+'Итоги по ОО'!#REF! -> #REF! | BC8: ='Итоги по ОО'!#REF! -> #REF! | BD8: ='Итоги по ОО'!#REF!+'Итоги по ОО'!#REF! -> #REF! | BF8: =I8+K8+M8+O8+Q8+S8+U8+W8+AU8+Y8+AA8+AC8+AE8+AG8+AI8+AK8+AW8+AM8+AO8+AQ8+AS8+AY8+BA8+BC8 -> #REF! | BG8: =AT8+J8+L8+N8+P8+R8+T8+V8+X8+AV8+Z8+AB8+AD8+AF8+AH8+AJ8+AL8+AX8+AN8+AP8+AR8+AZ8+BB8+BD8 -> #REF!
A9: 4 | B9: ='Итоги по ОО'!#REF! -> #REF! | C9: ='Итоги по ОО'!#REF! -> #REF! | D9: ='Итоги по ОО'!#REF! -> #REF! | E9: ='Итоги по ОО'!#REF! -> #REF! | F9: ='Итоги по ОО'!#REF! -> #REF! | G9: ='Итоги по ОО'!#REF! -> #REF! | H9: ='Итоги по ОО'!#REF! -> #REF! | I9: ='Итоги по ОО'!#REF! -> #REF! | J9: ='Итоги по ОО'!#REF!+'Итоги по ОО'!#REF! -> #REF! | K9: ='Итоги по ОО'!#REF! -> #REF! | L9: ='Итоги по ОО'!#REF!+'Итоги по ОО'!#REF! -> #REF! | M9: ='Итоги по ОО'!#REF! -> #REF! | N9: ='Итоги по ОО'!#REF!+'Итоги по ОО'!#REF! -> #REF! | O9: ='Итоги по ОО'!#REF! -> #REF! | P9: ='Итоги по ОО'!#REF!+'Итоги по ОО'!#REF! -> #REF! | Q9: ='Итоги по ОО'!#REF! -> #REF! | R9: ='Итоги по ОО'!#REF!+'Итоги по ОО'!#REF! -> #REF! | S9: ='Итоги по ОО'!#REF! -> #REF! | T9: ='Итоги по ОО'!#REF!+'Итоги по ОО'!#REF! -> #REF! | U9: ='Итоги по ОО'!#REF! -> #REF! | V9: ='Итоги по ОО'!#REF!+'Итоги по ОО'!#REF! -> #REF! | W9: ='Итоги по ОО'!#REF! -> #REF! | X9: ='Итоги по ОО'!#REF!+'Итоги по ОО'!#REF! -> #REF! | Y9: ='Итоги по ОО'!#REF! -> #REF! | Z9: ='Итоги по ОО'!#REF!+'Итоги по ОО'!#REF! -> #REF! | AA9: ='Итоги по ОО'!#REF! -> #REF! | AB9: ='Итоги по ОО'!#REF!+'Итоги по ОО'!#REF! -> #REF! | AC9: ='Итоги по ОО'!#REF! -> #REF! | AD9: ='Итоги по ОО'!#REF!+'Итоги по ОО'!#REF! -> #REF! | AE9: ='Итоги по ОО'!#REF! -> #REF! | AF9: ='Итоги по ОО'!#REF!+'Итоги по ОО'!#REF! -> #REF! | AG9: ='Итоги по ОО'!#REF! -> #REF! | AH9: ='Итоги по ОО'!#REF!+'Итоги по ОО'!#REF! -> #REF! | AI9: ='Итоги по ОО'!#REF! -> #REF! | AJ9: ='Итоги по ОО'!#REF!+'Итоги по ОО'!#REF! -> #REF! | AK9: ='Итоги по ОО'!#REF! -> #REF! | AL9: ='Итоги по ОО'!#REF!+'Итоги по ОО'!#REF! -> #REF! | AM9: ='Итоги по ОО'!#REF! -> #REF! | AN9: ='Итоги по ОО'!#REF!+'Итоги по ОО'!#REF! -> #REF! | AO9: ='Итоги по ОО'!#REF! -> #REF! | AP9: ='Итоги по ОО'!#REF!+'Итоги по ОО'!#REF! -> #REF! | AQ9: ='Итоги по ОО'!#REF! -> #REF! | AR9: ='Итоги по ОО'!#REF!+'Итоги по ОО'!#REF! -> #REF! | AS9: ='Итоги по ОО'!#REF! -> #REF! | AT9: ='Итоги по ОО'!#REF!+'Итоги по ОО'!#REF! -> #REF! | AU9: ='Итоги по ОО'!#REF! -> #REF! | AV9: ='Итоги по ОО'!#REF!+'Итоги по ОО'!#REF! -> #REF! | AW9: ='Итоги по ОО'!#REF! -> #REF! | AX9: ='Итоги по ОО'!#REF!+'Итоги по ОО'!#REF! -> #REF! | AY9: ='Итоги по ОО'!#REF! -> #REF! | AZ9: ='Итоги по ОО'!#REF!+'Итоги по ОО'!#REF! -> #REF! | BA9: ='Итоги по ОО'!#REF! -> #REF! | BB9: ='Итоги по ОО'!#REF!+'Итоги по ОО'!#REF! -> #REF! | BC9: ='Итоги по ОО'!#REF! -> #REF! | BD9: ='Итоги по ОО'!#REF!+'Итоги по ОО'!#REF! -> #REF! | BF9: =I9+K9+M9+O9+Q9+S9+U9+W9+AU9+Y9+AA9+AC9+AE9+AG9+AI9+AK9+AW9+AM9+AO9+AQ9+AS9+AY9+BA9+BC9 -> #REF! | BG9: =AT9+J9+L9+N9+P9+R9+T9+V9+X9+AV9+Z9+AB9+AD9+AF9+AH9+AJ9+AL9+AX9+AN9+AP9+AR9+AZ9+BB9+BD9 -> #REF!
A10: 5 | B10: ='Итоги по ОО'!#REF! -> #REF! | C10: ='Итоги по ОО'!#REF! -> #REF! | D10: ='Итоги по ОО'!#REF! -> #REF! | E10: ='Итоги по ОО'!#REF! -> #REF! | F10: ='Итоги по ОО'!#REF! -> #REF! | G10: ='Итоги по ОО'!#REF! -> #REF! | H10: ='Итоги по ОО'!#REF! -> #REF! | I10: ='Итоги по ОО'!#REF! -> #REF! | J10: ='Итоги по ОО'!#REF!+'Итоги по ОО'!#REF! -> #REF! | K10: ='Итоги по ОО'!#REF! -> #REF! | L10: ='Итоги по ОО'!#REF!+'Итоги по ОО'!#REF! -> #REF! | M10: ='Итоги по ОО'!#REF! -> #REF! | N10: ='Итоги по ОО'!#REF!+'Итоги по ОО'!#REF! -> #REF! | O10: ='Итоги по ОО'!#REF! -> #REF! | P10: ='Итоги по ОО'!#REF!+'Итоги по ОО'!#REF! -> #REF! | Q10: ='Итоги по ОО'!#REF! -> #REF! | R10: ='Итоги по ОО'!#REF!+'Итоги по ОО'!#REF! -> #REF! | S10: ='Итоги по ОО'!#REF! -> #REF! | T10: ='Итоги по ОО'!#REF!+'Итоги по ОО'!#REF! -> #REF! | U10: ='Итоги по ОО'!#REF! -> #REF! | V10: ='Итоги по ОО'!#REF!+'Итоги по ОО'!#REF! -> #REF! | W10: ='Итоги по ОО'!#REF! -> #REF! | X10: ='Итоги по ОО'!#REF!+'Итоги по ОО'!#REF! -> #REF! | Y10: ='Итоги по ОО'!#REF! -> #REF! | Z10: ='Итоги по ОО'!#REF!+'Итоги по ОО'!#REF! -> #REF! | AA10: ='Итоги по ОО'!#REF! -> #REF! | AB10: ='Итоги по ОО'!#REF!+'Итоги по ОО'!#REF! -> #REF! | AC10: ='Итоги по ОО'!#REF! -> #REF! | AD10: ='Итоги по ОО'!#REF!+'Итоги по ОО'!#REF! -> #REF! | AE10: ='Итоги по ОО'!#REF! -> #REF! | AF10: ='Итоги по ОО'!#REF!+'Итоги по ОО'!#REF! -> #REF! | AG10: ='Итоги по ОО'!#REF! -> #REF! | AH10: ='Итоги по ОО'!#REF!+'Итоги по ОО'!#REF! -> #REF! | AI10: ='Итоги по ОО'!#REF! -> #REF! | AJ10: ='Итоги по ОО'!#REF!+'Итоги по ОО'!#REF! -> #REF! | AK10: ='Итоги по ОО'!#REF! -> #REF! | AL10: ='Итоги по ОО'!#REF!+'Итоги по ОО'!#REF! -> #REF! | AM10: ='Итоги по ОО'!#REF! -> #REF! | AN10: ='Итоги по ОО'!#REF!+'Итоги по ОО'!#REF! -> #REF! | AO10: ='Итоги по ОО'!#REF! -> #REF! | AP10: ='Итоги по ОО'!#REF!+'Итоги по ОО'!#REF! -> #REF! | AQ10: ='Итоги по ОО'!#REF! -> #REF! | AR10: ='Итоги по ОО'!#REF!+'Итоги по ОО'!#REF! -> #REF! | AS10: ='Итоги по ОО'!#REF! -> #REF! | AT10: ='Итоги по ОО'!#REF!+'Итоги по ОО'!#REF! -> #REF! | AU10: ='Итоги по ОО'!#REF! -> #REF! | AV10: ='Итоги по ОО'!#REF!+'Итоги по ОО'!#REF! -> #REF! | AW10: ='Итоги по ОО'!#REF! -> #REF! | AX10: ='Итоги по ОО'!#REF!+'Итоги по ОО'!#REF! -> #REF! | AY10: ='Итоги по ОО'!#REF! -> #REF! | AZ10: ='Итоги по ОО'!#REF!+'Итоги по ОО'!#REF! -> #REF! | BA10: ='Итоги по ОО'!#REF! -> #REF! | BB10: ='Итоги по ОО'!#REF!+'Итоги по ОО'!#REF! -> #REF! | BC10: ='Итоги по ОО'!#REF! -> #REF! | BD10: ='Итоги по ОО'!#REF!+'Итоги по ОО'!#REF! -> #REF! | BF10: =I10+K10+M10+O10+Q10+S10+U10+W10+AU10+Y10+AA10+AC10+AE10+AG10+AI10+AK10+AW10+AM10+AO10+AQ10+AS10+AY10+BA10+BC10 -> #REF! | BG10: =AT10+J10+L10+N10+P10+R10+T10+V10+X10+AV10+Z10+AB10+AD10+AF10+AH10+AJ10+AL10+AX10+AN10+AP10+AR10+AZ10+BB10+BD10 -> #REF!
A11: 6 | B11: ='Итоги по ОО'!#REF! -> #REF! | C11: ='Итоги по ОО'!#REF! -> #REF! | D11: ='Итоги по ОО'!#REF! -> #REF! | E11: ='Итоги по ОО'!#REF! -> #REF! | F11: ='Итоги по ОО'!#REF! -> #REF! | G11: ='Итоги по ОО'!#REF! -> #REF! | H11: ='Итоги по ОО'!#REF! -> #REF! | I11: ='Итоги по ОО'!#REF! -> #REF! | J11: ='Итоги по ОО'!#REF!+'Итоги по ОО'!#REF! -> #REF! | K11: ='Итоги по ОО'!#REF! -> #REF! | L11: ='Итоги по ОО'!#REF!+'Итоги по ОО'!#REF! -> #REF! | M11: ='Итоги по ОО'!#REF! -> #REF! | N11: ='Итоги по ОО'!#REF!+'Итоги по ОО'!#REF! -> #REF! | O11: ='Итоги по ОО'!#REF! -> #REF! | P11: ='Итоги по ОО'!#REF!+'Итоги по ОО'!#REF! -> #REF! | Q11: ='Итоги по ОО'!#REF! -> #REF! | R11: ='Итоги по ОО'!#REF!+'Итоги по ОО'!#REF! -> #REF! | S11: ='Итоги по ОО'!#REF! -> #REF! | T11: ='Итоги по ОО'!#REF!+'Итоги по ОО'!#REF! -> #REF! | U11: ='Итоги по ОО'!#REF! -> #REF! | V11: ='Итоги по ОО'!#REF!+'Итоги по ОО'!#REF! -> #REF! | W11: ='Итоги по ОО'!#REF! -> #REF! | X11: ='Итоги по ОО'!#REF!+'Итоги по ОО'!#REF! -> #REF! | Y11: ='Итоги по ОО'!#REF! -> #REF! | Z11: ='Итоги по ОО'!#REF!+'Итоги по ОО'!#REF! -> #REF! | AA11: ='Итоги по ОО'!#REF! -> #REF! | AB11: ='Итоги по ОО'!#REF!+'Итоги по ОО'!#REF! -> #REF! | AC11: ='Итоги по ОО'!#REF! -> #REF! | AD11: ='Итоги по ОО'!#REF!+'Итоги по ОО'!#REF! -> #REF! | AE11: ='Итоги по ОО'!#REF! -> #REF! | AF11: ='Итоги по ОО'!#REF!+'Итоги по ОО'!#REF! -> #REF! | AG11: ='Итоги по ОО'!#REF! -> #REF! | AH11: ='Итоги по ОО'!#REF!+'Итоги по ОО'!#REF! -> #REF! | AI11: ='Итоги по ОО'!#REF! -> #REF! | AJ11: ='Итоги по ОО'!#REF!+'Итоги по ОО'!#REF! -> #REF! | AK11: ='Итоги по ОО'!#REF! -> #REF! | AL11: ='Итоги по ОО'!#REF!+'Итоги по ОО'!#REF! -> #REF! | AM11: ='Итоги по ОО'!#REF! -> #REF! | AN11: ='Итоги по ОО'!#REF!+'Итоги по ОО'!#REF! -> #REF! | AO11: ='Итоги по ОО'!#REF! -> #REF! | AP11: ='Итоги по ОО'!#REF!+'Итоги по ОО'!#REF! -> #REF! | AQ11: ='Итоги по ОО'!#REF! -> #REF! | AR11: ='Итоги по ОО'!#REF!+'Итоги по ОО'!#REF! -> #REF! | AS11: ='Итоги по ОО'!#REF! -> #REF! | AT11: ='Итоги по ОО'!#REF!+'Итоги по ОО'!#REF! -> #REF! | AU11: ='Итоги по ОО'!#REF! -> #REF! | AV11: ='Итоги по ОО'!#REF!+'Итоги по ОО'!#REF! -> #REF! | AW11: ='Итоги по ОО'!#REF! -> #REF! | AX11: ='Итоги по ОО'!#REF!+'Итоги по ОО'!#REF! -> #REF! | AY11: ='Итоги по ОО'!#REF! -> #REF! | AZ11: ='Итоги по ОО'!#REF!+'Итоги по ОО'!#REF! -> #REF! | BA11: ='Итоги по ОО'!#REF! -> #REF! | BB11: ='Итоги по ОО'!#REF!+'Итоги по ОО'!#REF! -> #REF! | BC11: ='Итоги по ОО'!#REF! -> #REF! | BD11: ='Итоги по ОО'!#REF!+'Итоги по ОО'!#REF! -> #REF! | BF11: =I11+K11+M11+O11+Q11+S11+U11+W11+AU11+Y11+AA11+AC11+AE11+AG11+AI11+AK11+AW11+AM11+AO11+AQ11+AS11+AY11+BA11+BC11 -> #REF! | BG11: =AT11+J11+L11+N11+P11+R11+T11+V11+X11+AV11+Z11+AB11+AD11+AF11+AH11+AJ11+AL11+AX11+AN11+AP11+AR11+AZ11+BB11+BD11 -> #REF!
A12: 7 | B12: ='Итоги по ОО'!#REF! -> #REF! | C12: ='Итоги по ОО'!#REF! -> #REF! | D12: ='Итоги по ОО'!#REF! -> #REF! | E12: ='Итоги по ОО'!#REF! -> #REF! | F12: ='Итоги по ОО'!#REF! -> #REF! | G12: ='Итоги по ОО'!#REF! -> #REF! | H12: ='Итоги по ОО'!#REF! -> #REF! | I12: ='Итоги по ОО'!#REF! -> #REF! | J12: ='Итоги по ОО'!#REF!+'Итоги по ОО'!#REF! -> #REF! | K12: ='Итоги по ОО'!#REF! -> #REF! | L12: ='Итоги по ОО'!#REF!+'Итоги по ОО'!#REF! -> #REF! | M12: ='Итоги по ОО'!#REF! -> #REF! | N12: ='Итоги по ОО'!#REF!+'Итоги по ОО'!#REF! -> #REF! | O12: ='Итоги по ОО'!#REF! -> #REF! | P12: ='Итоги по ОО'!#REF!+'Итоги по ОО'!#REF! -> #REF! | Q12: ='Итоги по ОО'!#REF! -> #REF! | R12: ='Итоги по ОО'!#REF!+'Итоги по ОО'!#REF! -> #REF! | S12: ='Итоги по ОО'!#REF! -> #REF! | T12: ='Итоги по ОО'!#REF!+'Итоги по ОО'!#REF! -> #REF! | U12: ='Итоги по ОО'!#REF! -> #REF! | V12: ='Итоги по ОО'!#REF!+'Итоги по ОО'!#REF! -> #REF! | W12: ='Итоги по ОО'!#REF! -> #REF! | X12: ='Итоги по ОО'!#REF!+'Итоги по ОО'!#REF! -> #REF! | Y12: ='Итоги по ОО'!#REF! -> #REF! | Z12: ='Итоги по ОО'!#REF!+'Итоги по ОО'!#REF! -> #REF! | AA12: ='Итоги по ОО'!#REF! -> #REF! | AB12: ='Итоги по ОО'!#REF!+'Итоги по ОО'!#REF! -> #REF! | AC12: ='Итоги по ОО'!#REF! -> #REF! | AD12: ='Итоги по ОО'!#REF!+'Итоги по ОО'!#REF! -> #REF! | AE12: ='Итоги по ОО'!#REF! -> #REF! | AF12: ='Итоги по ОО'!#REF!+'Итоги по ОО'!#REF! -> #REF! | AG12: ='Итоги по ОО'!#REF! -> #REF! | AH12: ='Итоги по ОО'!#REF!+'Итоги по ОО'!#REF! -> #REF! | AI12: ='Итоги по ОО'!#REF! -> #REF! | AJ12: ='Итоги по ОО'!#REF!+'Итоги по ОО'!#REF! -> #REF! | AK12: ='Итоги по ОО'!#REF! -> #REF! | AL12: ='Итоги по ОО'!#REF!+'Итоги по ОО'!#REF! -> #REF! | AM12: ='Итоги по ОО'!#REF! -> #REF! | AN12: ='Итоги по ОО'!#REF!+'Итоги по ОО'!#REF! -> #REF! | AO12: ='Итоги по ОО'!#REF! -> #REF! | AP12: ='Итоги по ОО'!#REF!+'Итоги по ОО'!#REF! -> #REF! | AQ12: ='Итоги по ОО'!#REF! -> #REF! | AR12: ='Итоги по ОО'!#REF!+'Итоги по ОО'!#REF! -> #REF! | AS12: ='Итоги по ОО'!#REF! -> #REF! | AT12: ='Итоги по ОО'!#REF!+'Итоги по ОО'!#REF! -> #REF! | AU12: ='Итоги по ОО'!#REF! -> #REF! | AV12: ='Итоги по ОО'!#REF!+'Итоги по ОО'!#REF! -> #REF! | AW12: ='Итоги по ОО'!#REF! -> #REF! | AX12: ='Итоги по ОО'!#REF!+'Итоги по ОО'!#REF! -> #REF! | AY12: ='Итоги по ОО'!#REF! -> #REF! | AZ12: ='Итоги по ОО'!#REF!+'Итоги по ОО'!#REF! -> #REF! | BA12: ='Итоги по ОО'!#REF! -> #REF! | BB12: ='Итоги по ОО'!#REF!+'Итоги по ОО'!#REF! -> #REF! | BC12: ='Итоги по ОО'!#REF! -> #REF! | BD12: ='Итоги по ОО'!#REF!+'Итоги по ОО'!#REF! -> #REF! | BF12: =I12+K12+M12+O12+Q12+S12+U12+W12+AU12+Y12+AA12+AC12+AE12+AG12+AI12+AK12+AW12+AM12+AO12+AQ12+AS12+AY12+BA12+BC12 -> #REF! | BG12: =AT12+J12+L12+N12+P12+R12+T12+V12+X12+AV12+Z12+AB12+AD12+AF12+AH12+AJ12+AL12+AX12+AN12+AP12+AR12+AZ12+BB12+BD12 -> #REF!
A13: 8 | B13: ='Итоги по ОО'!#REF! -> #REF! | C13: ='Итоги по ОО'!#REF! -> #REF! | D13: ='Итоги по ОО'!#REF! -> #REF! | E13: ='Итоги по ОО'!#REF! -> #REF! | F13: ='Итоги по ОО'!#REF! -> #REF! | G13: ='Итоги по ОО'!#REF! -> #REF! | H13: ='Итоги по ОО'!#REF! -> #REF! | I13: ='Итоги по ОО'!#REF! -> #REF! | J13: ='Итоги по ОО'!#REF!+'Итоги по ОО'!#REF! -> #REF! | K13: ='Итоги по ОО'!#REF! -> #REF! | L13: ='Итоги по ОО'!#REF!+'Итоги по ОО'!#REF! -> #REF! | M13: ='Итоги по ОО'!#REF! -> #REF! | N13: ='Итоги по ОО'!#REF!+'Итоги по ОО'!#REF! -> #REF! | O13: ='Итоги по ОО'!#REF! -> #REF! | P13: ='Итоги по ОО'!#REF!+'Итоги по ОО'!#REF! -> #REF! | Q13: ='Итоги по ОО'!#REF! -> #REF! | R13: ='Итоги по ОО'!#REF!+'Итоги по ОО'!#REF! -> #REF! | S13: ='Итоги по ОО'!#REF! -> #REF! | T13: ='Итоги по ОО'!#REF!+'Итоги по ОО'!#REF! -> #REF! | U13: ='Итоги по ОО'!#REF! -> #REF! | V13: ='Итоги по ОО'!#REF!+'Итоги по ОО'!#REF! -> #REF! | W13: ='Итоги по ОО'!#REF! -> #REF! | X13: ='Итоги по ОО'!#REF!+'Итоги по ОО'!#REF! -> #REF! | Y13: ='Итоги по ОО'!#REF! -> #REF! | Z13: ='Итоги по ОО'!#REF!+'Итоги по ОО'!#REF! -> #REF! | AA13: ='Итоги по ОО'!#REF! -> #REF! | AB13: ='Итоги по ОО'!#REF!+'Итоги по ОО'!#REF! -> #REF! | AC13: ='Итоги по ОО'!#REF! -> #REF! | AD13: ='Итоги по ОО'!#REF!+'Итоги по ОО'!#REF! -> #REF! | AE13: ='Итоги по ОО'!#REF! -> #REF! | AF13: ='Итоги по ОО'!#REF!+'Итоги по ОО'!#REF! -> #REF! | AG13: ='Итоги по ОО'!#REF! -> #REF! | AH13: ='Итоги по ОО'!#REF!+'Итоги по ОО'!#REF! -> #REF! | AI13: ='Итоги по ОО'!#REF! -> #REF! | AJ13: ='Итоги по ОО'!#REF!+'Итоги по ОО'!#REF! -> #REF! | AK13: ='Итоги по ОО'!#REF! -> #REF! | AL13: ='Итоги по ОО'!#REF!+'Итоги по ОО'!#REF! -> #REF! | AM13: ='Итоги по ОО'!#REF! -> #REF! | AN13: ='Итоги по ОО'!#REF!+'Итоги по ОО'!#REF! -> #REF! | AO13: ='Итоги по ОО'!#REF! -> #REF! | AP13: ='Итоги по ОО'!#REF!+'Итоги по ОО'!#REF! -> #REF! | AQ13: ='Итоги по ОО'!#REF! -> #REF! | AR13: ='Итоги по ОО'!#REF!+'Итоги по ОО'!#REF! -> #REF! | AS13: ='Итоги по ОО'!#REF! -> #REF! | AT13: ='Итоги по ОО'!#REF!+'Итоги по ОО'!#REF! -> #REF! | AU13: ='Итоги по ОО'!#REF! -> #REF! | AV13: ='Итоги по ОО'!#REF!+'Итоги по ОО'!#REF! -> #REF! | AW13: ='Итоги по ОО'!#REF! -> #REF! | AX13: ='Итоги по ОО'!#REF!+'Итоги по ОО'!#REF! -> #REF! | AY13: ='Итоги по ОО'!#REF! -> #REF! | AZ13: ='Итоги по ОО'!#REF!+'Итоги по ОО'!#REF! -> #REF! | BA13: ='Итоги по ОО'!#REF! -> #REF! | BB13: ='Итоги по ОО'!#REF!+'Итоги по ОО'!#REF! -> #REF! | BC13: ='Итоги по ОО'!#REF! -> #REF! | BD13: ='Итоги по ОО'!#REF!+'Итоги по ОО'!#REF! -> #REF! | BF13: =I13+K13+M13+O13+Q13+S13+U13+W13+AU13+Y13+AA13+AC13+AE13+AG13+AI13+AK13+AW13+AM13+AO13+AQ13+AS13+AY13+BA13+BC13 -> #REF! | BG13: =AT13+J13+L13+N13+P13+R13+T13+V13+X13+AV13+Z13+AB13+AD13+AF13+AH13+AJ13+AL13+AX13+AN13+AP13+AR13+AZ13+BB13+BD13 -> #REF!
A14: 9 | B14: ='Итоги по ОО'!#REF! -> #REF! | C14: ='Итоги по ОО'!#REF! -> #REF! | D14: ='Итоги по ОО'!#REF! -> #REF! | E14: ='Итоги по ОО'!#REF! -> #REF! | F14: ='Итоги по ОО'!#REF! -> #REF! | G14: ='Итоги по ОО'!#REF! -> #REF! | H14: ='Итоги по ОО'!#REF! -> #REF! | I14: ='Итоги по ОО'!#REF! -> #REF! | J14: ='Итоги по ОО'!#REF!+'Итоги по ОО'!#REF! -> #REF! | K14: ='Итоги по ОО'!#REF! -> #REF! | L14: ='Итоги по ОО'!#REF!+'Итоги по ОО'!#REF! -> #REF! | M14: ='Итоги по ОО'!#REF! -> #REF! | N14: ='Итоги по ОО'!#REF!+'Итоги по ОО'!#REF! -> #REF! | O14: ='Итоги по ОО'!#REF! -> #REF! | P14: ='Итоги по ОО'!#REF!+'Итоги по ОО'!#REF! -> #REF! | Q14: ='Итоги по ОО'!#REF! -> #REF! | R14: ='Итоги по ОО'!#REF!+'Итоги по ОО'!#REF! -> #REF! | S14: ='Итоги по ОО'!#REF! -> #REF! | T14: ='Итоги по ОО'!#REF!+'Итоги по ОО'!#REF! -> #REF! | U14: ='Итоги по ОО'!#REF! -> #REF! | V14: ='Итоги по ОО'!#REF!+'Итоги по ОО'!#REF! -> #REF! | W14: ='Итоги по ОО'!#REF! -> #REF! | X14: ='Итоги по ОО'!#REF!+'Итоги по ОО'!#REF! -> #REF! | Y14: ='Итоги по ОО'!#REF! -> #REF! | Z14: ='Итоги по ОО'!#REF!+'Итоги по ОО'!#REF! -> #REF! | AA14: ='Итоги по ОО'!#REF! -> #REF! | AB14: ='Итоги по ОО'!#REF!+'Итоги по ОО'!#REF! -> #REF! | AC14: ='Итоги по ОО'!#REF! -> #REF! | AD14: ='Итоги по ОО'!#REF!+'Итоги по ОО'!#REF! -> #REF! | AE14: ='Итоги по ОО'!#REF! -> #REF! | AF14: ='Итоги по ОО'!#REF!+'Итоги по ОО'!#REF! -> #REF! | AG14: ='Итоги по ОО'!#REF! -> #REF! | AH14: ='Итоги по ОО'!#REF!+'Итоги по ОО'!#REF! -> #REF! | AI14: ='Итоги по ОО'!#REF! -> #REF! | AJ14: ='Итоги по ОО'!#REF!+'Итоги по ОО'!#REF! -> #REF! | AK14: ='Итоги по ОО'!#REF! -> #REF! | AL14: ='Итоги по ОО'!#REF!+'Итоги по ОО'!#REF! -> #REF! | AM14: ='Итоги по ОО'!#REF! -> #REF! | AN14: ='Итоги по ОО'!#REF!+'Итоги по ОО'!#REF! -> #REF! | AO14: ='Итоги по ОО'!#REF! -> #REF! | AP14: ='Итоги по ОО'!#REF!+'Итоги по ОО'!#REF! -> #REF! | AQ14: ='Итоги по ОО'!#REF! -> #REF! | AR14: ='Итоги по ОО'!#REF!+'Итоги по ОО'!#REF! -> #REF! | AS14: ='Итоги по ОО'!#REF! -> #REF! | AT14: ='Итоги по ОО'!#REF!+'Итоги по ОО'!#REF! -> #REF! | AU14: ='Итоги по ОО'!#REF! -> #REF! | AV14: ='Итоги по ОО'!#REF!+'Итоги по ОО'!#REF! -> #REF! | AW14: ='Итоги по ОО'!#REF! -> #REF! | AX14: ='Итоги по ОО'!#REF!+'Итоги по ОО'!#REF! -> #REF! | AY14: ='Итоги по ОО'!#REF! -> #REF! | AZ14: ='Итоги по ОО'!#REF!+'Итоги по ОО'!#REF! -> #REF! | BA14: ='Итоги по ОО'!#REF! -> #REF! | BB14: ='Итоги по ОО'!#REF!+'Итоги по ОО'!#REF! -> #REF! | BC14: ='Итоги по ОО'!#REF! -> #REF! | BD14: ='Итоги по ОО'!#REF!+'Итоги по ОО'!#REF! -> #REF! | BF14: =I14+K14+M14+O14+Q14+S14+U14+W14+AU14+Y14+AA14+AC14+AE14+AG14+AI14+AK14+AW14+AM14+AO14+AQ14+AS14+AY14+BA14+BC14 -> #REF! | BG14: =AT14+J14+L14+N14+P14+R14+T14+V14+X14+AV14+Z14+AB14+AD14+AF14+AH14+AJ14+AL14+AX14+AN14+AP14+AR14+AZ14+BB14+BD14 -> #REF!
A15: 10 | B15: ='Итоги по ОО'!B7 -> Батыревский муниципальный округ | C15: ='Итоги по ОО'!C7 -> МБОУ "Тарханская СОШ" | D15: ='Итоги по ОО'!D7 -> 0 | E15: ='Итоги по ОО'!E7 -> 0 | F15: ='Итоги по ОО'!F7 -> 0 | G15: ='Итоги по ОО'!G7 -> 0 | H15: ='Итоги по ОО'!H7 -> 0 | I15: ='Итоги по ОО'!I7 -> 0 | J15: ='Итоги по ОО'!J7+'Итоги по ОО'!K7 -> 0 | K15: ='Итоги по ОО'!L7 -> 0 | L15: ='Итоги по ОО'!M7+'Итоги по ОО'!N7 -> 0 | M15: ='Итоги по ОО'!O7 -> 0 | N15: ='Итоги по ОО'!P7+'Итоги по ОО'!Q7 -> 0 | O15: ='Итоги по ОО'!R7 -> 0 | P15: ='Итоги по ОО'!S7+'Итоги по ОО'!T7 -> 0 | Q15: ='Итоги по ОО'!U7 -> 0 | R15: ='Итоги по ОО'!V7+'Итоги по ОО'!W7 -> 0 | S15: ='Итоги по ОО'!X7 -> 0 | T15: ='Итоги по ОО'!Y7+'Итоги по ОО'!Z7 -> 0 | U15: ='Итоги по ОО'!AA7 -> 0 | V15: ='Итоги по ОО'!AB7+'Итоги по ОО'!AC7 -> 0 | W15: ='Итоги по ОО'!AD7 -> 0 | X15: ='Итоги по ОО'!AE7+'Итоги по ОО'!AF7 -> 0 | Y15: ='Итоги по ОО'!AG7 -> 0 | Z15: ='Итоги по ОО'!AH7+'Итоги по ОО'!AI7 -> 0 | AA15: ='Итоги по ОО'!AJ7 -> 0 | AB15: ='Итоги по ОО'!AK7+'Итоги по ОО'!AL7 -> 0 | AC15: ='Итоги по ОО'!AM7 -> 0 | AD15: ='Итоги по ОО'!AN7+'Итоги по ОО'!AO7 -> 0 | AE15: ='Итоги по ОО'!AP7 -> 0 | AF15: ='Итоги по ОО'!AQ7+'Итоги по ОО'!AR7 -> 0 | AG15: ='Итоги по ОО'!AS7 -> 0 | AH15: ='Итоги по ОО'!AT7+'Итоги по ОО'!AU7 -> 0 | AI15: ='Итоги по ОО'!AV7 -> 0 | AJ15: ='Итоги по ОО'!AW7+'Итоги по ОО'!AX7 -> 0 | AK15: ='Итоги по ОО'!AY7 -> 0 | AL15: ='Итоги по ОО'!AZ7+'Итоги по ОО'!BA7 -> 0 | AM15: ='Итоги по ОО'!BB7 -> 0 | AN15: ='Итоги по ОО'!BC7+'Итоги по ОО'!BD7 -> 0 | AO15: ='Итоги по ОО'!BE7 -> 0 | AP15: ='Итоги по ОО'!BF7+'Итоги по ОО'!BG7 -> 0 | AQ15: ='Итоги по ОО'!BH7 -> 0 | AR15: ='Итоги по ОО'!BI7+'Итоги по ОО'!BJ7 -> 0 | AS15: ='Итоги по ОО'!BK7 -> 0 | AT15: ='Итоги по ОО'!BL7+'Итоги по ОО'!BM7 -> 0 | AU15: ='Итоги по ОО'!BN7 -> 0 | AV15: ='Итоги по ОО'!BO7+'Итоги по ОО'!BP7 -> 0 | AW15: ='Итоги по ОО'!BQ7 -> 0 | AX15: ='Итоги по ОО'!BR7+'Итоги по ОО'!BS7 -> 0 | AY15: ='Итоги по ОО'!BT7 -> 0 | AZ15: ='Итоги по ОО'!BU7+'Итоги по ОО'!BV7 -> 0 | BA15: ='Итоги по ОО'!BW7 -> 0 | BB15: ='Итоги по ОО'!BX7+'Итоги по ОО'!BY7 -> 0 | BC15: ='Итоги по ОО'!BZ7 -> 0 | BD15: ='Итоги по ОО'!CA7+'Итоги по ОО'!CB7 -> 0 | BF15: =I15+K15+M15+O15+Q15+S15+U15+W15+AU15+Y15+AA15+AC15+AE15+AG15+AI15+AK15+AW15+AM15+AO15+AQ15+AS15+AY15+BA15+BC15 -> 0 | BG15: =AT15+J15+L15+N15+P15+R15+T15+V15+X15+AV15+Z15+AB15+AD15+AF15+AH15+AJ15+AL15+AX15+AN15+AP15+AR15+AZ15+BB15+BD15 -> 0
A16: 11 | B16: ='Итоги по ОО'!B8 -> Батыревский муниципальный округ | C16: ='Итоги по ОО'!C8 -> МАОУ "Татарско-Сугутская СОШ" | D16: ='Итоги по ОО'!D8 -> 0 | E16: ='Итоги по ОО'!E8 -> 0 | F16: ='Итоги по ОО'!F8 -> 0 | G16: ='Итоги по ОО'!G8 -> 0 | H16: ='Итоги по ОО'!H8 -> 0 | I16: ='Итоги по ОО'!I8 -> 0 | J16: ='Итоги по ОО'!J8+'Итоги по ОО'!K8 -> 0 | K16: ='Итоги по ОО'!L8 -> 0 | L16: ='Итоги по ОО'!M8+'Итоги по ОО'!N8 -> 0 | M16: ='Итоги по ОО'!O8 -> 0 | N16: ='Итоги по ОО'!P8+'Итоги по ОО'!Q8 -> 0 | O16: ='Итоги по ОО'!R8 -> 0 | P16: ='Итоги по ОО'!S8+'Итоги по ОО'!T8 -> 0 | Q16: ='Итоги по ОО'!U8 -> 0 | R16: ='Итоги по ОО'!V8+'Итоги по ОО'!W8 -> 0 | S16: ='Итоги по ОО'!X8 -> 0 | T16: ='Итоги по ОО'!Y8+'Итоги по ОО'!Z8 -> 0 | U16: ='Итоги по ОО'!AA8 -> 0 | V16: ='Итоги по ОО'!AB8+'Итоги по ОО'!AC8 -> 0 | W16: ='Итоги по ОО'!AD8 -> 0 | X16: ='Итоги по ОО'!AE8+'Итоги по ОО'!AF8 -> 0 | Y16: ='Итоги по ОО'!AG8 -> 0 | Z16: ='Итоги по ОО'!AH8+'Итоги по ОО'!AI8 -> 0 | AA16: ='Итоги по ОО'!AJ8 -> 0 | AB16: ='Итоги по ОО'!AK8+'Итоги по ОО'!AL8 -> 0 | AC16: ='Итоги по ОО'!AM8 -> 0 | AD16: ='Итоги по ОО'!AN8+'Итоги по ОО'!AO8 -> 0 | AE16: ='Итоги по ОО'!AP8 -> 0 | AF16: ='Итоги по ОО'!AQ8+'Итоги по ОО'!AR8 -> 0 | AG16: ='Итоги по ОО'!AS8 -> 0 | AH16: ='Итоги по ОО'!AT8+'Итоги по ОО'!AU8 -> 0 | AI16: ='Итоги по ОО'!AV8 -> 0 | AJ16: ='Итоги по ОО'!AW8+'Итоги по ОО'!AX8 -> 0 | AK16: ='Итоги по ОО'!AY8 -> 0 | AL16: ='Итоги по ОО'!AZ8+'Итоги по ОО'!BA8 -> 0 | AM16: ='Итоги по ОО'!BB8 -> 0 | AN16: ='Итоги по ОО'!BC8+'Итоги по ОО'!BD8 -> 0 | AO16: ='Итоги по ОО'!BE8 -> 0 | AP16: ='Итоги по ОО'!BF8+'Итоги по ОО'!BG8 -> 0 | AQ16: ='Итоги по ОО'!BH8 -> 0 | AR16: ='Итоги по ОО'!BI8+'Итоги по ОО'!BJ8 -> 0 | AS16: ='Итоги по ОО'!BK8 -> 0 | AT16: ='Итоги по ОО'!BL8+'Итоги по ОО'!BM8 -> 0 | AU16: ='Итоги по ОО'!BN8 -> 0 | AV16: ='Итоги по ОО'!BO8+'Итоги по ОО'!BP8 -> 0 | AW16: ='Итоги по ОО'!BQ8 -> 0 | AX16: ='Итоги по ОО'!BR8+'Итоги по ОО'!BS8 -> 0 | AY16: ='Итоги по ОО'!BT8 -> 0 | AZ16: ='Итоги по ОО'!BU8+'Итоги по ОО'!BV8 -> 0 | BA16: ='Итоги по ОО'!BW8 -> 0 | BB16: ='Итоги по ОО'!BX8+'Итоги по ОО'!BY8 -> 0 | BC16: ='Итоги по ОО'!BZ8 -> 0 | BD16: ='Итоги по ОО'!CA8+'Итоги по ОО'!CB8 -> 0 | BF16: =I16+K16+M16+O16+Q16+S16+U16+W16+AU16+Y16+AA16+AC16+AE16+AG16+AI16+AK16+AW16+AM16+AO16+AQ16+AS16+AY16+BA16+BC16 -> 0 | BG16: =AT16+J16+L16+N16+P16+R16+T16+V16+X16+AV16+Z16+AB16+AD16+AF16+AH16+AJ16+AL16+AX16+AN16+AP16+AR16+AZ16+BB16+BD16 -> 0
A17: 12 | B17: ='Итоги по ОО'!B9 -> Батыревский муниципальный округ | C17: ='Итоги по ОО'!C9 -> МБОУ "Тойсинская СОШ" | D17: ='Итоги по ОО'!D9 -> 0 | E17: ='Итоги по ОО'!E9 -> 0 | F17: ='Итоги по ОО'!F9 -> 0 | G17: ='Итоги по ОО'!G9 -> 0 | H17: ='Итоги по ОО'!H9 -> 0 | I17: ='Итоги по ОО'!I9 -> 0 | J17: ='Итоги по ОО'!J9+'Итоги по ОО'!K9 -> 0 | K17: ='Итоги по ОО'!L9 -> 0 | L17: ='Итоги по ОО'!M9+'Итоги по ОО'!N9 -> 0 | M17: ='Итоги по ОО'!O9 -> 0 | N17: ='Итоги по ОО'!P9+'Итоги по ОО'!Q9 -> 0 | O17: ='Итоги по ОО'!R9 -> 0 | P17: ='Итоги по ОО'!S9+'Итоги по ОО'!T9 -> 0 | Q17: ='Итоги по ОО'!U9 -> 0 | R17: ='Итоги по ОО'!V9+'Итоги по ОО'!W9 -> 0 | S17: ='Итоги по ОО'!X9 -> 0 | T17: ='Итоги по ОО'!Y9+'Итоги по ОО'!Z9 -> 0 | U17: ='Итоги по ОО'!AA9 -> 0 | V17: ='Итоги по ОО'!AB9+'Итоги по ОО'!AC9 -> 0 | W17: ='Итоги по ОО'!AD9 -> 0 | X17: ='Итоги по ОО'!AE9+'Итоги по ОО'!AF9 -> 0 | Y17: ='Итоги по ОО'!AG9 -> 0 | Z17: ='Итоги по ОО'!AH9+'Итоги по ОО'!AI9 -> 0 | AA17: ='Итоги по ОО'!AJ9 -> 0 | AB17: ='Итоги по ОО'!AK9+'Итоги по ОО'!AL9 -> 0 | AC17: ='Итоги по ОО'!AM9 -> 0 | AD17: ='Итоги по ОО'!AN9+'Итоги по ОО'!AO9 -> 0 | AE17: ='Итоги по ОО'!AP9 -> 0 | AF17: ='Итоги по ОО'!AQ9+'Итоги по ОО'!AR9 -> 0 | AG17: ='Итоги по ОО'!AS9 -> 0 | AH17: ='Итоги по ОО'!AT9+'Итоги по ОО'!AU9 -> 0 | AI17: ='Итоги по ОО'!AV9 -> 0 | AJ17: ='Итоги по ОО'!AW9+'Итоги по ОО'!AX9 -> 0 | AK17: ='Итоги по ОО'!AY9 -> 0 | AL17: ='Итоги по ОО'!AZ9+'Итоги по ОО'!BA9 -> 0 | AM17: ='Итоги по ОО'!BB9 -> 0 | AN17: ='Итоги по ОО'!BC9+'Итоги по ОО'!BD9 -> 0 | AO17: ='Итоги по ОО'!BE9 -> 0 | AP17: ='Итоги по ОО'!BF9+'Итоги по ОО'!BG9 -> 0 | AQ17: ='Итоги по ОО'!BH9 -> 0 | AR17: ='Итоги по ОО'!BI9+'Итоги по ОО'!BJ9 -> 0 | AS17: ='Итоги по ОО'!BK9 -> 0 | AT17: ='Итоги по ОО'!BL9+'Итоги по ОО'!BM9 -> 0 | AU17: ='Итоги по ОО'!BN9 -> 0 | AV17: ='Итоги по ОО'!BO9+'Итоги по ОО'!BP9 -> 0 | AW17: ='Итоги по ОО'!BQ9 -> 0 | AX17: ='Итоги по ОО'!BR9+'Итоги по ОО'!BS9 -> 0 | AY17: ='Итоги по ОО'!BT9 -> 0 | AZ17: ='Итоги по ОО'!BU9+'Итоги по ОО'!BV9 -> 0 | BA17: ='Итоги по ОО'!BW9 -> 0 | BB17: ='Итоги по ОО'!BX9+'Итоги по ОО'!BY9 -> 0 | BC17: ='Итоги по ОО'!BZ9 -> 0 | BD17: ='Итоги по ОО'!CA9+'Итоги по ОО'!CB9 -> 0 | BF17: =I17+K17+M17+O17+Q17+S17+U17+W17+AU17+Y17+AA17+AC17+AE17+AG17+AI17+AK17+AW17+AM17+AO17+AQ17+AS17+AY17+BA17+BC17 -> 0 | BG17: =AT17+J17+L17+N17+P17+R17+T17+V17+X17+AV17+Z17+AB17+AD17+AF17+AH17+AJ17+AL17+AX17+AN17+AP17+AR17+AZ17+BB17+BD17 -> 0
A18: 13 | B18: ='Итоги по ОО'!B10 -> Батыревский муниципальный округ | C18: ='Итоги по ОО'!C10 -> МАОУ "Шыгырданская СОШ №1" | D18: ='Итоги по ОО'!D10 -> 0 | E18: ='Итоги по ОО'!E10 -> 0 | F18: ='Итоги по ОО'!F10 -> 0 | G18: ='Итоги по ОО'!G10 -> 0 | H18: ='Итоги по ОО'!H10 -> 0 | I18: ='Итоги по ОО'!I10 -> 0 | J18: ='Итоги по ОО'!J10+'Итоги по ОО'!K10 -> 0 | K18: ='Итоги по ОО'!L10 -> 0 | L18: ='Итоги по ОО'!M10+'Итоги по ОО'!N10 -> 0 | M18: ='Итоги по ОО'!O10 -> 0 | N18: ='Итоги по ОО'!P10+'Итоги по ОО'!Q10 -> 0 | O18: ='Итоги по ОО'!R10 -> 0 | P18: ='Итоги по ОО'!S10+'Итоги по ОО'!T10 -> 0 | Q18: ='Итоги по ОО'!U10 -> 0 | R18: ='Итоги по ОО'!V10+'Итоги по ОО'!W10 -> 0 | S18: ='Итоги по ОО'!X10 -> 0 | T18: ='Итоги по ОО'!Y10+'Итоги по ОО'!Z10 -> 0 | U18: ='Итоги по ОО'!AA10 -> 0 | V18: ='Итоги по ОО'!AB10+'Итоги по ОО'!AC10 -> 0 | W18: ='Итоги по ОО'!AD10 -> 0 | X18: ='Итоги по ОО'!AE10+'Итоги по ОО'!AF10 -> 0 | Y18: ='Итоги по ОО'!AG10 -> 0 | Z18: ='Итоги по ОО'!AH10+'Итоги по ОО'!AI10 -> 0 | AA18: ='Итоги по ОО'!AJ10 -> 0 | AB18: ='Итоги по ОО'!AK10+'Итоги по ОО'!AL10 -> 0 | AC18: ='Итоги по ОО'!AM10 -> 0 | AD18: ='Итоги по ОО'!AN10+'Итоги по ОО'!AO10 -> 0 | AE18: ='Итоги по ОО'!AP10 -> 0 | AF18: ='Итоги по ОО'!AQ10+'Итоги по ОО'!AR10 -> 0 | AG18: ='Итоги по ОО'!AS10 -> 0 | AH18: ='Итоги по ОО'!AT10+'Итоги по ОО'!AU10 -> 0 | AI18: ='Итоги по ОО'!AV10 -> 0 | AJ18: ='Итоги по ОО'!AW10+'Итоги по ОО'!AX10 -> 0 | AK18: ='Итоги по ОО'!AY10 -> 0 | AL18: ='Итоги по ОО'!AZ10+'Итоги по ОО'!BA10 -> 0 | AM18: ='Итоги по ОО'!BB10 -> 0 | AN18: ='Итоги по ОО'!BC10+'Итоги по ОО'!BD10 -> 0 | AO18: ='Итоги по ОО'!BE10 -> 0 | AP18: ='Итоги по ОО'!BF10+'Итоги по ОО'!BG10 -> 0 | AQ18: ='Итоги по ОО'!BH10 -> 0 | AR18: ='Итоги по ОО'!BI10+'Итоги по ОО'!BJ10 -> 0 | AS18: ='Итоги по ОО'!BK10 -> 0 | AT18: ='Итоги по ОО'!BL10+'Итоги по ОО'!BM10 -> 0 | AU18: ='Итоги по ОО'!BN10 -> 0 | AV18: ='Итоги по ОО'!BO10+'Итоги по ОО'!BP10 -> 0 | AW18: ='Итоги по ОО'!BQ10 -> 0 | AX18: ='Итоги по ОО'!BR10+'Итоги по ОО'!BS10 -> 0 | AY18: ='Итоги по ОО'!BT10 -> 0 | AZ18: ='Итоги по ОО'!BU10+'Итоги по ОО'!BV10 -> 0 | BA18: ='Итоги по ОО'!BW10 -> 0 | BB18: ='Итоги по ОО'!BX10+'Итоги по ОО'!BY10 -> 0 | BC18: ='Итоги по ОО'!BZ10 -> 0 | BD18: ='Итоги по ОО'!CA10+'Итоги по ОО'!CB10 -> 0 | BF18: =I18+K18+M18+O18+Q18+S18+U18+W18+AU18+Y18+AA18+AC18+AE18+AG18+AI18+AK18+AW18+AM18+AO18+AQ18+AS18+AY18+BA18+BC18 -> 0 | BG18: =AT18+J18+L18+N18+P18+R18+T18+V18+X18+AV18+Z18+AB18+AD18+AF18+AH18+AJ18+AL18+AX18+AN18+AP18+AR18+AZ18+BB18+BD18 -> 0
A19: 14 | B19: ='Итоги по ОО'!B11 -> Батыревский муниципальный округ | C19: ='Итоги по ОО'!C11 -> МАОУ "Шыгырданская СОШ имени профессора Э.З.Феизова" | D19: ='Итоги по ОО'!D11 -> 0 | E19: ='Итоги по ОО'!E11 -> 0 | F19: ='Итоги по ОО'!F11 -> 0 | G19: ='Итоги по ОО'!G11 -> 0 | H19: ='Итоги по ОО'!H11 -> 0 | I19: ='Итоги по ОО'!I11 -> 0 | J19: ='Итоги по ОО'!J11+'Итоги по ОО'!K11 -> 0 | K19: ='Итоги по ОО'!L11 -> 0 | L19: ='Итоги по ОО'!M11+'Итоги по ОО'!N11 -> 0 | M19: ='Итоги по ОО'!O11 -> 0 | N19: ='Итоги по ОО'!P11+'Итоги по ОО'!Q11 -> 0 | O19: ='Итоги по ОО'!R11 -> 0 | P19: ='Итоги по ОО'!S11+'Итоги по ОО'!T11 -> 0 | Q19: ='Итоги по ОО'!U11 -> 0 | R19: ='Итоги по ОО'!V11+'Итоги по ОО'!W11 -> 0 | S19: ='Итоги по ОО'!X11 -> 0 | T19: ='Итоги по ОО'!Y11+'Итоги по ОО'!Z11 -> 0 | U19: ='Итоги по ОО'!AA11 -> 0 | V19: ='Итоги по ОО'!AB11+'Итоги по ОО'!AC11 -> 0 | W19: ='Итоги по ОО'!AD11 -> 0 | X19: ='Итоги по ОО'!AE11+'Итоги по ОО'!AF11 -> 0 | Y19: ='Итоги по ОО'!AG11 -> 0 | Z19: ='Итоги по ОО'!AH11+'Итоги по ОО'!AI11 -> 0 | AA19: ='Итоги по ОО'!AJ11 -> 0 | AB19: ='Итоги по ОО'!AK11+'Итоги по ОО'!AL11 -> 0 | AC19: ='Итоги по ОО'!AM11 -> 0 | AD19: ='Итоги по ОО'!AN11+'Итоги по ОО'!AO11 -> 0 | AE19: ='Итоги по ОО'!AP11 -> 0 | AF19: ='Итоги по ОО'!AQ11+'Итоги по ОО'!AR11 -> 0 | AG19: ='Итоги по ОО'!AS11 -> 0 | AH19: ='Итоги по ОО'!AT11+'Итоги по ОО'!AU11 -> 0 | AI19: ='Итоги по ОО'!AV11 -> 0 | AJ19: ='Итоги по ОО'!AW11+'Итоги по ОО'!AX11 -> 0 | AK19: ='Итоги по ОО'!AY11 -> 0 | AL19: ='Итоги по ОО'!AZ11+'Итоги по ОО'!BA11 -> 0 | AM19: ='Итоги по ОО'!BB11 -> 0 | AN19: ='Итоги по ОО'!BC11+'Итоги по ОО'!BD11 -> 0 | AO19: ='Итоги по ОО'!BE11 -> 0 | AP19: ='Итоги по ОО'!BF11+'Итоги по ОО'!BG11 -> 0 | AQ19: ='Итоги по ОО'!BH11 -> 0 | AR19: ='Итоги по ОО'!BI11+'Итоги по ОО'!BJ11 -> 0 | AS19: ='Итоги по ОО'!BK11 -> 0 | AT19: ='Итоги по ОО'!BL11+'Итоги по ОО'!BM11 -> 0 | AU19: ='Итоги по ОО'!BN11 -> 0 | AV19: ='Итоги по ОО'!BO11+'Итоги по ОО'!BP11 -> 0 | AW19: ='Итоги по ОО'!BQ11 -> 0 | AX19: ='Итоги по ОО'!BR11+'Итоги по ОО'!BS11 -> 0 | AY19: ='Итоги по ОО'!BT11 -> 0 | AZ19: ='Итоги по ОО'!BU11+'Итоги по ОО'!BV11 -> 0 | BA19: ='Итоги по ОО'!BW11 -> 0 | BB19: ='Итоги по ОО'!BX11+'Итоги по ОО'!BY11 -> 0 | BC19: ='Итоги по ОО'!BZ11 -> 0 | BD19: ='Итоги по ОО'!CA11+'Итоги по ОО'!CB11 -> 0 | BF19: =I19+K19+M19+O19+Q19+S19+U19+W19+AU19+Y19+AA19+AC19+AE19+AG19+AI19+AK19+AW19+AM19+AO19+AQ19+AS19+AY19+BA19+BC19 -> 0 | BG19: =AT19+J19+L19+N19+P19+R19+T19+V19+X19+AV19+Z19+AB19+AD19+AF19+AH19+AJ19+AL19+AX19+AN19+AP19+AR19+AZ19+BB19+BD19 -> 0
A20: 15 | B20: ='Итоги по ОО'!B12 -> Батыревский муниципальный округ | C20: ='Итоги по ОО'!C12 -> МБОУ "Новоахпердинская ООШ" | D20: ='Итоги по ОО'!D12 -> 0 | E20: ='Итоги по ОО'!E12 -> 0 | F20: ='Итоги по ОО'!F12 -> 0 | G20: ='Итоги по ОО'!G12 -> 0 | H20: ='Итоги по ОО'!H12 -> 0 | I20: ='Итоги по ОО'!I12 -> 0 | J20: ='Итоги по ОО'!J12+'Итоги по ОО'!K12 -> 0 | K20: ='Итоги по ОО'!L12 -> 0 | L20: ='Итоги по ОО'!M12+'Итоги по ОО'!N12 -> 0 | M20: ='Итоги по ОО'!O12 -> 0 | N20: ='Итоги по ОО'!P12+'Итоги по ОО'!Q12 -> 0 | O20: ='Итоги по ОО'!R12 -> 0 | P20: ='Итоги по ОО'!S12+'Итоги по ОО'!T12 -> 0 | Q20: ='Итоги по ОО'!U12 -> 0 | R20: ='Итоги по ОО'!V12+'Итоги по ОО'!W12 -> 0 | S20: ='Итоги по ОО'!X12 -> 0 | T20: ='Итоги по ОО'!Y12+'Итоги по ОО'!Z12 -> 0 | U20: ='Итоги по ОО'!AA12 -> 0 | V20: ='Итоги по ОО'!AB12+'Итоги по ОО'!AC12 -> 0 | W20: ='Итоги по ОО'!AD12 -> 0 | X20: ='Итоги по ОО'!AE12+'Итоги по ОО'!AF12 -> 0 | Y20: ='Итоги по ОО'!AG12 -> 0 | Z20: ='Итоги по ОО'!AH12+'Итоги по ОО'!AI12 -> 0 | AA20: ='Итоги по ОО'!AJ12 -> 0 | AB20: ='Итоги по ОО'!AK12+'Итоги по ОО'!AL12 -> 0 | AC20: ='Итоги по ОО'!AM12 -> 0 | AD20: ='Итоги по ОО'!AN12+'Итоги по ОО'!AO12 -> 0 | AE20: ='Итоги по ОО'!AP12 -> 0 | AF20: ='Итоги по ОО'!AQ12+'Итоги по ОО'!AR12 -> 0 | AG20: ='Итоги по ОО'!AS12 -> 0 | AH20: ='Итоги по ОО'!AT12+'Итоги по ОО'!AU12 -> 0 | AI20: ='Итоги по ОО'!AV12 -> 0 | AJ20: ='Итоги по ОО'!AW12+'Итоги по ОО'!AX12 -> 0 | AK20: ='Итоги по ОО'!AY12 -> 0 | AL20: ='Итоги по ОО'!AZ12+'Итоги по ОО'!BA12 -> 0 | AM20: ='Итоги по ОО'!BB12 -> 0 | AN20: ='Итоги по ОО'!BC12+'Итоги по ОО'!BD12 -> 0 | AO20: ='Итоги по ОО'!BE12 -> 0 | AP20: ='Итоги по ОО'!BF12+'Итоги по ОО'!BG12 -> 0 | AQ20: ='Итоги по ОО'!BH12 -> 0 | AR20: ='Итоги по ОО'!BI12+'Итоги по ОО'!BJ12 -> 0 | AS20: ='Итоги по ОО'!BK12 -> 0 | AT20: ='Итоги по ОО'!BL12+'Итоги по ОО'!BM12 -> 0 | AU20: ='Итоги по ОО'!BN12 -> 0 | AV20: ='Итоги по ОО'!BO12+'Итоги по ОО'!BP12 -> 0 | AW20: ='Итоги по ОО'!BQ12 -> 0 | AX20: ='Итоги по ОО'!BR12+'Итоги по ОО'!BS12 -> 0 | AY20: ='Итоги по ОО'!BT12 -> 0 | AZ20: ='Итоги по ОО'!BU12+'Итоги по ОО'!BV12 -> 0 | BA20: ='Итоги по ОО'!BW12 -> 0 | BB20: ='Итоги по ОО'!BX12+'Итоги по ОО'!BY12 -> 0 | BC20: ='Итоги по ОО'!BZ12 -> 0 | BD20: ='Итоги по ОО'!CA12+'Итоги по ОО'!CB12 -> 0 | BF20: =I20+K20+M20+O20+Q20+S20+U20+W20+AU20+Y20+AA20+AC20+AE20+AG20+AI20+AK20+AW20+AM20+AO20+AQ20+AS20+AY20+BA20+BC20 -> 0 | BG20: =AT20+J20+L20+N20+P20+R20+T20+V20+X20+AV20+Z20+AB20+AD20+AF20+AH20+AJ20+AL20+AX20+AN20+AP20+AR20+AZ20+BB20+BD20 -> 0
A21: 16 | B21: ='Итоги по ОО'!B13 -> Батыревский муниципальный округ | C21: ='Итоги по ОО'!C13 -> МБОУ "Шаймурзинская ООШ имени Г.Айги" | D21: ='Итоги по ОО'!D13 -> 31 | E21: ='Итоги по ОО'!E13 -> 23 | F21: ='Итоги по ОО'!F13 -> 0 | G21: ='Итоги по ОО'!G13 -> 0 | H21: ='Итоги по ОО'!H13 -> 0 | I21: ='Итоги по ОО'!I13 -> 1 | J21: ='Итоги по ОО'!J13+'Итоги по ОО'!K13 -> 0 | K21: ='Итоги по ОО'!L13 -> 28 | L21: ='Итоги по ОО'!M13+'Итоги по ОО'!N13 -> 5 | M21: ='Итоги по ОО'!O13 -> 22 | N21: ='Итоги по ОО'!P13+'Итоги по ОО'!Q13 -> 4 | O21: ='Итоги по ОО'!R13 -> 0 | P21: ='Итоги по ОО'!S13+'Итоги по ОО'!T13 -> 0 | Q21: ='Итоги по ОО'!U13 -> 22 | R21: ='Итоги по ОО'!V13+'Итоги по ОО'!W13 -> 0 | S21: ='Итоги по ОО'!X13 -> 23 | T21: ='Итоги по ОО'!Y13+'Итоги по ОО'!Z13 -> 2 | U21: ='Итоги по ОО'!AA13 -> 23 | V21: ='Итоги по ОО'!AB13+'Итоги по ОО'!AC13 -> 5 | W21: ='Итоги по ОО'!AD13 -> 12 | X21: ='Итоги по ОО'!AE13+'Итоги по ОО'!AF13 -> 0 | Y21: ='Итоги по ОО'!AG13 -> 17 | Z21: ='Итоги по ОО'!AH13+'Итоги по ОО'!AI13 -> 0 | AA21: ='Итоги по ОО'!AJ13 -> 12 | AB21: ='Итоги по ОО'!AK13+'Итоги по ОО'!AL13 -> 3 | AC21: ='Итоги по ОО'!AM13 -> 10 | AD21: ='Итоги по ОО'!AN13+'Итоги по ОО'!AO13 -> 1 | AE21: ='Итоги по ОО'!AP13 -> 23 | AF21: ='Итоги по ОО'!AQ13+'Итоги по ОО'!AR13 -> 5 | AG21: ='Итоги по ОО'!AS13 -> 19 | AH21: ='Итоги по ОО'!AT13+'Итоги по ОО'!AU13 -> 2 | AI21: ='Итоги по ОО'!AV13 -> 2 | AJ21: ='Итоги по ОО'!AW13+'Итоги по ОО'!AX13 -> 0 | AK21: ='Итоги по ОО'!AY13 -> 15 | AL21: ='Итоги по ОО'!AZ13+'Итоги по ОО'!BA13 -> 0 | AM21: ='Итоги по ОО'!BB13 -> 3 | AN21: ='Итоги по ОО'!BC13+'Итоги по ОО'!BD13 -> 0 | AO21: ='Итоги по ОО'!BE13 -> 9 | AP21: ='Итоги по ОО'!BF13+'Итоги по ОО'!BG13 -> 0 | AQ21: ='Итоги по ОО'!BH13 -> 3 | AR21: ='Итоги по ОО'!BI13+'Итоги по ОО'!BJ13 -> 0 | AS21: ='Итоги по ОО'!BK13 -> 23 | AT21: ='Итоги по ОО'!BL13+'Итоги по ОО'!BM13 -> 5 | AU21: ='Итоги по ОО'!BN13 -> 0 | AV21: ='Итоги по ОО'!BO13+'Итоги по ОО'!BP13 -> 0 | AW21: ='Итоги по ОО'!BQ13 -> 0 | AX21: ='Итоги по ОО'!BR13+'Итоги по ОО'!BS13 -> 0 | AY21: ='Итоги по ОО'!BT13 -> 0 | AZ21: ='Итоги по ОО'!BU13+'Итоги по ОО'!BV13 -> 0 | BA21: ='Итоги по ОО'!BW13 -> 0 | BB21: ='Итоги по ОО'!BX13+'Итоги по ОО'!BY13 -> 0 | BC21: ='Итоги по ОО'!BZ13 -> 0 | BD21: ='Итоги по ОО'!CA13+'Итоги по ОО'!CB13 -> 0 | BF21: =I21+K21+M21+O21+Q21+S21+U21+W21+AU21+Y21+AA21+AC21+AE21+AG21+AI21+AK21+AW21+AM21+AO21+AQ21+AS21+AY21+BA21+BC21 -> 267 | BG21: =AT21+J21+L21+N21+P21+R21+T21+V21+X21+AV21+Z21+AB21+AD21+AF21+AH21+AJ21+AL21+AX21+AN21+AP21+AR21+AZ21+BB21+BD21 -> 32
A22: 17 | B22: ='Итоги по ОО'!B14 -> #REF! | C22: ='Итоги по ОО'!C14 -> #REF! | D22: ='Итоги по ОО'!D14 -> #REF! | E22: ='Итоги по ОО'!E14 -> #REF! | F22: ='Итоги по ОО'!F14 -> #REF! | G22: ='Итоги по ОО'!G14 -> #REF! | H22: ='Итоги по ОО'!H14 -> #REF! | I22: ='Итоги по ОО'!I14 -> #REF! | J22: ='Итоги по ОО'!J14+'Итоги по ОО'!K14 -> #REF! | K22: ='Итоги по ОО'!L14 -> #REF! | L22: ='Итоги по ОО'!M14+'Итоги по ОО'!N14 -> #REF! | M22: ='Итоги по ОО'!O14 -> #REF! | N22: ='Итоги по ОО'!P14+'Итоги по ОО'!Q14 -> #REF! | O22: ='Итоги по ОО'!R14 -> #REF! | P22: ='Итоги по ОО'!S14+'Итоги по ОО'!T14 -> #REF! | Q22: ='Итоги по ОО'!U14 -> #REF! | R22: ='Итоги по ОО'!V14+'Итоги по ОО'!W14 -> #REF! | S22: ='Итоги по ОО'!X14 -> #REF! | T22: ='Итоги по ОО'!Y14+'Итоги по ОО'!Z14 -> #REF! | U22: ='Итоги по ОО'!AA14 -> #REF! | V22: ='Итоги по ОО'!AB14+'Итоги по ОО'!AC14 -> #REF! | W22: ='Итоги по ОО'!AD14 -> #REF! | X22: ='Итоги по ОО'!AE14+'Итоги по ОО'!AF14 -> #REF! | Y22: ='Итоги по ОО'!AG14 -> #REF! | Z22: ='Итоги по ОО'!AH14+'Итоги по ОО'!AI14 -> #REF! | AA22: ='Итоги по ОО'!AJ14 -> #REF! | AB22: ='Итоги по ОО'!AK14+'Итоги по ОО'!AL14 -> #REF! | AC22: ='Итоги по ОО'!AM14 -> #REF! | AD22: ='Итоги по ОО'!AN14+'Итоги по ОО'!AO14 -> #REF! | AE22: ='Итоги по ОО'!AP14 -> #REF! | AF22: ='Итоги по ОО'!AQ14+'Итоги по ОО'!AR14 -> #REF! | AG22: ='Итоги по ОО'!AS14 -> #REF! | AH22: ='Итоги по ОО'!AT14+'Итоги по ОО'!AU14 -> #REF! | AI22: ='Итоги по ОО'!AV14 -> #REF! | AJ22: ='Итоги по ОО'!AW14+'Итоги по ОО'!AX14 -> #REF! | AK22: ='Итоги по ОО'!AY14 -> #REF! | AL22: ='Итоги по ОО'!AZ14+'Итоги по ОО'!BA14 -> #REF! | AM22: ='Итоги по ОО'!BB14 -> #REF! | AN22: ='Итоги по ОО'!BC14+'Итоги по ОО'!BD14 -> #REF! | AO22: ='Итоги по ОО'!BE14 -> #REF! | AP22: ='Итоги по ОО'!BF14+'Итоги по ОО'!BG14 -> #REF! | AQ22: ='Итоги по ОО'!BH14 -> #REF! | AR22: ='Итоги по ОО'!BI14+'Итоги по ОО'!BJ14 -> #REF! | AS22: ='Итоги по ОО'!BK14 -> #REF! | AT22: ='Итоги по ОО'!BL14+'Итоги по ОО'!BM14 -> #REF! | AU22: ='Итоги по ОО'!BN14 -> #REF! | AV22: ='Итоги по ОО'!BO14+'Итоги по ОО'!BP14 -> #REF! | AW22: ='Итоги по ОО'!BQ14 -> #REF! | AX22: ='Итоги по ОО'!BR14+'Итоги по ОО'!BS14 -> #REF! | AY22: ='Итоги по ОО'!BT14 -> #REF! | AZ22: ='Итоги по ОО'!BU14+'Итоги по ОО'!BV14 -> #REF! | BA22: ='Итоги по ОО'!BW14 -> #REF! | BB22: ='Итоги по ОО'!BX14+'Итоги по ОО'!BY14 -> #REF! | BC22: ='Итоги по ОО'!BZ14 -> #REF! | BD22: ='Итоги по ОО'!CA14+'Итоги по ОО'!CB14 -> #REF! | BF22: =I22+K22+M22+O22+Q22+S22+U22+W22+AU22+Y22+AA22+AC22+AE22+AG22+AI22+AK22+AW22+AM22+AO22+AQ22+AS22+AY22+BA22+BC22 -> #REF! | BG22: =AT22+J22+L22+N22+P22+R22+T22+V22+X22+AV22+Z22+AB22+AD22+AF22+AH22+AJ22+AL22+AX22+AN22+AP22+AR22+AZ22+BB22+BD22 -> #REF!
A23: 18 | B23: ='Итоги по ОО'!B15 -> #REF! | C23: ='Итоги по ОО'!C15 -> #REF! | D23: ='Итоги по ОО'!D15 -> #REF! | E23: ='Итоги по ОО'!E15 -> #REF! | F23: ='Итоги по ОО'!F15 -> #REF! | G23: ='Итоги по ОО'!G15 -> #REF! | H23: ='Итоги по ОО'!H15 -> #REF! | I23: ='Итоги по ОО'!I15 -> #REF! | J23: ='Итоги по ОО'!J15+'Итоги по ОО'!K15 -> #REF! | K23: ='Итоги по ОО'!L15 -> #REF! | L23: ='Итоги по ОО'!M15+'Итоги по ОО'!N15 -> #REF! | M23: ='Итоги по ОО'!O15 -> #REF! | N23: ='Итоги по ОО'!P15+'Итоги по ОО'!Q15 -> #REF! | O23: ='Итоги по ОО'!R15 -> #REF! | P23: ='Итоги по ОО'!S15+'Итоги по ОО'!T15 -> #REF! | Q23: ='Итоги по ОО'!U15 -> #REF! | R23: ='Итоги по ОО'!V15+'Итоги по ОО'!W15 -> #REF! | S23: ='Итоги по ОО'!X15 -> #REF! | T23: ='Итоги по ОО'!Y15+'Итоги по ОО'!Z15 -> #REF! | U23: ='Итоги по ОО'!AA15 -> #REF! | V23: ='Итоги по ОО'!AB15+'Итоги по ОО'!AC15 -> #REF! | W23: ='Итоги по ОО'!AD15 -> #REF! | X23: ='Итоги по ОО'!AE15+'Итоги по ОО'!AF15 -> #REF! | Y23: ='Итоги по ОО'!AG15 -> #REF! | Z23: ='Итоги по ОО'!AH15+'Итоги по ОО'!AI15 -> #REF! | AA23: ='Итоги по ОО'!AJ15 -> #REF! | AB23: ='Итоги по ОО'!AK15+'Итоги по ОО'!AL15 -> #REF! | AC23: ='Итоги по ОО'!AM15 -> #REF! | AD23: ='Итоги по ОО'!AN15+'Итоги по ОО'!AO15 -> #REF! | AE23: ='Итоги по ОО'!AP15 -> #REF! | AF23: ='Итоги по ОО'!AQ15+'Итоги по ОО'!AR15 -> #REF! | AG23: ='Итоги по ОО'!AS15 -> #REF! | AH23: ='Итоги по ОО'!AT15+'Итоги по ОО'!AU15 -> #REF! | AI23: ='Итоги по ОО'!AV15 -> #REF! | AJ23: ='Итоги по ОО'!AW15+'Итоги по ОО'!AX15 -> #REF! | AK23: ='Итоги по ОО'!AY15 -> #REF! | AL23: ='Итоги по ОО'!AZ15+'Итоги по ОО'!BA15 -> #REF! | AM23: ='Итоги по ОО'!BB15 -> #REF! | AN23: ='Итоги по ОО'!BC15+'Итоги по ОО'!BD15 -> #REF! | AO23: ='Итоги по ОО'!BE15 -> #REF! | AP23: ='Итоги по ОО'!BF15+'Итоги по ОО'!BG15 -> #REF! | AQ23: ='Итоги по ОО'!BH15 -> #REF! | AR23: ='Итоги по ОО'!BI15+'Итоги по ОО'!BJ15 -> #REF! | AS23: ='Итоги по ОО'!BK15 -> #REF! | AT23: ='Итоги по ОО'!BL15+'Итоги по ОО'!BM15 -> #REF! | AU23: ='Итоги по ОО'!BN15 -> #REF! | AV23: ='Итоги по ОО'!BO15+'Итоги по ОО'!BP15 -> #REF! | AW23: ='Итоги по ОО'!BQ15 -> #REF! | AX23: ='Итоги по ОО'!BR15+'Итоги по ОО'!BS15 -> #REF! | AY23: ='Итоги по ОО'!BT15 -> #REF! | AZ23: ='Итоги по ОО'!BU15+'Итоги по ОО'!BV15 -> #REF! | BA23: ='Итоги по ОО'!BW15 -> #REF! | BB23: ='Итоги по ОО'!BX15+'Итоги по ОО'!BY15 -> #REF! | BC23: ='Итоги по ОО'!BZ15 -> #REF! | BD23: ='Итоги по ОО'!CA15+'Итоги по ОО'!CB15 -> #REF! | BF23: =I23+K23+M23+O23+Q23+S23+U23+W23+AU23+Y23+AA23+AC23+AE23+AG23+AI23+AK23+AW23+AM23+AO23+AQ23+AS23+AY23+BA23+BC23 -> #REF! | BG23: =AT23+J23+L23+N23+P23+R23+T23+V23+X23+AV23+Z23+AB23+AD23+AF23+AH23+AJ23+AL23+AX23+AN23+AP23+AR23+AZ23+BB23+BD23 -> #REF!
A24: 19 | B24: ='Итоги по ОО'!B16 -> #REF! | C24: ='Итоги по ОО'!C16 -> #REF! | D24: ='Итоги по ОО'!D16 -> #REF! | E24: ='Итоги по ОО'!E16 -> #REF! | F24: ='Итоги по ОО'!F16 -> #REF! | G24: ='Итоги по ОО'!G16 -> #REF! | H24: ='Итоги по ОО'!H16 -> #REF! | I24: ='Итоги по ОО'!I16 -> #REF! | J24: ='Итоги по ОО'!J16+'Итоги по ОО'!K16 -> #REF! | K24: ='Итоги по ОО'!L16 -> #REF! | L24: ='Итоги по ОО'!M16+'Итоги по ОО'!N16 -> #REF! | M24: ='Итоги по ОО'!O16 -> #REF! | N24: ='Итоги по ОО'!P16+'Итоги по ОО'!Q16 -> #REF! | O24: ='Итоги по ОО'!R16 -> #REF! | P24: ='Итоги по ОО'!S16+'Итоги по ОО'!T16 -> #REF! | Q24: ='Итоги по ОО'!U16 -> #REF! | R24: ='Итоги по ОО'!V16+'Итоги по ОО'!W16 -> #REF! | S24: ='Итоги по ОО'!X16 -> #REF! | T24: ='Итоги по ОО'!Y16+'Итоги по ОО'!Z16 -> #REF! | U24: ='Итоги по ОО'!AA16 -> #REF! | V24: ='Итоги по ОО'!AB16+'Итоги по ОО'!AC16 -> #REF! | W24: ='Итоги по ОО'!AD16 -> #REF! | X24: ='Итоги по ОО'!AE16+'Итоги по ОО'!AF16 -> #REF! | Y24: ='Итоги по ОО'!AG16 -> #REF! | Z24: ='Итоги по ОО'!AH16+'Итоги по ОО'!AI16 -> #REF! | AA24: ='Итоги по ОО'!AJ16 -> #REF! | AB24: ='Итоги по ОО'!AK16+'Итоги по ОО'!AL16 -> #REF! | AC24: ='Итоги по ОО'!AM16 -> #REF! | AD24: ='Итоги по ОО'!AN16+'Итоги по ОО'!AO16 -> #REF! | AE24: ='Итоги по ОО'!AP16 -> #REF! | AF24: ='Итоги по ОО'!AQ16+'Итоги по ОО'!AR16 -> #REF! | AG24: ='Итоги по ОО'!AS16 -> #REF! | AH24: ='Итоги по ОО'!AT16+'Итоги по ОО'!AU16 -> #REF! | AI24: ='Итоги по ОО'!AV16 -> #REF! | AJ24: ='Итоги по ОО'!AW16+'Итоги по ОО'!AX16 -> #REF! | AK24: ='Итоги по ОО'!AY16 -> #REF! | AL24: ='Итоги по ОО'!AZ16+'Итоги по ОО'!BA16 -> #REF! | AM24: ='Итоги по ОО'!BB16 -> #REF! | AN24: ='Итоги по ОО'!BC16+'Итоги по ОО'!BD16 -> #REF! | AO24: ='Итоги по ОО'!BE16 -> #REF! | AP24: ='Итоги по ОО'!BF16+'Итоги по ОО'!BG16 -> #REF! | AQ24: ='Итоги по ОО'!BH16 -> #REF! | AR24: ='Итоги по ОО'!BI16+'Итоги по ОО'!BJ16 -> #REF! | AS24: ='Итоги по ОО'!BK16 -> #REF! | AT24: ='Итоги по ОО'!BL16+'Итоги по ОО'!BM16 -> #REF! | AU24: ='Итоги по ОО'!BN16 -> #REF! | AV24: ='Итоги по ОО'!BO16+'Итоги по ОО'!BP16 -> #REF! | AW24: ='Итоги по ОО'!BQ16 -> #REF! | AX24: ='Итоги по ОО'!BR16+'Итоги по ОО'!BS16 -> #REF! | AY24: ='Итоги по ОО'!BT16 -> #REF! | AZ24: ='Итоги по ОО'!BU16+'Итоги по ОО'!BV16 -> #REF! | BA24: ='Итоги по ОО'!BW16 -> #REF! | BB24: ='Итоги по ОО'!BX16+'Итоги по ОО'!BY16 -> #REF! | BC24: ='Итоги по ОО'!BZ16 -> #REF! | BD24: ='Итоги по ОО'!CA16+'Итоги по ОО'!CB16 -> #REF! | BF24: =I24+K24+M24+O24+Q24+S24+U24+W24+AU24+Y24+AA24+AC24+AE24+AG24+AI24+AK24+AW24+AM24+AO24+AQ24+AS24+AY24+BA24+BC24 -> #REF! | BG24: =AT24+J24+L24+N24+P24+R24+T24+V24+X24+AV24+Z24+AB24+AD24+AF24+AH24+AJ24+AL24+AX24+AN24+AP24+AR24+AZ24+BB24+BD24 -> #REF!
A25: 20 | B25: ='Итоги по ОО'!B17 -> #REF! | C25: ='Итоги по ОО'!C17 -> #REF! | D25: ='Итоги по ОО'!D17 -> #REF! | E25: ='Итоги по ОО'!E17 -> #REF! | F25: ='Итоги по ОО'!F17 -> #REF! | G25: ='Итоги по ОО'!G17 -> #REF! | H25: ='Итоги по ОО'!H17 -> #REF! | I25: ='Итоги по ОО'!I17 -> #REF! | J25: ='Итоги по ОО'!J17+'Итоги по ОО'!K17 -> #REF! | K25: ='Итоги по ОО'!L17 -> #REF! | L25: ='Итоги по ОО'!M17+'Итоги по ОО'!N17 -> #REF! | M25: ='Итоги по ОО'!O17 -> #REF! | N25: ='Итоги по ОО'!P17+'Итоги по ОО'!Q17 -> #REF! | O25: ='Итоги по ОО'!R17 -> #REF! | P25: ='Итоги по ОО'!S17+'Итоги по ОО'!T17 -> #REF! | Q25: ='Итоги по ОО'!U17 -> #REF! | R25: ='Итоги по ОО'!V17+'Итоги по ОО'!W17 -> #REF! | S25: ='Итоги по ОО'!X17 -> #REF! | T25: ='Итоги по ОО'!Y17+'Итоги по ОО'!Z17 -> #REF! | U25: ='Итоги по ОО'!AA17 -> #REF! | V25: ='Итоги по ОО'!AB17+'Итоги по ОО'!AC17 -> #REF! | W25: ='Итоги по ОО'!AD17 -> #REF! | X25: ='Итоги по ОО'!AE17+'Итоги по ОО'!AF17 -> #REF! | Y25: ='Итоги по ОО'!AG17 -> #REF! | Z25: ='Итоги по ОО'!AH17+'Итоги по ОО'!AI17 -> #REF! | AA25: ='Итоги по ОО'!AJ17 -> #REF! | AB25: ='Итоги по ОО'!AK17+'Итоги по ОО'!AL17 -> #REF! | AC25: ='Итоги по ОО'!AM17 -> #REF! | AD25: ='Итоги по ОО'!AN17+'Итоги по ОО'!AO17 -> #REF! | AE25: ='Итоги по ОО'!AP17 -> #REF! | AF25: ='Итоги по ОО'!AQ17+'Итоги по ОО'!AR17 -> #REF! | AG25: ='Итоги по ОО'!AS17 -> #REF! | AH25: ='Итоги по ОО'!AT17+'Итоги по ОО'!AU17 -> #REF! | AI25: ='Итоги по ОО'!AV17 -> #REF! | AJ25: ='Итоги по ОО'!AW17+'Итоги по ОО'!AX17 -> #REF! | AK25: ='Итоги по ОО'!AY17 -> #REF! | AL25: ='Итоги по ОО'!AZ17+'Итоги по ОО'!BA17 -> #REF! | AM25: ='Итоги по ОО'!BB17 -> #REF! | AN25: ='Итоги по ОО'!BC17+'Итоги по ОО'!BD17 -> #REF! | AO25: ='Итоги по ОО'!BE17 -> #REF! | AP25: ='Итоги по ОО'!BF17+'Итоги по ОО'!BG17 -> #REF! | AQ25: ='Итоги по ОО'!BH17 -> #REF! | AR25: ='Итоги по ОО'!BI17+'Итоги по ОО'!BJ17 -> #REF! | AS25: ='Итоги по ОО'!BK17 -> #REF! | AT25: ='Итоги по ОО'!BL17+'Итоги по ОО'!BM17 -> #REF! | AU25: ='Итоги по ОО'!BN17 -> #REF! | AV25: ='Итоги по ОО'!BO17+'Итоги по ОО'!BP17 -> #REF! | AW25: ='Итоги по ОО'!BQ17 -> #REF! | AX25: ='Итоги по ОО'!BR17+'Итоги по ОО'!BS17 -> #REF! | AY25: ='Итоги по ОО'!BT17 -> #REF! | AZ25: ='Итоги по ОО'!BU17+'Итоги по ОО'!BV17 -> #REF! | BA25: ='Итоги по ОО'!BW17 -> #REF! | BB25: ='Итоги по ОО'!BX17+'Итоги по ОО'!BY17 -> #REF! | BC25: ='Итоги по ОО'!BZ17 -> #REF! | BD25: ='Итоги по ОО'!CA17+'Итоги по ОО'!CB17 -> #REF! | BF25: =I25+K25+M25+O25+Q25+S25+U25+W25+AU25+Y25+AA25+AC25+AE25+AG25+AI25+AK25+AW25+AM25+AO25+AQ25+AS25+AY25+BA25+BC25 -> #REF! | BG25: =AT25+J25+L25+N25+P25+R25+T25+V25+X25+AV25+Z25+AB25+AD25+AF25+AH25+AJ25+AL25+AX25+AN25+AP25+AR25+AZ25+BB25+BD25 -> #REF!
A26: 21 | B26: ='Итоги по ОО'!B18 -> #REF! | C26: ='Итоги по ОО'!C18 -> #REF! | D26: ='Итоги по ОО'!D18 -> #REF! | E26: ='Итоги по ОО'!E18 -> #REF! | F26: ='Итоги по ОО'!F18 -> #REF! | G26: ='Итоги по ОО'!G18 -> #REF! | H26: ='Итоги по ОО'!H18 -> #REF! | I26: ='Итоги по ОО'!I18 -> #REF! | J26: ='Итоги по ОО'!J18+'Итоги по ОО'!K18 -> #REF! | K26: ='Итоги по ОО'!L18 -> #REF! | L26: ='Итоги по ОО'!M18+'Итоги по ОО'!N18 -> #REF! | M26: ='Итоги по ОО'!O18 -> #REF! | N26: ='Итоги по ОО'!P18+'Итоги по ОО'!Q18 -> #REF! | O26: ='Итоги по ОО'!R18 -> #REF! | P26: ='Итоги по ОО'!S18+'Итоги по ОО'!T18 -> #REF! | Q26: ='Итоги по ОО'!U18 -> #REF! | R26: ='Итоги по ОО'!V18+'Итоги по ОО'!W18 -> #REF! | S26: ='Итоги по ОО'!X18 -> #REF! | T26: ='Итоги по ОО'!Y18+'Итоги по ОО'!Z18 -> #REF! | U26: ='Итоги по ОО'!AA18 -> #REF! | V26: ='Итоги по ОО'!AB18+'Итоги по ОО'!AC18 -> #REF! | W26: ='Итоги по ОО'!AD18 -> #REF! | X26: ='Итоги по ОО'!AE18+'Итоги по ОО'!AF18 -> #REF! | Y26: ='Итоги по ОО'!AG18 -> #REF! | Z26: ='Итоги по ОО'!AH18+'Итоги по ОО'!AI18 -> #REF! | AA26: ='Итоги по ОО'!AJ18 -> #REF! | AB26: ='Итоги по ОО'!AK18+'Итоги по ОО'!AL18 -> #REF! | AC26: ='Итоги по ОО'!AM18 -> #REF! | AD26: ='Итоги по ОО'!AN18+'Итоги по ОО'!AO18 -> #REF! | AE26: ='Итоги по ОО'!AP18 -> #REF! | AF26: ='Итоги по ОО'!AQ18+'Итоги по ОО'!AR18 -> #REF! | AG26: ='Итоги по ОО'!AS18 -> #REF! | AH26: ='Итоги по ОО'!AT18+'Итоги по ОО'!AU18 -> #REF! | AI26: ='Итоги по ОО'!AV18 -> #REF! | AJ26: ='Итоги по ОО'!AW18+'Итоги по ОО'!AX18 -> #REF! | AK26: ='Итоги по ОО'!AY18 -> #REF! | AL26: ='Итоги по ОО'!AZ18+'Итоги по ОО'!BA18 -> #REF! | AM26: ='Итоги по ОО'!BB18 -> #REF! | AN26: ='Итоги по ОО'!BC18+'Итоги по ОО'!BD18 -> #REF! | AO26: ='Итоги по ОО'!BE18 -> #REF! | AP26: ='Итоги по ОО'!BF18+'Итоги по ОО'!BG18 -> #REF! | AQ26: ='Итоги по ОО'!BH18 -> #REF! | AR26: ='Итоги по ОО'!BI18+'Итоги по ОО'!BJ18 -> #REF! | AS26: ='Итоги по ОО'!BK18 -> #REF! | AT26: ='Итоги по ОО'!BL18+'Итоги по ОО'!BM18 -> #REF! | AU26: ='Итоги по ОО'!BN18 -> #REF! | AV26: ='Итоги по ОО'!BO18+'Итоги по ОО'!BP18 -> #REF! | AW26: ='Итоги по ОО'!BQ18 -> #REF! | AX26: ='Итоги по ОО'!BR18+'Итоги по ОО'!BS18 -> #REF! | AY26: ='Итоги по ОО'!BT18 -> #REF! | AZ26: ='Итоги по ОО'!BU18+'Итоги по ОО'!BV18 -> #REF! | BA26: ='Итоги по ОО'!BW18 -> #REF! | BB26: ='Итоги по ОО'!BX18+'Итоги по ОО'!BY18 -> #REF! | BC26: ='Итоги по ОО'!BZ18 -> #REF! | BD26: ='Итоги по ОО'!CA18+'Итоги по ОО'!CB18 -> #REF! | BF26: =I26+K26+M26+O26+Q26+S26+U26+W26+AU26+Y26+AA26+AC26+AE26+AG26+AI26+AK26+AW26+AM26+AO26+AQ26+AS26+AY26+BA26+BC26 -> #REF! | BG26: =AT26+J26+L26+N26+P26+R26+T26+V26+X26+AV26+Z26+AB26+AD26+AF26+AH26+AJ26+AL26+AX26+AN26+AP26+AR26+AZ26+BB26+BD26 -> #REF!
