Workbook

Sheet 7 кл
A4: Протокол школьного этапа всероссийской олимпиады школьников по биологии в 2025-2026 уч.г., 7 класс
A6: Количество участников: 3
A7: Дата проведения: 07.10.2025
A8: Место проведения: МБОУ Большечеменевская СОШ Батыревского МО Чувашской Республики
A9: Председатель жюри: Басова Л.Н., заместитель директора по УВР
A10: Члены жюри:
A11: Сюзюкин А.Г, учитель истории и географии
A12: Семенова А.И. учитель биологии и химии
A16: № | B16: Шифр | C16: Ф.И.О. участника | D16: Район/город | E16: Наименование ОО (сокращенное наименование по Уставу) | F16: Класс, в котором обучается | G16: Класс, за который выступает | H16: Ф.И.О. наставника (полностью) | I16: ИТОГО БАЛЛОВ | J16: МАКСИМАЛЬНЫЙ БАЛЛ | K16: Результат (победитель/призер/участник)
A17: 1 | B17: Б-7-1 | C17: ='[1]14741 Биология 7 класс'!B2 -> Фролов Константин Владимирович | D17: Батыревский | E17: МБОУ "Большечеменевская СОШ" | F17: 7 | G17: 7 | H17: Семенова Алина Ивановна | I17: ='[1]14741 Биология 7 класс'!C2 -> 19.4 | K17: победитель
A18: 2 | B18: Б-7-2 | C18: ='[1]14741 Биология 7 класс'!B3 -> Матросова Виктория Алексевна | D18: Батыревский | E18: МБОУ "Большечеменевская СОШ" | F18: 7 | G18: 7 | H18: Семенова Алина Ивановна | I18: ='[1]14741 Биология 7 класс'!C3 -> 14.8 | K18: участник
A19: 3 | B19: Б-7-3 | C19: ='[1]14741 Биология 7 класс'!B4 -> Семенова Ангелина Николаевна | D19: Батыревский | E19: МБОУ "Большечеменевская СОШ" | F19: 7 | G19: 7 | H19: Семенова Алина Ивановна | I19: ='[1]14741 Биология 7 класс'!C4 -> 14.6 | K19: участник

Sheet  8 кл
A2: Протокол школьного этапа всероссийской олимпиады школьников по биологии в 2025-2026 уч.г., 8 класс
A4: ='7 кл'!A6 -> Количество участников: 3
A5: ='7 кл'!A7 -> Дата проведения: 07.10.2025
A6: ='7 кл'!A8 -> Место проведения: МБОУ Большечеменевская СОШ Батыревского МО Чувашской Республики
A7: ='7 кл'!A9 -> Председатель жюри: Басова Л.Н., заместитель директора по УВР
A8: ='7 кл'!A10 -> Члены жюри:
A9: ='7 кл'!A11 -> Сюзюкин А.Г, учитель истории и географии
A10: ='7 кл'!A12 -> Семенова А.И. учитель биологии и химии
A12: № | B12: Шифр | C12: Ф.И.О. участника | D12: Район/город | E12: Наименование ОО (сокращенное наименование по Уставу) | F12: Класс, в котором обучается | G12: Класс, за который выступает | H12: Ф.И.О. наставника (полностью) | I12: ИТОГО БАЛЛОВ | J12: МАКСИМАЛЬНЫЙ БАЛЛ | K12: Результат (победитель/призер/участник)
A13: 1 | B13: Б-8-1 | C13: ='[1]14742 Биология 8 класс'!B2 -> Казанцев Егор Александрович | D13: Батыревский | E13: МБОУ "Большечеменевская СОШ" | F13: 8 | G13: 8 | H13: Семенова Алина Ивановна | I13: ='[1]14742 Биология 8 класс'!C2 -> 24.4 | K13: победитель
A14: 2 | B14: Б-8-2 | C14: ='[1]14742 Биология 8 класс'!B3 -> Разин Денис Евгеньевич | D14: Батыревский | E14: МБОУ "Большечеменевская СОШ" | F14: 8 | G14: 8 | H14: Семенова Алина Ивановна | I14: ='[1]14742 Биология 8 класс'!C3 -> 19.4 | K14: участник
A15: 3 | B15: Б-8-3 | C15: ='[1]14742 Биология 8 класс'!B4 -> Сюзюкина Валентина Алексеевна | D15: Батыревский | E15: МБОУ "Большечеменевская СОШ" | F15: 8 | G15: 8 | H15: Семенова Алина Ивановна | I15: ='[1]14742 Биология 8 класс'!C4 -> 15.1 | K15: участник

Sheet 9 кл
A1: Протокол школьного этапа всероссийской олимпиады школьников по биологии в 2025-2026 уч.г., 9 класс
A3: ='7 кл'!A5 -> 0
A4: ='7 кл'!A6 -> Количество участников: 3
A5: ='7 кл'!A7 -> Дата проведения: 07.10.2025
A6: ='7 кл'!A8 -> Место проведения: МБОУ Большечеменевская СОШ Батыревского МО Чувашской Республики
A7: ='7 кл'!A9 -> Председатель жюри: Басова Л.Н., заместитель директора по УВР
A8: ='7 кл'!A10 -> Члены жюри:
A9: ='7 кл'!A11 -> Сюзюкин А.Г, учитель истории и географии
A11: № | B11: Шифр | C11: Ф.И.О. участника | D11: Район/город | E11: Наименование ОО (сокращенное наименование по Уставу) | F11: Класс, в котором обучается | G11: Класс, за который выступает | H11: Ф.И.О. наставника (полностью) | I11: ИТОГО БАЛЛОВ | J11: МАКСИМАЛЬНЫЙ БАЛЛ | K11: Результат (победитель/призер/участник)
A12: 1 | B12: Б-9-1 | C12: ='[1]14743 Биология 9 класс'!B2 -> Игнатьева Софья Владимировна | D12: Батыревский | E12: МБОУ "Большечеменевская СОШ" | F12: 9 | G12: 9 | H12: Семенова Алина Ивановна | I12: ='[1]14743 Биология 9 класс'!C2 -> 45.3 | K12: победитель
A13: 2 | B13: Б-9-2 | C13: ='[1]14743 Биология 9 класс'!B3 -> Зотов Максим Андреевич | D13: Батыревский | E13: МБОУ "Большечеменевская СОШ" | F13: 9 | G13: 9 | H13: Семенова Алина Ивановна | I13: ='[1]14743 Биология 9 класс'!C3 -> 29.9 | K13: участник
A14: 3

Sheet 10 кл.
A1: Протокол школьного этапа всероссийской олимпиады школьников по биологии в 2025-2026 уч.г., 10 класс
A3: ='7 кл'!A5 -> 0
A4: ='7 кл'!A6 -> Количество участников: 3
A5: ='7 кл'!A7 -> Дата проведения: 07.10.2025
A6: ='7 кл'!A8 -> Место проведения: МБОУ Большечеменевская СОШ Батыревского МО Чувашской Республики
A7: ='7 кл'!A9 -> Председатель жюри: Басова Л.Н., заместитель директора по УВР
A8: ='7 кл'!A10 -> Члены жюри:
A9: ='7 кл'!A11 -> Сюзюкин А.Г, учитель истории и географии
A11: № | B11: Шифр | C11: Ф.И.О. участника | D11: Район/город | E11: Наименование ОО (сокращенное наименование по Уставу) | F11: Класс, в котором обучается | G11: Класс, за который выступает | H11: Ф.И.О. наставника (полностью) | I11: ИТОГО БАЛЛОВ | J11: МАКСИМАЛЬНЫЙ БАЛЛ | K11: Результат (победитель/призер/участник)
A12: 1 | B12: Б-10-1 | C12: ='[1]14744 Биология 10 класс'!B2 -> Латышева Ульяна Владимировна | D12: Батыревский | E12: МБОУ "Большечеменевская СОШ" | F12: 10 | G12: 10 | H12: Семенова Алина Ивановна | I12: ='[1]14744 Биология 10 класс'!C2 -> 49 | K12: победитель
A13: 2 | B13: Б-10-2 | C13: ='[1]14744 Биология 10 класс'!B3 -> Маназыпова Ирина Алексеевна | D13: Батыревский | E13: МБОУ "Большечеменевская СОШ" | F13: 10 | G13: 10 | H13: Семенова Алина Ивановна | I13: 39 | K13: участник
A14: 3 | B14: Б-10-3 | C14: ='[1]14744 Биология 10 класс'!B4 -> Попов Петр Владимирович | D14: Батыревский | E14: МБОУ "Большечеменевская СОШ" | F14: 10 | G14: 10 | H14: Семенова Алина Ивановна | I14: ='[1]14744 Биология 10 класс'!C4 -> 37 | K14: участник

Sheet 11 кл.
A1: Протокол школьного этапа всероссийской олимпиады школьников по биологии в 2025-2026 уч.г., 11 класс
A4: ='7 кл'!A6 -> Количество участников: 3
A5: ='7 кл'!A7 -> Дата проведения: 07.10.2025
A6: ='7 кл'!A8 -> Место проведения: МБОУ Большечеменевская СОШ Батыревского МО Чувашской Республики
A7: ='7 кл'!A9 -> Председатель жюри: Басова Л.Н., заместитель директора по УВР
A8: ='7 кл'!A10 -> Члены жюри:
A9: ='7 кл'!A11 -> Сюзюкин А.Г, учитель истории и географии
A11: № | B11: Шифр | C11: Ф.И.О. участника | D11: Район/город | E11: Наименование ОО (сокращенное наименование по Уставу) | F11: Класс, в котором обучается | G11: Класс, за который выступает | H11: Ф.И.О. наставника (полностью) | I11: ИТОГО БАЛЛОВ | J11: МАКСИМАЛЬНЫЙ БАЛЛ | K11: Результат (победитель/призер/участник)
A12: 1 | B12: Б-11-1 | C12: ='[1]14745 Биология 11 класс'!B2 -> кошелева маргарита дмтриевна | D12: Батыревский | E12: МБОУ "Большечеменевская СОШ" | F12: 11 | G12: 11 | H12: Семенова Алина Ивановна | I12: ='[1]14745 Биология 11 класс'!C2 -> 31.7 | K12: победитель
A13: 2 | B13: Б-11-2 | C13: ='[1]14745 Биология 11 класс'!B3 -> иванова мария леонидовна | D13: Батыревский | E13: МБОУ "Большечеменевская СОШ" | F13: 11 | G13: 11 | H13: Семенова Алина Ивановна | I13: ='[1]14745 Биология 11 класс'!C3 -> 31.4 | K13: участник
A14: 3 | B14: Б-11-3 | C14: ='[1]14745 Биология 11 класс'!B4 -> Макарова Ангелина Владимировна | D14: Батыревский | E14: МБОУ "Большечеменевская СОШ" | F14: 11 | G14: 11 | H14: Семенова Алина Ивановна | I14: ='[1]14745 Биология 11 класс'!C4 -> 30.1 | K14: участник
