Workbook

Sheet  8 кл
A2: Протокол школьного этапа всероссийской олимпиады школьников по химии в 2025-2026 уч.г., 8 класс
A4: ='11 кл.'!A2 -> 0
A5: ='11 кл.'!A3 -> Количество участников: 3 | L5: ='11 кл.'!L3 | M5: ='11 кл.'!M3 | N5: ='11 кл.'!N3
A6: ='11 кл.'!A4 -> Дата проведения: 07.10.2025 | L6: ='11 кл.'!L4 | M6: ='11 кл.'!M4 | N6: ='11 кл.'!N4
A7: ='11 кл.'!A5 -> Место проведения: МБОУ Большечеменевская СОШ Батыревского МО Чувашской Республики | L7: ='11 кл.'!L5 | M7: ='11 кл.'!M5 | N7: ='11 кл.'!N5
A8: ='11 кл.'!A6 -> Председатель жюри: Басова Л.Н., заместитель директора по УВР | L8: ='11 кл.'!L6 | M8: ='11 кл.'!M6 | N8: ='11 кл.'!N6
A9: ='11 кл.'!A7 -> Члены жюри:
A10: ='11 кл.'!A8 -> Сюзюкин А.Г, учитель истории и географии
A12: № | B12: Шифр | C12: Ф.И.О. участника | D12: Район/город | E12: Наименование ОО (сокращенное наименование по Уставу) | F12: Класс, в котором обучается | G12: Класс, за который выступает | H12: Ф.И.О. наставника (полностью) | I12: ИТОГО БАЛЛОВ | J12: МАКСИМАЛЬНЫЙ БАЛЛ | K12: Результат (победитель/призер/участник)
A13: 1 | B13: Б-8-1 | C13: ='[1]14692 Химия 8 класс'!B2 -> Казанцев Егор Александрович | D13: Батыревский | E13: МБОУ "Большечеменевская СОШ" | F13: 8 | G13: 8 | H13: Семенова Алина Ивановна | I13: ='[1]14692 Химия 8 класс'!C2 -> 37.5 | K13: победитель
A14: 2 | B14: Б-8-2 | C14: ='[1]14692 Химия 8 класс'!B3 -> Разин Денис Евгеньевич | D14: Батыревский | E14: МБОУ "Большечеменевская СОШ" | F14: 8 | G14: 8 | H14: Семенова Алина Ивановна | I14: ='[1]14692 Химия 8 класс'!C3 -> 31 | K14: участник
A15: 3 | B15: Б-8-3 | C15: ='[1]14692 Химия 8 класс'!B4 -> Лепешкин Георгий Юревичь | D15: Батыревский | E15: МБОУ "Большечеменевская СОШ" | F15: 8 | G15: 8 | H15: Семенова Алина Ивановна | I15: ='[1]14692 Химия 8 класс'!C4 -> 30.5 | K15: участник

Sheet 9 кл
A1: Протокол школьного этапа всероссийской олимпиады школьников по химии в 2025-2026 уч.г., 9 класс
A3: ='11 кл.'!A3 -> Количество участников: 3 | L3: ='11 кл.'!L3 | M3: ='11 кл.'!M3 | N3: ='11 кл.'!N3
A4: ='11 кл.'!A4 -> Дата проведения: 07.10.2025 | L4: ='11 кл.'!L4 | M4: ='11 кл.'!M4 | N4: ='11 кл.'!N4
A5: ='11 кл.'!A5 -> Место проведения: МБОУ Большечеменевская СОШ Батыревского МО Чувашской Республики | L5: ='11 кл.'!L5 | M5: ='11 кл.'!M5 | N5: ='11 кл.'!N5
A6: ='11 кл.'!A6 -> Председатель жюри: Басова Л.Н., заместитель директора по УВР | L6: ='11 кл.'!L6 | M6: ='11 кл.'!M6 | N6: ='11 кл.'!N6
A7: ='11 кл.'!A7 -> Члены жюри: | I7: ='11 кл.'!I7 | J7: ='11 кл.'!J7 | K7: ='11 кл.'!K7 | L7: ='11 кл.'!L7 | M7: ='11 кл.'!M7 | N7: ='11 кл.'!N7
A8: ='11 кл.'!A8 -> Сюзюкин А.Г, учитель истории и географии
A9: ='11 кл.'!A9
A11: № | B11: Шифр | C11: Ф.И.О. участника | D11: Район/город | E11: Наименование ОО (сокращенное наименование по Уставу) | F11: Класс, в котором обучается | G11: Класс, за который выступает | H11: Ф.И.О. наставника (полностью) | I11: ИТОГО БАЛЛОВ | J11: МАКСИМАЛЬНЫЙ БАЛЛ | K11: Результат (победитель/призер/участник)
A12: 1 | B12: Б-9-1 | C12: ='[1]14693 Химия 9 класс'!B2 -> Капитонова Лидия Станиславовна | D12: Батыревский | E12: МБОУ "Большечеменевская СОШ" | F12: 9 | G12: 9 | H12: Семенова Алина Ивановна | I12: ='[1]14693 Химия 9 класс'!C2 -> 31 | K12: победитель
A13: 2 | B13: Б-9-2 | C13: ='[1]14693 Химия 9 класс'!B3 -> Макарова Милана Александровна | D13: Батыревский | E13: МБОУ "Большечеменевская СОШ" | F13: 9 | G13: 9 | H13: Семенова Алина Ивановна | I13: ='[1]14693 Химия 9 класс'!C3 -> 24 | K13: участник
A14: 3 | B14: =$B$13 -> Б-9-2 | C14: ='[1]14693 Химия 9 класс'!B4 -> Игнатьева Софья Владимировна | D14: Батыревский | E14: МБОУ "Большечеменевская СОШ" | F14: 9 | G14: 9 | H14: Семенова Алина Ивановна | I14: ='[1]14693 Химия 9 класс'!C4 -> 0 | K14: участник

Sheet 10 кл.
A1: Протокол школьного этапа всероссийской олимпиады школьников по химии в 2025-2026 уч.г., 10 класс
A4: Количество участников - 2 | L4: ='11 кл.'!L3 | M4: ='11 кл.'!M3 | N4: ='11 кл.'!N3
A5: ='11 кл.'!A4 -> Дата проведения: 07.10.2025 | L5: ='11 кл.'!L4 | M5: ='11 кл.'!M4 | N5: ='11 кл.'!N4
A6: ='11 кл.'!A5 -> Место проведения: МБОУ Большечеменевская СОШ Батыревского МО Чувашской Республики | L6: ='11 кл.'!L5 | M6: ='11 кл.'!M5 | N6: ='11 кл.'!N5
A7: ='11 кл.'!A6 -> Председатель жюри: Басова Л.Н., заместитель директора по УВР | L7: ='11 кл.'!L6 | M7: ='11 кл.'!M6 | N7: ='11 кл.'!N6
A8: ='11 кл.'!A7 -> Члены жюри:
A9: ='11 кл.'!A8 -> Сюзюкин А.Г, учитель истории и географии
A11: № | B11: Шифр | C11: Ф.И.О. участника | D11: Район/город | E11: Наименование ОО (сокращенное наименование по Уставу) | F11: Класс, в котором обучается | G11: Класс, за который выступает | H11: Ф.И.О. наставника (полностью) | I11: ИТОГО БАЛЛОВ | J11: МАКСИМАЛЬНЫЙ БАЛЛ | K11: Результат (победитель/призер/участник)
A12: 1 | B12: Б-10-1 | C12: ='[2]14744 Биология 10 класс'!B2 -> Латышева Ульяна Владимировна | D12: Батыревский | E12: МБОУ "Большечеменевская СОШ" | F12: 10 | G12: 10 | H12: Семенова Алина Ивановна | I12: ='[1]14694 Химия 10 класс'!C2 -> 34 | K12: победитель
A13: 2 | B13: Б-10-2 | C13: ='[2]14744 Биология 10 класс'!B3 -> Маназыпова Ирина Алексеевна | D13: Батыревский | E13: МБОУ "Большечеменевская СОШ" | F13: 10 | G13: 10 | H13: Семенова Алина Ивановна | I13: ='[1]14694 Химия 10 класс'!C3 -> 33 | K13: участник

Sheet 11 кл.
A1: Протокол школьного этапа всероссийской олимпиады школьников по химии в 2025-2026 уч.г., 11 класс
A3: ='[3]11 кл.'!A4 -> Количество участников: 3 | L3: ='[3]11 кл.'!L4 | M3: ='[3]11 кл.'!M4 | N3: ='[3]11 кл.'!N4
A4: ='[3]11 кл.'!A5 -> Дата проведения: 07.10.2025 | L4: ='[3]11 кл.'!L5 | M4: ='[3]11 кл.'!M5 | N4: ='[3]11 кл.'!N5
A5: ='[3]11 кл.'!A6 -> Место проведения: МБОУ Большечеменевская СОШ Батыревского МО Чувашской Республики | L5: ='[3]11 кл.'!L6 | M5: ='[3]11 кл.'!M6 | N5: ='[3]11 кл.'!N6
A6: ='[3]11 кл.'!A7 -> Председатель жюри: Басова Л.Н., заместитель директора по УВР | L6: ='[3]11 кл.'!L7 | M6: ='[3]11 кл.'!M7 | N6: ='[3]11 кл.'!N7
A7: ='[3]11 кл.'!A8 -> Члены жюри:
A8: ='[3]11 кл.'!A9 -> Сюзюкин А.Г, учитель истории и географии
A11: № | B11: Шифр | C11: Ф.И.О. участника | D11: Район/город | E11: Наименование ОО (сокращенное наименование по Уставу) | F11: Класс, в котором обучается | G11: Класс, за который выступает | H11: Ф.И.О. наставника (полностью) | I11: ИТОГО БАЛЛОВ | J11: МАКСИМАЛЬНЫЙ БАЛЛ | K11: Результат (победитель/призер/участник)
A12: 1 | B12: Б-11-1 | C12: ='[1]14695 Химия 11 класс'!B2 -> Иванова Мария Леонидовна | D12: Батыревский | E12: МБОУ "Большечеменевская СОШ" | F12: 11 | G12: 11 | H12: Семенова Алина Ивановна | I12: ='[1]14695 Химия 11 класс'!C2 -> 19.25 | K12: победитель
A13: 2 | B13: Б-11-2 | C13: ='[1]14695 Химия 11 класс'!B3 -> Разин Степан Александрович | D13: Батыревский | E13: МБОУ "Большечеменевская СОШ" | F13: 11 | G13: 11 | H13: Семенова Алина Ивановна | I13: 18 | K13: участник
A14: 3 | B14: Б-11-3 | C14: ='[1]14695 Химия 11 класс'!B4 -> Макарова Ангелина Владимировна | D14: Батыревский | E14: МБОУ "Большечеменевская СОШ" | F14: 11 | G14: 11 | H14: Семенова Алина Ивановна | I14: ='[1]14695 Химия 11 класс'!C4 -> 12.5 | K14: участник
