Workbook

Sheet Итоги участия
B1: Итоги участия в муниципальном этапе региональных олимпиад школьников 2025/2026 учебного года
B2: подается не позднее 23 декабря 2025 года на e-mail: etker.olimp@yandex.ru строго по этой форме
B3: Муниципальный/ Городской округ Чувашской Республики: __________________
A6: № | B6: Муниципальный/ Городской округ | C6: Общеобразовательная организация | D6: Общие данные | F6: Данные по обучающимся с ОВЗ | I6: КРК | AA6: ЧУВАШСКИЙ ЯЗЫК | AS6: ТАТАРСКИЙ ЯЗЫК | BK6: МОРДОВСКИЙ ЯЗЫК
B7: Указывается в каждой ячейке | C7: Указывается сокращенное название ОО (по УСТАВУ) | D7: Общее количество обучающихся в 7-11 классах | E7: Кол-во участников (обучающийся, принявший участие по нескольким предметам, учитывается 1 раз) | F7: Общее количество обучающихся с ОВЗ -обучающихся 7-11 классов | G7: Количество участников - обучающихся с ОВЗ (обучающийся, принявший участие по нескольким предметам, учитывается 1 раз) | H7: Количество призовых мест, занятых обучающимися с ОВЗ 7-11 классов, участников МЭ региональных олимпиад | I7: 7 класс | L7: 8 класс | O7: 9 класс | R7: 10 класс | U7: 11 класс | X7: всего по предмету | Y7: победители | Z7: призеры | AA7: 7 класс | AD7: 8 класс | AG7: 9 класс | AJ7: 10 класс | AM7: 11 класс | AP7: всего по предмету | AQ7: победители | AR7: призеры | AS7: 7 класс | AV7: 8 класс | AY7: 9 класс | BB7: 10 класс | BE7: 11 класс | BH7: всего по предмету | BI7: победители | BJ7: призеры | BK7: 7 класс | BN7: 8 класс | BQ7: 9 класс | BT7: 10 класс | BW7: 11 класс | BZ7: всего по предмету | CA7: победители | CB7: призеры
I8: всего участников | J8: П | K8: ПР | L8: всего участников | M8: П | N8: ПР | O8: всего участников | P8: П | Q8: ПР | R8: всего участников | S8: П | T8: ПР | U8: всего участников | V8: П | W8: ПР | Y8: П | Z8: ПР | AA8: всего участников | AB8: П | AC8: ПР | AD8: всего участников | AE8: П | AF8: ПР | AG8: всего участников | AH8: П | AI8: ПР | AJ8: всего участников | AK8: П | AL8: ПР | AM8: всего участников | AN8: П | AO8: ПР | AQ8: П | AR8: ПР | AS8: всего участников | AT8: П | AU8: ПР | AV8: всего участников | AW8: П | AX8: ПР | AY8: всего участников | AZ8: П | BA8: ПР | BB8: всего участников | BC8: П | BD8: ПР | BE8: всего участников | BF8: П | BG8: ПР | BI8: П | BJ8: ПР | BK8: всего участников | BL8: П | BM8: ПР | BN8: всего участников | BO8: П | BP8: ПР | BQ8: всего участников | BR8: П | BS8: ПР | BT8: всего участников | BU8: П | BV8: ПР | BW8: всего участников | BX8: П | BY8: ПР | CA8: П | CB8: ПР
A9: 1 | X9: =SUM(I9,L9,O9,R9,U9) -> 0 | Y9: =SUM(J9,M9,P9,S9,V9) -> 0 | Z9: =SUM(K9,N9,Q9,T9,W9) -> 0 | AP9: =SUM(AA9,AD9,AG9,AJ9,AM9) -> 0 | AQ9: =SUM(AB9,AE9,AH9,AK9,AN9) -> 0 | AR9: =SUM(AC9,AF9,AI9,AL9,AO9) -> 0 | BH9: =SUM(AS9+AV9+AY9+BB9+BE9) -> 0 | BI9: =SUM(AT9+AW9+AZ9+BC9+BF9) -> 0 | BJ9: =SUM(AU9+AX9+BA9+BD9+BG9) -> 0 | BZ9: =SUM(BK9,BN9,BQ9,BT9,BW9) -> 0 | CA9: =SUM(BL9,BO9,BR9,BU9,BX9) -> 0 | CB9: =SUM(BM9,BP9,BS9,BV9,BY9) -> 0
A10: 2 | X10: =SUM(I10,L10,O10,R10,U10) -> 0 | Y10: =SUM(J10,M10,P10,S10,V10) -> 0 | Z10: =SUM(K10,N10,Q10,T10,W10) -> 0 | AP10: =SUM(AA10,AD10,AG10,AJ10,AM10) -> 0 | AQ10: =SUM(AB10,AE10,AH10,AK10,AN10) -> 0 | AR10: =SUM(AC10,AF10,AI10,AL10,AO10) -> 0 | BH10: =SUM(AS10+AV10+AY10+BB10+BE10) -> 0 | BI10: =SUM(AT10+AW10+AZ10+BC10+BF10) -> 0 | BJ10: =SUM(AU10+AX10+BA10+BD10+BG10) -> 0 | BZ10: =SUM(BK10,BN10,BQ10,BT10,BW10) -> 0 | CA10: =SUM(BL10,BO10,BR10,BU10,BX10) -> 0 | CB10: =SUM(BM10,BP10,BS10,BV10,BY10) -> 0
A11: 3 | X11: =SUM(I11,L11,O11,R11,U11) -> 0 | Y11: =SUM(J11,M11,P11,S11,V11) -> 0 | Z11: =SUM(K11,N11,Q11,T11,W11) -> 0 | AP11: =SUM(AA11,AD11,AG11,AJ11,AM11) -> 0 | AQ11: =SUM(AB11,AE11,AH11,AK11,AN11) -> 0 | AR11: =SUM(AC11,AF11,AI11,AL11,AO11) -> 0 | BH11: =SUM(AS11+AV11+AY11+BB11+BE11) -> 0 | BI11: =SUM(AT11+AW11+AZ11+BC11+BF11) -> 0 | BJ11: =SUM(AU11+AX11+BA11+BD11+BG11) -> 0 | BZ11: =SUM(BK11,BN11,BQ11,BT11,BW11) -> 0 | CA11: =SUM(BL11,BO11,BR11,BU11,BX11) -> 0 | CB11: =SUM(BM11,BP11,BS11,BV11,BY11) -> 0
A12: 4 | X12: =SUM(I12,L12,O12,R12,U12) -> 0 | Y12: =SUM(J12,M12,P12,S12,V12) -> 0 | Z12: =SUM(K12,N12,Q12,T12,W12) -> 0 | AP12: =SUM(AA12,AD12,AG12,AJ12,AM12) -> 0 | AQ12: =SUM(AB12,AE12,AH12,AK12,AN12) -> 0 | AR12: =SUM(AC12,AF12,AI12,AL12,AO12) -> 0 | BH12: =SUM(AS12+AV12+AY12+BB12+BE12) -> 0 | BI12: =SUM(AT12+AW12+AZ12+BC12+BF12) -> 0 | BJ12: =SUM(AU12+AX12+BA12+BD12+BG12) -> 0 | BZ12: =SUM(BK12,BN12,BQ12,BT12,BW12) -> 0 | CA12: =SUM(BL12,BO12,BR12,BU12,BX12) -> 0 | CB12: =SUM(BM12,BP12,BS12,BV12,BY12) -> 0
A13: 5 | X13: =SUM(I13,L13,O13,R13,U13) -> 0 | Y13: =SUM(J13,M13,P13,S13,V13) -> 0 | Z13: =SUM(K13,N13,Q13,T13,W13) -> 0 | AP13: =SUM(AA13,AD13,AG13,AJ13,AM13) -> 0 | AQ13: =SUM(AB13,AE13,AH13,AK13,AN13) -> 0 | AR13: =SUM(AC13,AF13,AI13,AL13,AO13) -> 0 | BH13: =SUM(AS13+AV13+AY13+BB13+BE13) -> 0 | BI13: =SUM(AT13+AW13+AZ13+BC13+BF13) -> 0 | BJ13: =SUM(AU13+AX13+BA13+BD13+BG13) -> 0 | BZ13: =SUM(BK13,BN13,BQ13,BT13,BW13) -> 0 | CA13: =SUM(BL13,BO13,BR13,BU13,BX13) -> 0 | CB13: =SUM(BM13,BP13,BS13,BV13,BY13) -> 0
A14: 6 | X14: =SUM(I14,L14,O14,R14,U14) -> 0 | Y14: =SUM(J14,M14,P14,S14,V14) -> 0 | Z14: =SUM(K14,N14,Q14,T14,W14) -> 0 | AP14: =SUM(AA14,AD14,AG14,AJ14,AM14) -> 0 | AQ14: =SUM(AB14,AE14,AH14,AK14,AN14) -> 0 | AR14: =SUM(AC14,AF14,AI14,AL14,AO14) -> 0 | BH14: =SUM(AS14+AV14+AY14+BB14+BE14) -> 0 | BI14: =SUM(AT14+AW14+AZ14+BC14+BF14) -> 0 | BJ14: =SUM(AU14+AX14+BA14+BD14+BG14) -> 0 | BZ14: =SUM(BK14,BN14,BQ14,BT14,BW14) -> 0 | CA14: =SUM(BL14,BO14,BR14,BU14,BX14) -> 0 | CB14: =SUM(BM14,BP14,BS14,BV14,BY14) -> 0
A15: 7 | X15: =SUM(I15,L15,O15,R15,U15) -> 0 | Y15: =SUM(J15,M15,P15,S15,V15) -> 0 | Z15: =SUM(K15,N15,Q15,T15,W15) -> 0 | AP15: =SUM(AA15,AD15,AG15,AJ15,AM15) -> 0 | AQ15: =SUM(AB15,AE15,AH15,AK15,AN15) -> 0 | AR15: =SUM(AC15,AF15,AI15,AL15,AO15) -> 0 | BH15: =SUM(AS15+AV15+AY15+BB15+BE15) -> 0 | BI15: =SUM(AT15+AW15+AZ15+BC15+BF15) -> 0 | BJ15: =SUM(AU15+AX15+BA15+BD15+BG15) -> 0 | BZ15: =SUM(BK15,BN15,BQ15,BT15,BW15) -> 0 | CA15: =SUM(BL15,BO15,BR15,BU15,BX15) -> 0 | CB15: =SUM(BM15,BP15,BS15,BV15,BY15) -> 0
A16: 8 | X16: =SUM(I16,L16,O16,R16,U16) -> 0 | Y16: =SUM(J16,M16,P16,S16,V16) -> 0 | Z16: =SUM(K16,N16,Q16,T16,W16) -> 0 | AP16: =SUM(AA16,AD16,AG16,AJ16,AM16) -> 0 | AQ16: =SUM(AB16,AE16,AH16,AK16,AN16) -> 0 | AR16: =SUM(AC16,AF16,AI16,AL16,AO16) -> 0 | BH16: =SUM(AS16+AV16+AY16+BB16+BE16) -> 0 | BI16: =SUM(AT16+AW16+AZ16+BC16+BF16) -> 0 | BJ16: =SUM(AU16+AX16+BA16+BD16+BG16) -> 0 | BZ16: =SUM(BK16,BN16,BQ16,BT16,BW16) -> 0 | CA16: =SUM(BL16,BO16,BR16,BU16,BX16) -> 0 | CB16: =SUM(BM16,BP16,BS16,BV16,BY16) -> 0
A17: 9 | X17: =SUM(I17,L17,O17,R17,U17) -> 0 | Y17: =SUM(J17,M17,P17,S17,V17) -> 0 | Z17: =SUM(K17,N17,Q17,T17,W17) -> 0 | AP17: =SUM(AA17,AD17,AG17,AJ17,AM17) -> 0 | AQ17: =SUM(AB17,AE17,AH17,AK17,AN17) -> 0 | AR17: =SUM(AC17,AF17,AI17,AL17,AO17) -> 0 | BH17: =SUM(AS17+AV17+AY17+BB17+BE17) -> 0 | BI17: =SUM(AT17+AW17+AZ17+BC17+BF17) -> 0 | BJ17: =SUM(AU17+AX17+BA17+BD17+BG17) -> 0 | BZ17: =SUM(BK17,BN17,BQ17,BT17,BW17) -> 0 | CA17: =SUM(BL17,BO17,BR17,BU17,BX17) -> 0 | CB17: =SUM(BM17,BP17,BS17,BV17,BY17) -> 0
A18: 10 | X18: =SUM(I18,L18,O18,R18,U18) -> 0 | Y18: =SUM(J18,M18,P18,S18,V18) -> 0 | Z18: =SUM(K18,N18,Q18,T18,W18) -> 0 | AP18: =SUM(AA18,AD18,AG18,AJ18,AM18) -> 0 | AQ18: =SUM(AB18,AE18,AH18,AK18,AN18) -> 0 | AR18: =SUM(AC18,AF18,AI18,AL18,AO18) -> 0 | BH18: =SUM(AS18+AV18+AY18+BB18+BE18) -> 0 | BI18: =SUM(AT18+AW18+AZ18+BC18+BF18) -> 0 | BJ18: =SUM(AU18+AX18+BA18+BD18+BG18) -> 0 | BZ18: =SUM(BK18,BN18,BQ18,BT18,BW18) -> 0 | CA18: =SUM(BL18,BO18,BR18,BU18,BX18) -> 0 | CB18: =SUM(BM18,BP18,BS18,BV18,BY18) -> 0
A19: 11 | X19: =SUM(I19,L19,O19,R19,U19) -> 0 | Y19: =SUM(J19,M19,P19,S19,V19) -> 0 | Z19: =SUM(K19,N19,Q19,T19,W19) -> 0 | AP19: =SUM(AA19,AD19,AG19,AJ19,AM19) -> 0 | AQ19: =SUM(AB19,AE19,AH19,AK19,AN19) -> 0 | AR19: =SUM(AC19,AF19,AI19,AL19,AO19) -> 0 | BH19: =SUM(AS19+AV19+AY19+BB19+BE19) -> 0 | BI19: =SUM(AT19+AW19+AZ19+BC19+BF19) -> 0 | BJ19: =SUM(AU19+AX19+BA19+BD19+BG19) -> 0 | BZ19: =SUM(BK19,BN19,BQ19,BT19,BW19) -> 0 | CA19: =SUM(BL19,BO19,BR19,BU19,BX19) -> 0 | CB19: =SUM(BM19,BP19,BS19,BV19,BY19) -> 0
A20: 12 | X20: =SUM(I20,L20,O20,R20,U20) -> 0 | Y20: =SUM(J20,M20,P20,S20,V20) -> 0 | Z20: =SUM(K20,N20,Q20,T20,W20) -> 0 | AP20: =SUM(AA20,AD20,AG20,AJ20,AM20) -> 0 | AQ20: =SUM(AB20,AE20,AH20,AK20,AN20) -> 0 | AR20: =SUM(AC20,AF20,AI20,AL20,AO20) -> 0 | BH20: =SUM(AS20+AV20+AY20+BB20+BE20) -> 0 | BI20: =SUM(AT20+AW20+AZ20+BC20+BF20) -> 0 | BJ20: =SUM(AU20+AX20+BA20+BD20+BG20) -> 0 | BZ20: =SUM(BK20,BN20,BQ20,BT20,BW20) -> 0 | CA20: =SUM(BL20,BO20,BR20,BU20,BX20) -> 0 | CB20: =SUM(BM20,BP20,BS20,BV20,BY20) -> 0
... A70: 62 | X70: =SUM(I70,L70,O70,R70,U70) -> 0 | Y70: =SUM(J70,M70,P70,S70,V70) -> 0 | Z70: =SUM(K70,N70,Q70,T70,W70) -> 0 | AP70: =SUM(AA70,AD70,AG70,AJ70,AM70) -> 0 | AQ70: =SUM(AB70,AE70,AH70,AK70,AN70) -> 0 | AR70: =SUM(AC70,AF70,AI70,AL70,AO70) -> 0 | BH70: =SUM(AS70+AV70+AY70+BB70+BE70) -> 0 | BI70: =SUM(AT70+AW70+AZ70+BC70+BF70) -> 0 | BJ70: =SUM(AU70+AX70+BA70+BD70+BG70) -> 0 | BZ70: =SUM(BK70,BN70,BQ70,BT70,BW70) -> 0 | CA70: =SUM(BL70,BO70,BR70,BU70,BX70) -> 0 | CB70: =SUM(BM70,BP70,BS70,BV70,BY70) -> 0
B72: строчку не удалять (считается автоматически) | D72: =SUM(D9:D70) -> 0 | E72: =SUM(E9:E70) -> 0 | F72: =SUM(F9:F70) -> 0 | G72: =SUM(G9:G70) -> 0 | H72: =SUM(H9:H70) -> 0 | I72: =SUM(I9:I70) -> 0 | J72: =SUM(J9:J70) -> 0 | K72: =SUM(K9:K70) -> 0 | ... CB72: =SUM(CB9:CB70) -> 0

Sheet Общие итоги по предметам
A1: * Данная таблица заполняется автоматически по итогам внесения данных на листе "Итоги участия"
A3: Общие итоги участия в муниципальном этапе региональных олимпиад школьников 2025/2026 учебного года
A6: № | B6: предметы | C6: участников по классам, чел. | H6: всего, чел.
C7: 7 | D7: 8 | E7: 9 | F7: 10 | G7: 11 | H7: участников | I7: победителей | J7: призеров | K7: победителей и призеров
A8: 1 | B8: КРК | C8: ='Итоги участия'!I72 -> 0 | D8: ='Итоги участия'!L72 -> 0 | E8: ='Итоги участия'!O72 -> 0 | F8: ='Итоги участия'!R72 -> 0 | G8: ='Итоги участия'!U72 -> 0 | H8: =SUM(C8:G8) -> 0 | I8: ='Итоги участия'!Y72 -> 0 | J8: ='Итоги участия'!Z72 -> 0 | K8: =SUM(I8:J8) -> 0
A9: 2 | B9: Чувашский язык | C9: ='Итоги участия'!AA72 -> 0 | D9: ='Итоги участия'!AD72 -> 0 | E9: ='Итоги участия'!AG72 -> 0 | F9: ='Итоги участия'!AJ72 -> 0 | G9: ='Итоги участия'!AM72 -> 0 | H9: =SUM(C9:G9) -> 0 | I9: ='Итоги участия'!AQ72 -> 0 | J9: ='Итоги участия'!AR72 -> 0 | K9: =SUM(I9:J9) -> 0
A10: 3 | B10: Татарский язык | C10: ='Итоги участия'!AS72 -> 0 | D10: ='Итоги участия'!AV72 -> 0 | E10: ='Итоги участия'!AY72 -> 0 | F10: ='Итоги участия'!BB72 -> 0 | G10: ='Итоги участия'!BE72 -> 0 | H10: =SUM(C10:G10) -> 0 | I10: ='Итоги участия'!BI72 -> 0 | J10: ='Итоги участия'!BJ72 -> 0 | K10: =SUM(I10:J10) -> 0
A11: 4 | B11: Мордовский язык | C11: ='Итоги участия'!BK72 -> 0 | D11: ='Итоги участия'!BN72 -> 0 | E11: ='Итоги участия'!BQ72 -> 0 | F11: ='Итоги участия'!BT72 -> 0 | G11: ='Итоги участия'!BW72 -> 0 | H11: =SUM(C11:G11) -> 0 | I11: ='Итоги участия'!CA72 -> 0 | J11: ='Итоги участия'!CB72 -> 0 | K11: =SUM(I11:J11) -> 0
B13: Всего | C13: =SUM(C8:C11) -> 0 | D13: =SUM(D8:D11) -> 0 | E13: =SUM(E8:E11) -> 0 | F13: =SUM(F8:F11) -> 0 | G13: =SUM(G8:G11) -> 0 | H13: =SUM(H8:H11) -> 0 | I13: =SUM(I8:I11) -> 0 | J13: =SUM(J8:J11) -> 0 | K13: =SUM(K8:K11) -> 0
A15: * Данная таблица заполняется автоматически по итогам внесения данных на листе "Итоги участия"

Sheet Итоги участия (2)
A1: * Данная таблица заполняется автоматически по итогам внесения данных на листе "Итоги участия"
B2: ='Итоги участия'!B1 -> Итоги участия в муниципальном этапе региональных олимпиад школьников 2025/2026 учебного года
B3: подается не позднее 23 декабря 2025 года на e-mail: etker.olimp@yandex.ru строго по этой форме
B4: Муниципальный /Городской округ Чувашской Республики: __________________
A6: № | B6: Муниципалитет | C6: Общеобразовательная организация | D6: Общие данные | F6: Данные по обучающимся с ОВЗ | I6: КРК | L6: ЧУВАШСКИЙ ЯЗЫК | O6: ТАТАРСКИЙ ЯЗЫК | R6: МОРДОВСКИЙ ЯЗЫК | V6: ИТОГО
B7: Указывается в каждой ячейке | C7: Указывается сокращенное название ОО (по УСТАВУ) | D7: Общее количество обучающихся в 7-11 классах | E7: Кол-во участников (обучающийся, принявший участие по нескольким предметам, учитывается 1 раз) | F7: Общее количество обучающихся с ОВЗ -обучающихся 7-11 классов | G7: Количество участников - обучающихся с ОВЗ (обучающийся, принявший участие по нескольким предметам, учитывается 1 раз) | H7: Количество призовых мест, занятых обучающимися с ОВЗ 7-11 классов, участников МЭ региональных олимпиад | I7: всего по предмету | J7: победители | K7: призеры | L7: всего по предмету | M7: победители | N7: призеры | O7: всего по предмету | P7: победители | Q7: призеры | R7: всего по предмету | S7: победители | T7: призеры | V7: всего по предметам | W7: победители | X7: призеры | Y7: победители и призеры
I8: УЧ | J8: П | K8: ПР | L8: УЧ | M8: П | N8: ПР | O8: УЧ | P8: П | Q8: ПР | R8: УЧ | S8: П | T8: ПР | V8: УЧ | W8: П | X8: ПР | Y8: П и Пр
A9: 1 | B9: ='Итоги участия'!B9 -> 0 | C9: ='Итоги участия'!C9 -> 0 | D9: ='Итоги участия'!D9 -> 0 | E9: ='Итоги участия'!E9 -> 0 | F9: ='Итоги участия'!F9 -> 0 | G9: ='Итоги участия'!G9 -> 0 | H9: ='Итоги участия'!H9 -> 0 | I9: ='Итоги участия'!X9 -> 0 | J9: ='Итоги участия'!Y9 -> 0 | K9: ='Итоги участия'!Z9 -> 0 | L9: ='Итоги участия'!AP9 -> 0 | M9: ='Итоги участия'!AQ9 -> 0 | N9: ='Итоги участия'!AR9 -> 0 | O9: ='Итоги участия'!BH9 -> 0 | P9: ='Итоги участия'!BI9 -> 0 | Q9: ='Итоги участия'!BJ9 -> 0 | R9: ='Итоги участия'!BZ9 -> 0 | S9: ='Итоги участия'!CA9 -> 0 | T9: ='Итоги участия'!CB9 -> 0 | V9: =I9+L9+O9+R9 -> 0 | W9: =J9+M9+P9+S9 -> 0 | X9: =K9+N9+Q9+T9 -> 0 | Y9: =W9+X9 -> 0
A10: 2 | B10: ='Итоги участия'!B10 -> 0 | C10: ='Итоги участия'!C10 -> 0 | D10: ='Итоги участия'!D10 -> 0 | E10: ='Итоги участия'!E10 -> 0 | F10: ='Итоги участия'!F10 -> 0 | G10: ='Итоги участия'!G10 -> 0 | H10: ='Итоги участия'!H10 -> 0 | I10: ='Итоги участия'!X10 -> 0 | J10: ='Итоги участия'!Y10 -> 0 | K10: ='Итоги участия'!Z10 -> 0 | L10: ='Итоги участия'!AP10 -> 0 | M10: ='Итоги участия'!AQ10 -> 0 | N10: ='Итоги участия'!AR10 -> 0 | O10: ='Итоги участия'!BH10 -> 0 | P10: ='Итоги участия'!BI10 -> 0 | Q10: ='Итоги участия'!BJ10 -> 0 | R10: ='Итоги участия'!BZ10 -> 0 | S10: ='Итоги участия'!CA10 -> 0 | T10: ='Итоги участия'!CB10 -> 0 | V10: =I10+L10+O10+R10 -> 0 | W10: =J10+M10+P10+S10 -> 0 | X10: =K10+N10+Q10+T10 -> 0 | Y10: =W10+X10 -> 0
A11: 3 | B11: ='Итоги участия'!B11 -> 0 | C11: ='Итоги участия'!C11 -> 0 | D11: ='Итоги участия'!D11 -> 0 | E11: ='Итоги участия'!E11 -> 0 | F11: ='Итоги участия'!F11 -> 0 | G11: ='Итоги участия'!G11 -> 0 | H11: ='Итоги участия'!H11 -> 0 | I11: ='Итоги участия'!X11 -> 0 | J11: ='Итоги участия'!Y11 -> 0 | K11: ='Итоги участия'!Z11 -> 0 | L11: ='Итоги участия'!AP11 -> 0 | M11: ='Итоги участия'!AQ11 -> 0 | N11: ='Итоги участия'!AR11 -> 0 | O11: ='Итоги участия'!BH11 -> 0 | P11: ='Итоги участия'!BI11 -> 0 | Q11: ='Итоги участия'!BJ11 -> 0 | R11: ='Итоги участия'!BZ11 -> 0 | S11: ='Итоги участия'!CA11 -> 0 | T11: ='Итоги участия'!CB11 -> 0 | V11: =I11+L11+O11+R11 -> 0 | W11: =J11+M11+P11+S11 -> 0 | X11: =K11+N11+Q11+T11 -> 0 | Y11: =W11+X11 -> 0
A12: 4 | B12: ='Итоги участия'!B12 -> 0 | C12: ='Итоги участия'!C12 -> 0 | D12: ='Итоги участия'!D12 -> 0 | E12: ='Итоги участия'!E12 -> 0 | F12: ='Итоги участия'!F12 -> 0 | G12: ='Итоги участия'!G12 -> 0 | H12: ='Итоги участия'!H12 -> 0 | I12: ='Итоги участия'!X12 -> 0 | J12: ='Итоги участия'!Y12 -> 0 | K12: ='Итоги участия'!Z12 -> 0 | L12: ='Итоги участия'!AP12 -> 0 | M12: ='Итоги участия'!AQ12 -> 0 | N12: ='Итоги участия'!AR12 -> 0 | O12: ='Итоги участия'!BH12 -> 0 | P12: ='Итоги участия'!BI12 -> 0 | Q12: ='Итоги участия'!BJ12 -> 0 | R12: ='Итоги участия'!BZ12 -> 0 | S12: ='Итоги участия'!CA12 -> 0 | T12: ='Итоги участия'!CB12 -> 0 | V12: =I12+L12+O12+R12 -> 0 | W12: =J12+M12+P12+S12 -> 0 | X12: =K12+N12+Q12+T12 -> 0 | Y12: =W12+X12 -> 0
A13: 5 | B13: ='Итоги участия'!B13 -> 0 | C13: ='Итоги участия'!C13 -> 0 | D13: ='Итоги участия'!D13 -> 0 | E13: ='Итоги участия'!E13 -> 0 | F13: ='Итоги участия'!F13 -> 0 | G13: ='Итоги участия'!G13 -> 0 | H13: ='Итоги участия'!H13 -> 0 | I13: ='Итоги участия'!X13 -> 0 | J13: ='Итоги участия'!Y13 -> 0 | K13: ='Итоги участия'!Z13 -> 0 | L13: ='Итоги участия'!AP13 -> 0 | M13: ='Итоги участия'!AQ13 -> 0 | N13: ='Итоги участия'!AR13 -> 0 | O13: ='Итоги участия'!BH13 -> 0 | P13: ='Итоги участия'!BI13 -> 0 | Q13: ='Итоги участия'!BJ13 -> 0 | R13: ='Итоги участия'!BZ13 -> 0 | S13: ='Итоги участия'!CA13 -> 0 | T13: ='Итоги участия'!CB13 -> 0 | U13: ='[1]Итоги участия'!U9 -> 0 | V13: =I13+L13+O13+R13 -> 0 | W13: =J13+M13+P13+S13 -> 0 | X13: =K13+N13+Q13+T13 -> 0 | Y13: =W13+X13 -> 0
A14: 6 | B14: ='Итоги участия'!B14 -> 0 | C14: ='Итоги участия'!C14 -> 0 | D14: ='Итоги участия'!D14 -> 0 | E14: ='Итоги участия'!E14 -> 0 | F14: ='Итоги участия'!F14 -> 0 | G14: ='Итоги участия'!G14 -> 0 | H14: ='Итоги участия'!H14 -> 0 | I14: ='Итоги участия'!X14 -> 0 | J14: ='Итоги участия'!Y14 -> 0 | K14: ='Итоги участия'!Z14 -> 0 | L14: ='Итоги участия'!AP14 -> 0 | M14: ='Итоги участия'!AQ14 -> 0 | N14: ='Итоги участия'!AR14 -> 0 | O14: ='Итоги участия'!BH14 -> 0 | P14: ='Итоги участия'!BI14 -> 0 | Q14: ='Итоги участия'!BJ14 -> 0 | R14: ='Итоги участия'!BZ14 -> 0 | S14: ='Итоги участия'!CA14 -> 0 | T14: ='Итоги участия'!CB14 -> 0 | V14: =I14+L14+O14+R14 -> 0 | W14: =J14+M14+P14+S14 -> 0 | X14: =K14+N14+Q14+T14 -> 0 | Y14: =W14+X14 -> 0
A15: 7 | B15: ='Итоги участия'!B15 -> 0 | C15: ='Итоги участия'!C15 -> 0 | D15: ='Итоги участия'!D15 -> 0 | E15: ='Итоги участия'!E15 -> 0 | F15: ='Итоги участия'!F15 -> 0 | G15: ='Итоги участия'!G15 -> 0 | H15: ='Итоги участия'!H15 -> 0 | I15: ='Итоги участия'!X15 -> 0 | J15: ='Итоги участия'!Y15 -> 0 | K15: ='Итоги участия'!Z15 -> 0 | L15: ='Итоги участия'!AP15 -> 0 | M15: ='Итоги участия'!AQ15 -> 0 | N15: ='Итоги участия'!AR15 -> 0 | O15: ='Итоги участия'!BH15 -> 0 | P15: ='Итоги участия'!BI15 -> 0 | Q15: ='Итоги участия'!BJ15 -> 0 | R15: ='Итоги участия'!BZ15 -> 0 | S15: ='Итоги участия'!CA15 -> 0 | T15: ='Итоги участия'!CB15 -> 0 | V15: =I15+L15+O15+R15 -> 0 | W15: =J15+M15+P15+S15 -> 0 | X15: =K15+N15+Q15+T15 -> 0 | Y15: =W15+X15 -> 0
A16: 8 | B16: ='Итоги участия'!B16 -> 0 | C16: ='Итоги участия'!C16 -> 0 | D16: ='Итоги участия'!D16 -> 0 | E16: ='Итоги участия'!E16 -> 0 | F16: ='Итоги участия'!F16 -> 0 | G16: ='Итоги участия'!G16 -> 0 | H16: ='Итоги участия'!H16 -> 0 | I16: ='Итоги участия'!X16 -> 0 | J16: ='Итоги участия'!Y16 -> 0 | K16: ='Итоги участия'!Z16 -> 0 | L16: ='Итоги участия'!AP16 -> 0 | M16: ='Итоги участия'!AQ16 -> 0 | N16: ='Итоги участия'!AR16 -> 0 | O16: ='Итоги участия'!BH16 -> 0 | P16: ='Итоги участия'!BI16 -> 0 | Q16: ='Итоги участия'!BJ16 -> 0 | R16: ='Итоги участия'!BZ16 -> 0 | S16: ='Итоги участия'!CA16 -> 0 | T16: ='Итоги участия'!CB16 -> 0 | V16: =I16+L16+O16+R16 -> 0 | W16: =J16+M16+P16+S16 -> 0 | X16: =K16+N16+Q16+T16 -> 0 | Y16: =W16+X16 -> 0
A17: 9 | B17: ='Итоги участия'!B17 -> 0 | C17: ='Итоги участия'!C17 -> 0 | D17: ='Итоги участия'!D17 -> 0 | E17: ='Итоги участия'!E17 -> 0 | F17: ='Итоги участия'!F17 -> 0 | G17: ='Итоги участия'!G17 -> 0 | H17: ='Итоги участия'!H17 -> 0 | I17: ='Итоги участия'!X17 -> 0 | J17: ='Итоги участия'!Y17 -> 0 | K17: ='Итоги участия'!Z17 -> 0 | L17: ='Итоги участия'!AP17 -> 0 | M17: ='Итоги участия'!AQ17 -> 0 | N17: ='Итоги участия'!AR17 -> 0 | O17: ='Итоги участия'!BH17 -> 0 | P17: ='Итоги участия'!BI17 -> 0 | Q17: ='Итоги участия'!BJ17 -> 0 | R17: ='Итоги участия'!BZ17 -> 0 | S17: ='Итоги участия'!CA17 -> 0 | T17: ='Итоги участия'!CB17 -> 0 | V17: =I17+L17+O17+R17 -> 0 | W17: =J17+M17+P17+S17 -> 0 | X17: =K17+N17+Q17+T17 -> 0 | Y17: =W17+X17 -> 0
A18: 10 | B18: ='Итоги участия'!B18 -> 0 | C18: ='Итоги участия'!C18 -> 0 | D18: ='Итоги участия'!D18 -> 0 | E18: ='Итоги участия'!E18 -> 0 | F18: ='Итоги участия'!F18 -> 0 | G18: ='Итоги участия'!G18 -> 0 | H18: ='Итоги участия'!H18 -> 0 | I18: ='Итоги участия'!X18 -> 0 | J18: ='Итоги участия'!Y18 -> 0 | K18: ='Итоги участия'!Z18 -> 0 | L18: ='Итоги участия'!AP18 -> 0 | M18: ='Итоги участия'!AQ18 -> 0 | N18: ='Итоги участия'!AR18 -> 0 | O18: ='Итоги участия'!BH18 -> 0 | P18: ='Итоги участия'!BI18 -> 0 | Q18: ='Итоги участия'!BJ18 -> 0 | R18: ='Итоги участия'!BZ18 -> 0 | S18: ='Итоги участия'!CA18 -> 0 | T18: ='Итоги участия'!CB18 -> 0 | V18: =I18+L18+O18+R18 -> 0 | W18: =J18+M18+P18+S18 -> 0 | X18: =K18+N18+Q18+T18 -> 0 | Y18: =W18+X18 -> 0
A19: 11 | B19: ='Итоги участия'!B19 -> 0 | C19: ='Итоги участия'!C19 -> 0 | D19: ='Итоги участия'!D19 -> 0 | E19: ='Итоги участия'!E19 -> 0 | F19: ='Итоги участия'!F19 -> 0 | G19: ='Итоги участия'!G19 -> 0 | H19: ='Итоги участия'!H19 -> 0 | I19: ='Итоги участия'!X19 -> 0 | J19: ='Итоги участия'!Y19 -> 0 | K19: ='Итоги участия'!Z19 -> 0 | L19: ='Итоги участия'!AP19 -> 0 | M19: ='Итоги участия'!AQ19 -> 0 | N19: ='Итоги участия'!AR19 -> 0 | O19: ='Итоги участия'!BH19 -> 0 | P19: ='Итоги участия'!BI19 -> 0 | Q19: ='Итоги участия'!BJ19 -> 0 | R19: ='Итоги участия'!BZ19 -> 0 | S19: ='Итоги участия'!CA19 -> 0 | T19: ='Итоги участия'!CB19 -> 0 | V19: =I19+L19+O19+R19 -> 0 | W19: =J19+M19+P19+S19 -> 0 | X19: =K19+N19+Q19+T19 -> 0 | Y19: =W19+X19 -> 0
A20: 12 | B20: ='Итоги участия'!B20 -> 0 | C20: ='Итоги участия'!C20 -> 0 | D20: ='Итоги участия'!D20 -> 0 | E20: ='Итоги участия'!E20 -> 0 | F20: ='Итоги участия'!F20 -> 0 | G20: ='Итоги участия'!G20 -> 0 | H20: ='Итоги участия'!H20 -> 0 | I20: ='Итоги участия'!X20 -> 0 | J20: ='Итоги участия'!Y20 -> 0 | K20: ='Итоги участия'!Z20 -> 0 | L20: ='Итоги участия'!AP20 -> 0 | M20: ='Итоги участия'!AQ20 -> 0 | N20: ='Итоги участия'!AR20 -> 0 | O20: ='Итоги участия'!BH20 -> 0 | P20: ='Итоги участия'!BI20 -> 0 | Q20: ='Итоги участия'!BJ20 -> 0 | R20: ='Итоги участия'!BZ20 -> 0 | S20: ='Итоги участия'!CA20 -> 0 | T20: ='Итоги участия'!CB20 -> 0 | V20: =I20+L20+O20+R20 -> 0 | W20: =J20+M20+P20+S20 -> 0 | X20: =K20+N20+Q20+T20 -> 0 | Y20: =W20+X20 -> 0
A21: 13 | B21: ='Итоги участия'!B21 -> 0 | C21: ='Итоги участия'!C21 -> 0 | D21: ='Итоги участия'!D21 -> 0 | E21: ='Итоги участия'!E21 -> 0 | F21: ='Итоги участия'!F21 -> 0 | G21: ='Итоги участия'!G21 -> 0 | H21: ='Итоги участия'!H21 -> 0 | I21: ='Итоги участия'!X21 -> 0 | J21: ='Итоги участия'!Y21 -> 0 | K21: ='Итоги участия'!Z21 -> 0 | L21: ='Итоги участия'!AP21 -> 0 | M21: ='Итоги участия'!AQ21 -> 0 | N21: ='Итоги участия'!AR21 -> 0 | O21: ='Итоги участия'!BH21 -> 0 | P21: ='Итоги участия'!BI21 -> 0 | Q21: ='Итоги участия'!BJ21 -> 0 | R21: ='Итоги участия'!BZ21 -> 0 | S21: ='Итоги участия'!CA21 -> 0 | T21: ='Итоги участия'!CB21 -> 0 | V21: =I21+L21+O21+R21 -> 0 | W21: =J21+M21+P21+S21 -> 0 | X21: =K21+N21+Q21+T21 -> 0 | Y21: =W21+X21 -> 0
A22: 14 | B22: ='Итоги участия'!B22 -> 0 | C22: ='Итоги участия'!C22 -> 0 | D22: ='Итоги участия'!D22 -> 0 | E22: ='Итоги участия'!E22 -> 0 | F22: ='Итоги участия'!F22 -> 0 | G22: ='Итоги участия'!G22 -> 0 | H22: ='Итоги участия'!H22 -> 0 | I22: ='Итоги участия'!X22 -> 0 | J22: ='Итоги участия'!Y22 -> 0 | K22: ='Итоги участия'!Z22 -> 0 | L22: ='Итоги участия'!AP22 -> 0 | M22: ='Итоги участия'!AQ22 -> 0 | N22: ='Итоги участия'!AR22 -> 0 | O22: ='Итоги участия'!BH22 -> 0 | P22: ='Итоги участия'!BI22 -> 0 | Q22: ='Итоги участия'!BJ22 -> 0 | R22: ='Итоги участия'!BZ22 -> 0 | S22: ='Итоги участия'!CA22 -> 0 | T22: ='Итоги участия'!CB22 -> 0 | V22: =I22+L22+O22+R22 -> 0 | W22: =J22+M22+P22+S22 -> 0 | X22: =K22+N22+Q22+T22 -> 0 | Y22: =W22+X22 -> 0
A23: 15 | B23: ='Итоги участия'!B23 -> 0 | C23: ='Итоги участия'!C23 -> 0 | D23: ='Итоги участия'!D23 -> 0 | E23: ='Итоги участия'!E23 -> 0 | F23: ='Итоги участия'!F23 -> 0 | G23: ='Итоги участия'!G23 -> 0 | H23: ='Итоги участия'!H23 -> 0 | I23: ='Итоги участия'!X23 -> 0 | J23: ='Итоги участия'!Y23 -> 0 | K23: ='Итоги участия'!Z23 -> 0 | L23: ='Итоги участия'!AP23 -> 0 | M23: ='Итоги участия'!AQ23 -> 0 | N23: ='Итоги участия'!AR23 -> 0 | O23: ='Итоги участия'!BH23 -> 0 | P23: ='Итоги участия'!BI23 -> 0 | Q23: ='Итоги участия'!BJ23 -> 0 | R23: ='Итоги участия'!BZ23 -> 0 | S23: ='Итоги участия'!CA23 -> 0 | T23: ='Итоги участия'!CB23 -> 0 | V23: =I23+L23+O23+R23 -> 0 | W23: =J23+M23+P23+S23 -> 0 | X23: =K23+N23+Q23+T23 -> 0 | Y23: =W23+X23 -> 0
A24: 16 | B24: ='Итоги участия'!B24 -> 0 | C24: ='Итоги участия'!C24 -> 0 | D24: ='Итоги участия'!D24 -> 0 | E24: ='Итоги участия'!E24 -> 0 | F24: ='Итоги участия'!F24 -> 0 | G24: ='Итоги участия'!G24 -> 0 | H24: ='Итоги участия'!H24 -> 0 | I24: ='Итоги участия'!X24 -> 0 | J24: ='Итоги участия'!Y24 -> 0 | K24: ='Итоги участия'!Z24 -> 0 | L24: ='Итоги участия'!AP24 -> 0 | M24: ='Итоги участия'!AQ24 -> 0 | N24: ='Итоги участия'!AR24 -> 0 | O24: ='Итоги участия'!BH24 -> 0 | P24: ='Итоги участия'!BI24 -> 0 | Q24: ='Итоги участия'!BJ24 -> 0 | R24: ='Итоги участия'!BZ24 -> 0 | S24: ='Итоги участия'!CA24 -> 0 | T24: ='Итоги участия'!CB24 -> 0 | V24: =I24+L24+O24+R24 -> 0 | W24: =J24+M24+P24+S24 -> 0 | X24: =K24+N24+Q24+T24 -> 0 | Y24: =W24+X24 -> 0
A25: 17 | B25: ='Итоги участия'!B25 -> 0 | C25: ='Итоги участия'!C25 -> 0 | D25: ='Итоги участия'!D25 -> 0 | E25: ='Итоги участия'!E25 -> 0 | F25: ='Итоги участия'!F25 -> 0 | G25: ='Итоги участия'!G25 -> 0 | H25: ='Итоги участия'!H25 -> 0 | I25: ='Итоги участия'!X25 -> 0 | J25: ='Итоги участия'!Y25 -> 0 | K25: ='Итоги участия'!Z25 -> 0 | L25: ='Итоги участия'!AP25 -> 0 | M25: ='Итоги участия'!AQ25 -> 0 | N25: ='Итоги участия'!AR25 -> 0 | O25: ='Итоги участия'!BH25 -> 0 | P25: ='Итоги участия'!BI25 -> 0 | Q25: ='Итоги участия'!BJ25 -> 0 | R25: ='Итоги участия'!BZ25 -> 0 | S25: ='Итоги участия'!CA25 -> 0 | T25: ='Итоги участия'!CB25 -> 0 | V25: =I25+L25+O25+R25 -> 0 | W25: =J25+M25+P25+S25 -> 0 | X25: =K25+N25+Q25+T25 -> 0 | Y25: =W25+X25 -> 0
... A70: 62 | B70: ='Итоги участия'!B70 -> 0 | C70: ='Итоги участия'!C70 -> 0 | D70: ='Итоги участия'!D70 -> 0 | E70: ='Итоги участия'!E70 -> 0 | F70: ='Итоги участия'!F70 -> 0 | G70: ='Итоги участия'!G70 -> 0 | H70: ='Итоги участия'!H70 -> 0 | I70: ='Итоги участия'!X70 -> 0 | J70: ='Итоги участия'!Y70 -> 0 | K70: ='Итоги участия'!Z70 -> 0 | L70: ='Итоги участия'!AP70 -> 0 | M70: ='Итоги участия'!AQ70 -> 0 | N70: ='Итоги участия'!AR70 -> 0 | O70: ='Итоги участия'!BH70 -> 0 | P70: ='Итоги участия'!BI70 -> 0 | Q70: ='Итоги участия'!BJ70 -> 0 | R70: ='Итоги участия'!BZ70 -> 0 | S70: ='Итоги участия'!CA70 -> 0 | T70: ='Итоги участия'!CB70 -> 0 | V70: =I70+L70+O70+R70 -> 0 | W70: =J70+M70+P70+S70 -> 0 | X70: =K70+N70+Q70+T70 -> 0 | Y70: =W70+X70 -> 0
B72: строчку не удалять (считается автоматически) | D72: =SUM(D9:D70) -> 0 | E72: =SUM(E9:E70) -> 0 | F72: =SUM(F9:F70) -> 0 | G72: =SUM(G9:G70) -> 0 | H72: =SUM(H9:H70) -> 0 | I72: =SUM(I9:I70) -> 0 | J72: =SUM(J9:J70) -> 0 | K72: =SUM(K9:K70) -> 0 | ... T72: =SUM(T9:T70) -> 0 | V72: =SUM(V9:V71) -> 0 | W72: =SUM(W9:W71) -> 0 | X72: =SUM(X9:X71) -> 0 | Y72: =SUM(Y9:Y71) -> 0
