Workbook

Sheet 5 класс
A2: Протокол школьного этапа этапа всероссийской олимпиады школьников по биологии в 2025-2026 уч.г., 5 класс
A4: Предмет: биология
A5: Количество участников: 12
A6: Дата проведения: 08.10.2025
A7: Место проведения: платформа "Сириус"
A9: № | B9: Логин с платформы "Сириус" | C9: Город | D9: Наименование ОО | E9: Класс, в котором обучается | F9: Класс, за который выступает | G9: Ф.И.О. наставника (полностью) | H9: Результат (победитель/призер/ участник)
A10: 1 | B10: 373 | C10: Новочебоксарск | D10: МБОУ "СОШ №5 " | E10: 5 | F10: 5 | G10: Егорова Ирина Вениаминовна | H10: победитель
A11: 2 | B11: r8g | C11: Новочебоксарск | D11: МБОУ "СОШ №5 " | E11: 5 | F11: 5 | G11: Егорова Ирина Вениаминовна | H11: победитель
A12: 3 | B12: 58g | C12: Новочебоксарск | D12: МБОУ "СОШ №5 " | E12: 5 | F12: 5 | G12: Егорова Ирина Вениаминовна | H12: призер
B13: 372 | C13: Новочебоксарск | D13: МБОУ "СОШ №5 " | E13: 5 | F13: 5 | G13: Егорова Ирина Вениаминовна | H13: призер
A14: 4 | B14: 38z | C14: Новочебоксарск | D14: МБОУ "СОШ №5 " | E14: 5 | F14: 5 | G14: Егорова Ирина Вениаминовна | H14: участник
A15: 5 | B15: q8w | C15: Новочебоксарск | D15: МБОУ "СОШ №5 " | E15: 5 | F15: 5 | G15: Егорова Ирина Вениаминовна | H15: участник
A16: 6 | B16: z58z | C16: Новочебоксарск | D16: МБОУ "СОШ №5 " | E16: 5 | F16: 5 | G16: Егорова Ирина Вениаминовна | H16: участник
A17: 7 | B17: g73 | C17: Новочебоксарск | D17: МБОУ "СОШ №5 " | E17: 5 | F17: 5 | G17: Егорова Ирина Вениаминовна | H17: участник
A18: 8 | B18: r8g | C18: Новочебоксарск | D18: МБОУ "СОШ №5 " | E18: 5 | F18: 5 | G18: Егорова Ирина Вениаминовна | H18: участник
A19: 9 | B19: g76 | C19: Новочебоксарск | D19: МБОУ "СОШ №5 " | E19: 5 | F19: 5 | G19: Егорова Ирина Вениаминовна | H19: участник
A20: 10 | B20: 38z | C20: Новочебоксарск | D20: МБОУ "СОШ №5 " | E20: 5 | F20: 5 | G20: Егорова Ирина Вениаминовна | H20: участник
A21: 11 | B21: 374 | C21: Новочебоксарск | D21: МБОУ "СОШ №5 " | E21: 5 | F21: 5 | G21: Егорова Ирина Вениаминовна | H21: участник
A22: 12 | B22: 375 | C22: Новочебоксарск | D22: МБОУ "СОШ №5 " | E22: 5 | F22: 5 | G22: Егорова Ирина Вениаминовна | H22: участник

Sheet 6 класс
A2: Протокол школьного этапа этапа всероссийской олимпиады школьников по биологии в 2025-2026 уч.г., 6 класс
A4: Предмет: биология
A5: Количество участников: 11
A6: Дата проведения: 08.10.2025
A7: Место проведения: платформа "Сириус"
A9: № | B9: Логин с платформы "Сириус" | C9: Город | D9: Наименование ОО | E9: Класс, в котором обучается | F9: Класс, за который выступает | G9: Ф.И.О. наставника (полностью) | H9: Результат (победитель/призер/ участник)
A10: 1 | B10: 73r | C10: Новочебоксарск | D10: ='5 класс'!$D$10 -> МБОУ "СОШ №5 " | E10: 6 | F10: 6 | G10: Егорова Ирина Вениаминовна | H10: победитель
A11: 2 | B11: 276 | C11: Новочебоксарск | D11: ='5 класс'!$D$10 -> МБОУ "СОШ №5 " | E11: 6 | F11: 6 | G11: Егорова Ирина Вениаминовна | H11: победитель
A12: 3 | B12: 734 | C12: Новочебоксарск | D12: ='5 класс'!$D$10 -> МБОУ "СОШ №5 " | E12: 6 | F12: 6 | G12: Егорова Ирина Вениаминовна | H12: призер
A13: 4 | B13: w73 | C13: Новочебоксарск | D13: ='5 класс'!$D$10 -> МБОУ "СОШ №5 " | E13: 6 | F13: 6 | G13: Егорова Ирина Вениаминовна | H13: участник
A14: 5 | B14: 476 | C14: Новочебоксарск | D14: ='5 класс'!$D$10 -> МБОУ "СОШ №5 " | E14: 6 | F14: 6 | G14: Егорова Ирина Вениаминовна | H14: участник
A15: 6 | B15: 376 | C15: Новочебоксарск | D15: ='5 класс'!$D$10 -> МБОУ "СОШ №5 " | E15: 6 | F15: 6 | G15: Егорова Ирина Вениаминовна | H15: участник
A16: 7 | B16: q7w | C16: Новочебоксарск | D16: ='5 класс'!$D$10 -> МБОУ "СОШ №5 " | E16: 6 | F16: 6 | G16: Егорова Ирина Вениаминовна | H16: участник
A17: 8 | B17: 58g | C17: Новочебоксарск | D17: ='5 класс'!$D$10 -> МБОУ "СОШ №5 " | E17: 6 | F17: 6 | G17: Егорова Ирина Вениаминовна | H17: участник
A18: 9 | B18: w83 | C18: Новочебоксарск | D18: ='5 класс'!$D$10 -> МБОУ "СОШ №5 " | E18: 6 | F18: 6 | G18: Егорова Ирина Вениаминовна | H18: участник
A19: 10 | B19: 972 | C19: Новочебоксарск | D19: ='5 класс'!$D$10 -> МБОУ "СОШ №5 " | E19: 6 | F19: 6 | G19: Егорова Ирина Вениаминовна | H19: участник
A20: 11 | B20: g76 | C20: Новочебоксарск | D20: ='5 класс'!$D$10 -> МБОУ "СОШ №5 " | E20: 6 | F20: 6 | G20: Егорова Ирина Вениаминовна | H20: участник

Sheet 7 класс
A2: Протокол школьного этапа этапа всероссийской олимпиады школьников по биологии в 2025-2026 уч.г., 7 класс
A4: Предмет: биология
A5: Количество участников: 3
A6: Дата проведения: 07.10.2025
A7: Место проведения: платформа "Сириус"
A9: № | B9: Логин с платформы "Сириус" | C9: Город | D9: Наименование ОО | E9: Класс, в котором обучается | F9: Класс, за который выступает | G9: Ф.И.О. наставника (полностью) | H9: Результат (победитель/призер/ участник)
A10: 1 | B10: v76 | C10: Новочебоксарск | D10: ='6 класс'!$D$10 -> МБОУ "СОШ №5 " | E10: 7 | F10: 7 | G10: Егорова Ирина Вениаминовна | H10: победитель
A11: 2 | B11: 38z | C11: Новочебоксарск | D11: ='6 класс'!$D$10 -> МБОУ "СОШ №5 " | E11: 7 | F11: 7 | G11: Егорова Ирина Вениаминовна | H11: участник
A12: 3 | B12: q8g | C12: Новочебоксарск | D12: ='6 класс'!$D$10 -> МБОУ "СОШ №5 " | E12: 7 | F12: 7 | G12: Егорова Ирина Вениаминовна | H12: участник

Sheet 8 класс
A2: Протокол школьного этапа этапа всероссийской олимпиады школьников по биологии в 2025-2026 уч.г., 8 класс
A4: Предмет: биология
A5: Количество участников: 2
A6: Дата проведения: 07.10.2025
A7: Место проведения: платформа "Сириус"
A9: № | B9: Логин с платформы "Сириус" | C9: Город | D9: Наименование ОО | E9: Класс, в котором обучается | F9: Класс, за который выступает | G9: Ф.И.О. наставника (полностью) | H9: Результат (победитель/призер/ участник)
A10: 1 | B10: 73r | C10: Новочебоксарск | D10: ='7 класс'!$D$10 -> МБОУ "СОШ №5 " | E10: 8 | F10: 8 | G10: Егорова Ирина Вениаминовна | H10: участник
A11: 2 | B11: r83 | C11: Новочебоксарск | D11: ='7 класс'!$D$10 -> МБОУ "СОШ №5 " | E11: 8 | F11: 8 | G11: Егорова Ирина Вениаминовна | H11: участник

Sheet 9 класс
A2: Протокол школьного этапа этапа всероссийской олимпиады школьников по биологии в 2025-2026 уч.г., 9 класс
A4: Предмет: биология
A5: Количество участников: 13
A6: Дата проведения: 07.10.2025
A7: Место проведения: платформа "Сириус"
A10: № | B10: Логин с платформы "Сириус" | C10: Город | D10: Наименование ОО | E10: Класс, в котором обучается | F10: Класс, за который выступает | G10: Ф.И.О. наставника (полностью) | H10: Результат (победитель/призер/ участник)
A11: 1 | B11: 86v | C11: Новочебоксарск | D11: ='8 класс'!$D$10 -> МБОУ "СОШ №5 " | E11: 9 | F11: 9 | G11: Егорова Ирина Вениаминовна | H11: победитель
A12: 2 | B12: 68w | C12: Новочебоксарск | D12: ='8 класс'!$D$10 -> МБОУ "СОШ №5 " | E12: 9 | F12: 9 | G12: Егорова Ирина Вениаминовна | H12: призер
A13: 3 | B13: q7w | C13: Новочебоксарск | D13: ='8 класс'!$D$10 -> МБОУ "СОШ №5 " | E13: 9 | F13: 9 | G13: Егорова Ирина Вениаминовна | H13: призер
A14: 4 | B14: q7g | C14: Новочебоксарск | D14: ='8 класс'!$D$10 -> МБОУ "СОШ №5 " | E14: 9 | F14: 9 | G14: Егорова Ирина Вениаминовна | H14: призер
A15: 5 | B15: w83 | C15: Новочебоксарск | D15: ='8 класс'!$D$10 -> МБОУ "СОШ №5 " | E15: 9 | F15: 9 | G15: Егорова Ирина Вениаминовна | H15: участник
A16: 6 | B16: 476 | C16: Новочебоксарск | D16: ='8 класс'!$D$10 -> МБОУ "СОШ №5 " | E16: 9 | F16: 9 | G16: Егорова Ирина Вениаминовна | H16: участник
A17: 7 | B17: 583 | C17: Новочебоксарск | D17: ='8 класс'!$D$10 -> МБОУ "СОШ №5 " | E17: 9 | F17: 9 | G17: Егорова Ирина Вениаминовна | H17: участник
A18: 8 | B18: v86 | C18: Новочебоксарск | D18: ='8 класс'!$D$10 -> МБОУ "СОШ №5 " | E18: 9 | F18: 9 | G18: Егорова Ирина Вениаминовна | H18: участник
A19: 9 | B19: 7vr | C19: Новочебоксарск | D19: ='8 класс'!$D$10 -> МБОУ "СОШ №5 " | E19: 9 | F19: 9 | G19: Егорова Ирина Вениаминовна | H19: участник
A20: 10 | B20: 486 | C20: Новочебоксарск | D20: ='8 класс'!$D$10 -> МБОУ "СОШ №5 " | E20: 9 | F20: 9 | G20: Егорова Ирина Вениаминовна | H20: участник
A21: 11 | B21: 68w | C21: Новочебоксарск | D21: ='8 класс'!$D$10 -> МБОУ "СОШ №5 " | E21: 9 | F21: 9 | G21: Егорова Ирина Вениаминовна | H21: участник
A22: 12 | B22: 386 | C22: Новочебоксарск | D22: ='8 класс'!$D$10 -> МБОУ "СОШ №5 " | E22: 9 | F22: 9 | G22: Егорова Ирина Вениаминовна | H22: участник
A23: 13 | B23: 376 | C23: Новочебоксарск | D23: ='8 класс'!$D$10 -> МБОУ "СОШ №5 " | E23: 9 | F23: 9 | G23: Егорова Ирина Вениаминовна | H23: участник

Sheet 10 класс
A2: Протокол школьного этапа этапа всероссийской олимпиады школьников по биологии в 2025-2026 уч.г., 10 класс
A4: Предмет: биология
A5: Количество участников: 4
A6: Дата проведения: 07.10.2025
A7: Место проведения: платформа "Сириус"
A9: № | B9: Логин с платформы "Сириус" | C9: Город | D9: Наименование ОО | E9: Класс, в котором обучается | F9: Класс, за который выступает | G9: Ф.И.О. наставника (полностью) | H9: Результат (победитель/призер/ участник)
A10: 1 | B10: q7g | C10: Новочебоксарск | D10: ='9 класс'!$D$11 -> МБОУ "СОШ №5 " | E10: 10 | F10: 10 | G10: Егорова Ирина Вениамовна | H10: победитель
A11: 2 | B11: 476 | C11: Новочебоксарск | D11: ='9 класс'!$D$11 -> МБОУ "СОШ №5 " | E11: 10 | F11: 10 | G11: Егорова Ирина Вениамовна | H11: участник
A12: 3 | B12: v73 | C12: Новочебоксарск | D12: ='9 класс'!$D$11 -> МБОУ "СОШ №5 " | E12: 10 | F12: 10 | G12: Егорова Ирина Вениамовна | H12: участник
A13: 4 | B13: v86 | C13: Новочебоксарск | D13: ='9 класс'!$D$11 -> МБОУ "СОШ №5 " | E13: 10 | F13: 10 | G13: Егорова Ирина Вениамовна | H13: участник

Sheet 11 класс
A2: Протокол школьного этапа этапа всероссийской олимпиады школьников по биологии в 2025-2026 уч.г., 11 класс
A4: Предмет: биология
A5: Количество участников: 8
A6: Дата проведения: 07.10.2025
A7: Место проведения: платформа "Сириус"
A10: № | B10: Логин с платформы "Сириус" | C10: Город | D10: Наименование ОО | E10: Класс, в котором обучается | F10: Класс, за который выступает | G10: Ф.И.О. наставника (полностью) | H10: Результат (победитель/призер/ участник)
A11: 1 | B11: 68w | C11: Новочебоксарск | D11: ='10 класс'!$D$10 -> МБОУ "СОШ №5 " | E11: 11 | F11: 11 | G11: Егорова Ирина Вениаминовна | H11: победитель
A12: 2 | B12: g7z | C12: Новочебоксарск | D12: ='10 класс'!$D$10 -> МБОУ "СОШ №5 " | E12: 11 | F12: 11 | G12: Егорова Ирина Вениаминовна | H12: призер
A13: 3 | B13: 386 | C13: Новочебоксарск | D13: ='10 класс'!$D$10 -> МБОУ "СОШ №5 " | E13: 11 | F13: 11 | G13: Егорова Ирина Вениаминовна | H13: участник
A14: 4 | B14: 7qg | C14: Новочебоксарск | D14: ='10 класс'!$D$10 -> МБОУ "СОШ №5 " | E14: 11 | F14: 11 | G14: Егорова Ирина Вениаминовна | H14: участник
A15: 5 | B15: 476 | C15: Новочебоксарск | D15: ='10 класс'!$D$10 -> МБОУ "СОШ №5 " | E15: 11 | F15: 11 | G15: Егорова Ирина Вениаминовна | H15: участник
A16: 6 | B16: v86 | C16: Новочебоксарск | D16: ='10 класс'!$D$10 -> МБОУ "СОШ №5 " | E16: 11 | F16: 11 | G16: Егорова Ирина Вениаминовна | H16: участник
A17: 7 | B17: v83 | C17: Новочебоксарск | D17: ='10 класс'!$D$10 -> МБОУ "СОШ №5 " | E17: 11 | F17: 11 | G17: Егорова Ирина Вениаминовна | H17: участник
A18: 8 | B18: 8w6 | C18: Новочебоксарск | D18: ='10 класс'!$D$10 -> МБОУ "СОШ №5 " | E18: 11 | F18: 11 | G18: Егорова Ирина Вениаминовна | H18: участник
